{"text_format":"1","workbook":"xlsx","n_sheets":18,"sheets":["MJC (玉山雲)_v4.0","FiCo","FiBo","工作表1","LBS","DBS","BDS","BDS交付表","MQS","SFS","ROS","CIS","CMS","FiWo","交付","Reply","Update","Flavor"],"not_rendered":{"charts":0,"images":26,"macros":1,"external_links":2,"defined_names":241,"comments":0,"pivot_tables":0},"unopened":[],"bounds":{"document_bytes":16777216,"sheet_cells":100000,"rows_first":2000,"rows_last":500,"rows_between":2000,"halvings":0,"cell_chars":16384,"cell_head_chars":4096},"cells_cut":0,"cells_raw":0,"read":"whole","date_system":"1900"}

{"sheet":"MJC (玉山雲)_v4.0","index":0,"n_rows":46,"n_cols":11,"rows_kept":46,"cut":false,"hidden":false,"merged":[[35,1,35,4],[36,3,36,4],[37,3,37,4],[29,1,29,4],[30,3,30,4],[31,3,31,4],[32,1,32,4],[33,3,33,4],[34,3,34,4],[24,3,24,4],[25,3,25,4],[26,1,26,4],[27,3,27,4],[31,7,31,10],[36,7,36,10],[5,7,5,9],[0,1,0,10],[1,1,1,4],[1,7,1,10],[2,1,2,4],[2,7,2,10],[28,3,28,4],[7,7,7,9],[12,7,12,10],[13,9,13,10],[14,9,14,10],[15,7,15,10],[22,1,22,4],[23,7,23,10],[23,3,23,4]]}
[null,"玉山雲\nMt.JadeCloud 規格表(v4.0)"]
[null,"Services",null,null,null,null,null,"加值服務"]
[null,"虛擬主機 FiCo",null,null,null,null,null,"負載均衡LBS"]
[null,null,"Flavor","vCPU","vRAM",null,null,1,"Load balancer"]
[null,1,{"$f":"\"Fico.v\"&LEFT(D5,SEARCH(\" \",D5,1)-1)&\"m\"&LEFT(E5,SEARCH(\" \",E5,1)-1)","v":"Fico.v1m1"},"1 Core","1 GB",null,null,2,"Data processed","資料傳輸:1GB/月"]
[null,2,{"$f":"\"Fico.v\"&LEFT(D6,SEARCH(\" \",D6,1)-1)&\"m\"&LEFT(E6,SEARCH(\" \",E6,1)-1)","v":"Fico.v1m2"},"1 Core","2 GB",null,null,"備份服務backup",null,null,"Per GB"]
[null,3,"Fico.v1m4","1 Core","4 GB",null,null,1,"backup","for FICO服務"]
[null,4,"Fico.v2m4","2 Core","4 GB",null,null,"區塊存儲 Block Storage",null,null,"Per GB"]
[null,5,"Fico.v2m8","2 Core","8 GB",null,null,1,"Standard-HDD"]
[null,6,"Fico.v4m4","4 Core","4 GB",null,null,2,"Standard-SSD"]
[null,7,"Fico.v4m8","4 Core","8 GB",null,null,3,"High-Perf-SSD"]
[null,8,"Fico.v4m16","4 Core","16 GB",null,null,4,"Ultra-Perf-SSD"]
[null,9,"Fico.v4m32","4 Core","32 GB",null,null,"物件存儲 Object Storge\nFiBo 提供無限容量和高可用性儲存空間. 支援Web UI, S3 相容性API,第三方軟體進行上/下載存取檔案."]
[null,10,"Fico.v8m16","8 Core","16 GB",null,null,1,"Space","Per GB"]
[null,11,"Fico.v8m32","8 Core","32 GB",null,null,2,"Operation","Per 10000 requests "]
[null,12,"Fico.v12m32","12 Core","32 GB",null,null,"關聯式資料庫 DBS\nMySQL、MongoDB、PostgreSQL、MariaDB\n作業系統:Linux"]
[null,13,"Fico.v12m48","12 Core","48 GB",null,null,null,"Flavor","vCPU","vRAM"]
[null,14,"Fico.v16m32","16 Core","32 GB",null,null,1,"DBS.v4m8","4 Core","8 GB"]
[null,15,"Fico.v16m64","16 Core","64 GB",null,null,2,"DBS.v4m16","4 Core"," 16 GB"]
[null,16,"Fico.v32m64","32 Core","64 GB",null,null,3,"DBS.v4m32","4 Core"," 32 GB"]
[null,17,"Fico.v48m128","48 Core","128 GB",null,null,4,"DBS.v8m32","8 Core"," 32 GB"]
[null,18,"Fico.v64m128","64 Core","128 GB",null,null,5,"DBS.v16m32","16 Core"," 32 GB"]
[null,"Windows 作業系統",null,null,null,null,null,6,"DBS.v16m64","16 Core","64 GB"]
[null,1,"Windows Server 2012 R2","vCPU:  8Core以上另計",null,null,null,"大數據服務平台BDS"]
[null,2,"Windows Server 2016","vCPU:  8Core以上另計",null,null,null,null,"Flavor","vCPU","vRAM"]
[null,3,"Windows Server 2019","vCPU:  8Core以上另計",null,null,null,1,{"$f":"\"BDS.v\"&LEFT(J26,SEARCH(\" \",J26,1)-1)&\"m\"&LEFT(K26,SEARCH(\" \",K26,1)-1)","v":"BDS.v8m32"},"8 Core","32 GB"]
[null,"Linux 作業系統",null,null,null,null,null,2,{"$f":"\"BDS.v\"&LEFT(J27,SEARCH(\" \",J27,1)-1)&\"m\"&LEFT(K27,SEARCH(\" \",K27,1)-1)","v":"BDS.v16m32"},"16 Core","32 GB"]
[null,4,"CentOS","CentOS 7.9 / CentOS 8",null,null,null,3,"BDS.v16m64","16 Core","64 GB"]
[null,5,"Ubuntu","Ubuntu 14.04 / Ubuntu 16.04 / Ubuntu 18.04 / Ubuntu 20.04",null,null,null,4,"BDS.v32m64","32 Core","64 GB"]
[null,"網路流量 Network (每台VM 80Mbps/秒)",null,null,null,null,null,5,"BDS.v40m128","40 Core","128 GB"]
[null,1,"IP","Per IP",null,null,null,6,"BDS.v64m128","64 Core","128 GB"]
[null,2,"Outbound Traffic","按流量計費: Per GB",null,null,null,"消息列隊服務 MQS (Kafka)"]
[null,"機房服務",null,null,null,null,null,1,"MQS.v2m4","2 Core","4 GB"]
[null,1,"實體及環境安全","7*24 監控Network & System運維團隊 7*24 監控服務",null,null,null,2,"MQS.v4m8","4 Core"," 8 GB"]
[null,2,"資安認證標準","1.Tier III 機房規格\n2.通過並持續維護CSA Star的雲端安全認證。\n3.通過ISO27001/27011資安國際認證機房，實體層安全保障。",null,null,null,3,"MQS.v8m16","8 Core"," 16 GB"]
[null,"雲端主機服務",null,null,null,null,null,4,"MQS.v8m32","8 Core"," 32 GB"]
[null,1,"分散式儲存","雲服務採用分散式儲存，確保服務不中斷。",null,null,null,"容器基礎設施服務 CIS"]
[null,2,"簡易型防火牆","提供安全組模式及設定介面，服務更安全。",null,null,null,1,{"$f":"\"CIS.v\"&LEFT(J38,SEARCH(\" \",J38,1)-1)&\"m\"&LEFT(K38,SEARCH(\" \",K38,1)-1)","v":"CIS.v4m8"},"4 Core","8 GB"]
[null,null,null,null,null,null,null,2,"CIS.v4m16","4 Core","16 GB"]
[null,null,null,null,null,null,null,3,"CIS.v8m8","8 Core","8 GB"]
[null,null,null,null,null,null,null,4,"CIS.v8m16","8 Core","16 Core"]
[null,null,null,null,null,null,null,5,"CIS.v8m32","8 Core","32 Core"]
[null,null,null,null,null,null,null,6,"CIS.v8m64","8 Core","64 Core"]
[null,null,null,null,null,null,null,7,"CIS.v16m16","16 Core","16 Core"]
[null,null,null,null,null,null,null,8,"CIS.v16m32","16 Core","32 Core"]
[null,null,null,null,null,null,null,9,"CIS.v16m64","16 Core","64 Core"]

{"sheet":"FiCo","index":1,"n_rows":53,"n_cols":19,"rows_kept":53,"cut":false,"hidden":false,"merged":[]}
[]
["序號","Instance Name\n虛擬主機名稱","OS\n作業系統","Login Account","Login Password","Flavor\nCPU/RAM規格","Public IP/CNCS IP/DMZ IP\n公有網路/鴻海集團網路/鴻海DMZ","QoS\n網路服務品質","Floating IP\n浮動IP","Private IP\n私有網路IP","OS Type\nOS硬碟類型","OS Size\nOS硬碟容量","Data Type\n資料硬碟類型","Data Size\n資料硬碟類型"," Backup Service\n備份服務","備份起始日","Remark\nVM用途","Remark2\n若無規格、或其他說明請在此備註"]
["範例","FiCo-VM01","CentOS 7.9","申請後提供","申請後提供","FICO.v4m16","Public IP","加購500Mbps頻寬","10.62.172.X","192.168.X","Standard-SSD","40G","Standard-SSD","100G","加購服務",null,"網站AP"]
[1,null,null,{"$f":"IF(ISNUMBER(SEARCH(\"CentOS\",C4)),\"centos\",IF(ISNUMBER(SEARCH(\"Ubuntu\",C4)),\"ubuntu\",IF(ISNUMBER(SEARCH(\"Debian\",C4)),\"debian\",IF(ISNUMBER(SEARCH(\"Windows\",C4)),\"administrator\",IF(ISNUMBER(SEARCH(\"SUSE\",C4)),\"sles\",IF(ISNUMBER(SEARCH(\"Rocky\",C4)),\"rocky\"))))))","v":false},null,null,null,null,null,null,null,null,null,null,null,null,null,null,{"$f":"IF(ISNUMBER(SEARCH(\"CentOS\",C4)),\"Linux\",IF(ISNUMBER(SEARCH(\"Ubuntu\",C4)),\"Linux\",IF(ISNUMBER(SEARCH(\"Debian\",C4)),\"Linux\",IF(ISNUMBER(SEARCH(\"SUSE\",C4)),\"Linux\",IF(ISNUMBER(SEARCH(\"Rocky\",C4)),\"Linux\",IF(ISNUMBER(SEARCH(\"Windows\",C4)),\"Windows\"))))))","v":false}]
[2,null,null,{"$f":"IF(ISNUMBER(SEARCH(\"CentOS\",C5)),\"centos\",IF(ISNUMBER(SEARCH(\"Ubuntu\",C5)),\"ubuntu\",IF(ISNUMBER(SEARCH(\"Debian\",C5)),\"debian\",IF(ISNUMBER(SEARCH(\"Windows\",C5)),\"administrator\",IF(ISNUMBER(SEARCH(\"SUSE\",C5)),\"sles\",IF(ISNUMBER(SEARCH(\"Rocky\",C5)),\"rocky\"))))))","v":false},null,null,null,null,null,null,null,null,null,null,null,null,null,null,{"$f":"IF(ISNUMBER(SEARCH(\"CentOS\",C5)),\"Linux\",IF(ISNUMBER(SEARCH(\"Ubuntu\",C5)),\"Linux\",IF(ISNUMBER(SEARCH(\"Debian\",C5)),\"Linux\",IF(ISNUMBER(SEARCH(\"SUSE\",C5)),\"Linux\",IF(ISNUMBER(SEARCH(\"Rocky\",C5)),\"Linux\",IF(ISNUMBER(SEARCH(\"Windows\",C5)),\"Windows\"))))))","v":false}]
[3,null,null,false,null,null,null,null,null,null,null,null,null,null,null,null,null,null,false]
[4,null,null,false,null,null,null,null,null,null,null,null,null,null,null,null,null,null,false]
[5,null,null,false,null,null,null,null,null,null,null,null,null,null,null,null,null,null,false]
[6,null,null,false,null,null,null,null,null,null,null,null,null,null,null,null,null,null,false]
[7,null,null,false,null,null,null,null,null,null,null,null,null,null,null,null,null,null,false]
[8,null,null,false,null,null,null,null,null,null,null,null,null,null,null,null,null,null,false]
[9,null,null,false,null,null,null,null,null,null,null,null,null,null,null,null,null,null,false]
[10,null,null,false,null,null,null,null,null,null,null,null,null,null,null,null,null,null,false]
[11,null,null,false,null,null,null,null,null,null,null,null,null,null,null,null,null,null,false]
[12,null,null,false,null,null,null,null,null,null,null,null,null,null,null,null,null,null,false]
[13,null,null,false,null,null,null,null,null,null,null,null,null,null,null,null,null,null,false]
[14,null,null,false,null,null,null,null,null,null,null,null,null,null,null,null,null,null,false]
[15,null,null,false,null,null,null,null,null,null,null,null,null,null,null,null,null,null,false]
[16,null,null,false,null,null,null,null,null,null,null,null,null,null,null,null,null,null,false]
[17,null,null,false,null,null,null,null,null,null,null,null,null,null,null,null,null,null,false]
[18,null,null,false,null,null,null,null,null,null,null,null,null,null,null,null,null,null,false]
[19,null,null,false,null,null,null,null,null,null,null,null,null,null,null,null,null,null,false]
[20,null,null,false,null,null,null,null,null,null,null,null,null,null,null,null,null,null,false]
[21,null,null,false,null,null,null,null,null,null,null,null,null,null,null,null,null,null,false]
[22,null,null,false,null,null,null,null,null,null,null,null,null,null,null,null,null,null,false]
[23,null,null,false,null,null,null,null,null,null,null,null,null,null,null,null,null,null,false]
[24,null,null,false,null,null,null,null,null,null,null,null,null,null,null,null,null,null,false]
[25,null,null,false,null,null,null,null,null,null,null,null,null,null,null,null,null,null,false]
[26,null,null,false,null,null,null,null,null,null,null,null,null,null,null,null,null,null,false]
[27,null,null,false,null,null,null,null,null,null,null,null,null,null,null,null,null,null,false]
[28,null,null,false,null,null,null,null,null,null,null,null,null,null,null,null,null,null,false]
[29,null,null,false,null,null,null,null,null,null,null,null,null,null,null,null,null,null,false]
[30,null,null,false,null,null,null,null,null,null,null,null,null,null,null,null,null,null,false]
[31,null,null,false,null,null,null,null,null,null,null,null,null,null,null,null,null,null,false]
[32,null,null,false,null,null,null,null,null,null,null,null,null,null,null,null,null,null,false]
[33,null,null,false,null,null,null,null,null,null,null,null,null,null,null,null,null,null,false]
[34,null,null,false,null,null,null,null,null,null,null,null,null,null,null,null,null,null,false]
[35,null,null,false,null,null,null,null,null,null,null,null,null,null,null,null,null,null,false]
[36,null,null,false,null,null,null,null,null,null,null,null,null,null,null,null,null,null,false]
[37,null,null,false,null,null,null,null,null,null,null,null,null,null,null,null,null,null,false]
[38,null,null,false,null,null,null,null,null,null,null,null,null,null,null,null,null,null,false]
[39,null,null,false,null,null,null,null,null,null,null,null,null,null,null,null,null,null,false]
[40,null,null,false,null,null,null,null,null,null,null,null,null,null,null,null,null,null,false]
[41,null,null,false,null,null,null,null,null,null,null,null,null,null,null,null,null,null,false]
[42,null,null,false,null,null,null,null,null,null,null,null,null,null,null,null,null,null,false]
[43,null,null,false,null,null,null,null,null,null,null,null,null,null,null,null,null,null,false]
[44,null,null,false,null,null,null,null,null,null,null,null,null,null,null,null,null,null,false]
[45,null,null,false,null,null,null,null,null,null,null,null,null,null,null,null,null,null,false]
[46,null,null,false,null,null,null,null,null,null,null,null,null,null,null,null,null,null,false]
[47,null,null,false,null,null,null,null,null,null,null,null,null,null,null,null,null,null,false]
[48,null,null,false,null,null,null,null,null,null,null,null,null,null,null,null,null,null,false]
[49,null,null,false,null,null,null,null,null,null,null,null,null,null,null,null,null,null,false]
[50,null,null,false,null,null,null,null,null,null,null,null,null,null,null,null,null,null,false]

{"sheet":"FiBo","index":2,"n_rows":10,"n_cols":4,"rows_kept":10,"cut":false,"hidden":false,"merged":[]}
[]
["是否申請","不申請(Not applied)"]
["Endpoint"]
["Prefix"]
["Access Key"]
["Secret Key"]
["預計使用量(Estimate Quota)"]
[]
[]
[null,null,null,"不申請(Not applied)"]

{"sheet":"工作表1","index":3,"n_rows":0,"n_cols":0,"rows_kept":0,"cut":false,"hidden":true,"merged":[]}

{"sheet":"LBS","index":4,"n_rows":46,"n_cols":12,"rows_kept":46,"cut":false,"hidden":false,"merged":[[22,5,22,6],[4,11,6,11],[7,11,9,11],[10,11,12,11],[13,11,15,11],[4,8,6,8],[7,8,9,8],[10,8,12,8],[13,8,15,8],[4,10,6,10],[7,10,9,10],[10,10,12,10],[13,10,15,10],[13,7,15,7],[4,9,6,9],[7,9,9,9],[10,9,12,9],[13,9,15,9],[13,0,15,0],[4,1,6,1],[7,1,9,1],[10,1,12,1],[13,1,15,1],[1,2,1,5],[4,7,6,7],[7,7,9,7],[10,7,12,7],[4,0,6,0],[7,0,9,0],[10,0,12,0],[16,10,18,10],[16,11,18,11],[16,0,18,0],[16,1,18,1],[16,7,18,7],[16,8,18,8],[16,9,18,9]]}
[]
[null,null,"負載平衡網路設定"]
["序號","LBS Name\nLBS 名稱","Listerner Protocal\n負載平衡網路協定","Port\n端口","Method\n負載平衡演算法","Session Persistence\nMethod"," Pool Member\n負載平衡FiCo實例","LBS VIP","VIP IP","Public IP/CNCS IP","Floating IP","備註"]
["範例","Foxnum-Test","HTTP",80,"ROUND_ROBIN","None","VM-01 / VM-02","Private IP",null,"Public IP"]
[1,null,null,null,null,null,null,{"$f":"IF(B5 = \"\",\"\",\"Private IP\")","v":""}]
[]
[]
[2,null,null,null,null,{"$f":"IF(E8=\"\",\"\",\"None\")","v":""},null,{"$f":"IF(B8 = \"\",\"\",\"Private IP\")","v":""}]
[null,null,null,null,null,""]
[null,null,null,null,null,""]
[3,null,null,null,null,"",null,{"$f":"IF(B11 = \"\",\"\",\"Private IP\")","v":""}]
[null,null,null,null,null,""]
[null,null,null,null,null,""]
[4,null,null,null,null,"",null,{"$f":"IF(B14 = \"\",\"\",\"Private IP\")","v":""}]
[null,null,null,null,null,""]
[null,null,null,null,null,""]
[5,null,null,null,null,"",null,{"$f":"IF(B17 = \"\",\"\",\"Private IP\")","v":""}]
[null,null,null,null,null,{"$f":"IF(E18=\"\",\"\",\"None\")","v":""}]
[null,null,null,null,null,""]
[]
[]
[]
[null,null,null,null,null,"負載平衡 (LBS)\nProtocal: TCP/HTTP/HTTPS"]
[null,null,null,null,null,"Method Configuration","Session Persistence Method"]
[null,null,null,null,null,"ROUND_ROBIN","None"]
[null,null,null,null,null,"LEAST_CONNECTIONS","APP Cookie Cookie Name: [請填]"]
[null,null,null,null,null,"SOURCE_IP"]
[null,{"$f":"INDEX($B$2:$B$12,SMALL(IF($B$2:$B$12<>\"\",ROW($B$2:$B$12),4^8),ROW(B4)))&\"\"","v":{"$error":"#REF!"}}]
[null,{"$f":"INDEX($B$2:$B$12,SMALL(IF($B$2:$B$12<>\"\",ROW($B$2:$B$12),4^8),ROW(B5)))&\"\"","v":{"$error":"#REF!"}}]
[null,{"$f":"INDEX($B$2:$B$12,SMALL(IF($B$2:$B$12<>\"\",ROW($B$2:$B$12),4^8),ROW(B6)))&\"\"","v":{"$error":"#REF!"}}]
[null,{"$f":"INDEX($B$2:$B$12,SMALL(IF($B$2:$B$12<>\"\",ROW($B$2:$B$12),4^8),ROW(B7)))&\"\"","v":{"$error":"#REF!"}}]
[null,{"$f":"INDEX($B$2:$B$12,SMALL(IF($B$2:$B$12<>\"\",ROW($B$2:$B$12),4^8),ROW(B8)))&\"\"","v":{"$error":"#REF!"}}]
[null,{"$f":"INDEX($B$2:$B$12,SMALL(IF($B$2:$B$12<>\"\",ROW($B$2:$B$12),4^8),ROW(B9)))&\"\"","v":{"$error":"#REF!"}}]
[null,{"$f":"INDEX($B$2:$B$12,SMALL(IF($B$2:$B$12<>\"\",ROW($B$2:$B$12),4^8),ROW(B10)))&\"\"","v":{"$error":"#REF!"}}]
[null,{"$f":"INDEX($B$2:$B$12,SMALL(IF($B$2:$B$12<>\"\",ROW($B$2:$B$12),4^8),ROW(B11)))&\"\"","v":{"$error":"#REF!"}}]
[null,{"$f":"INDEX($B$2:$B$12,SMALL(IF($B$2:$B$12<>\"\",ROW($B$2:$B$12),4^8),ROW(B12)))&\"\"","v":{"$error":"#NUM!"}}]
[null,{"$f":"INDEX($B$2:$B$12,SMALL(IF($B$2:$B$12<>\"\",ROW($B$2:$B$12),4^8),ROW(#REF!)))&\"\"","v":{"$error":"#REF!"}}]
[null,{"$f":"INDEX($B$2:$B$12,SMALL(IF($B$2:$B$12<>\"\",ROW($B$2:$B$12),4^8),ROW(#REF!)))&\"\"","v":{"$error":"#REF!"}}]
[]
[]
[]
[]
[null,{"$f":"IF(B5=0,\"\",B5)","v":""}]
[null,{"$f":"IF(B8=0,\"\",B8)","v":""}]
[null,{"$f":"IF(B11=0,\"\",B11)","v":""}]
[null,{"$f":"IF(B14=0,\"\",B14)","v":""}]

{"sheet":"DBS","index":5,"n_rows":23,"n_cols":17,"rows_kept":23,"cut":false,"hidden":false,"merged":[]}
[]
["序號","Instance Name\n實例名稱","DBS System\nDBS系統","DBS Version\nDBS 版本","Flavor\n規格","Mode\n模式","Public IP/CNCS IP","Floating IP","Private IP","Data Type\n資料硬碟類型","DB Data Size\nDB資料庫硬碟容量","備註","DB User","DB Password","Grant Access to DB","Grant Access to DB","VM Count"]
["範例","DBS01","MySQL",null,"DBS.v4m8","Replica","CNCS IP",null,null,"Standard-SSD","100G"]
[1,null,null,null,null,null,null,null,null,null,null,null,null,null,null,{"$f":"C4&\"_Version\"","v":"_Version"},{"$f":"IF(ISNUMBER(SEARCH(\"Replica\",F4)),2,IF(ISNUMBER(SEARCH(\"Cluster\",F4)),5,IF(ISNUMBER(SEARCH(\"Standalone\",F4)),1,)))","v":0}]
[2,null,null,null,null,null,null,null,null,null,null,null,null,null,null,{"$f":"C5&\"_Version\"","v":"_Version"},{"$f":"IF(ISNUMBER(SEARCH(\"Replica\",F5)),2,IF(ISNUMBER(SEARCH(\"Cluster\",F5)),5,IF(ISNUMBER(SEARCH(\"Standalone\",F5)),1,)))","v":0}]
[3,null,null,null,null,null,null,null,null,null,null,null,null,null,null,"_Version",0]
[4,null,null,null,null,null,null,null,null,null,null,null,null,null,null,"_Version",0]
[]
[]
[]
[]
["DBS version",{"$f":"A13","v":"MySQL"},{"$f":"A14","v":"Mongo"},{"$f":"A15","v":"PostgreSQL"},{"$f":"A16","v":"MariaDB"},{"$f":"A17","v":"Cassandra"},{"$f":"A18","v":"Redis"}]
["MySQL","Standalone","Standalone","Standalone","Standalone","Standalone","Standalone"]
["Mongo","Replica","Cluster","Replica","Cluster","Cluster","Replica"]
["PostgreSQL"]
["MariaDB"]
["Cassandra"]
["Redis"]
[]
[null,{"$f":"A13&\"_Version\"","v":"MySQL_Version"},{"$f":"A14&\"_Version\"","v":"Mongo_Version"},{"$f":"A15&\"_Version\"","v":"PostgreSQL_Version"},{"$f":"A16&\"_Version\"","v":"MariaDB_Version"},{"$f":"A17&\"_Version\"","v":"Cassandra_Version"},{"$f":"A18&\"_Version\"","v":"Redis_Version"}]
[null,"5.7.28","3.2.22",10.11,"10.4.11","3.11.5","3.2.6"]
[null,"5.7.33",null,10.17,"10.4.20","3.11.11"]
[null,null,null,13.3,"10.4.22"]

{"sheet":"BDS","index":6,"n_rows":83,"n_cols":43,"rows_kept":83,"cut":false,"hidden":false,"merged":[]}
[]
["序號","Cluster Name\n叢集名稱","Cluster Type & Version\n叢集類型&版本","Model\n模式","Public IP/CNCS IP\n公有網路/鴻海集團網路","Floating IP","Master Private IP\n私有網路","Core Private IP\n私有網路","Task Private IP\n私有網路","Master Flavor\n主節點規格","Master node Amount\n主節點數","Master Data Type\n主節點資料碟類型","Master Data Size\n主節點資料碟大小(GB)","Master Data Amount\n主節點資料碟數量","Core Flavor\nCore節點規格","Core node Amount\nCore節點數","Core Data Type\nCore節點資料碟類型","Core Data Size\nCore節點資料碟大小(GB)","Core Data Amount\nCore節點資料碟數量","Task Flavor\nTask節點規格","Task node Amount\nTask節點數",{"$f":"B12","v":"Flume"},{"$f":"C12","v":"HBase"},"Hue","KMS",{"$f":"J12","v":"Kafka"},{"$f":"K12","v":"Senty"},"Solr","Spark","Sqoop","Sqoop2","Slider","Storm","kudu","sqoopclient","jupyternotebook",{"$f":"B23","v":"Flink"},{"$f":"C23","v":"Accumulo"},"Atlas","Ranger",{"$f":"J23","v":"ZeppelinNotebook"},0,0]
["範例","BDS-Test","CDH5.11.0","HA","CNCS IP",null,"Private IP","Private IP","Private IP","BDS.v8m32","[ 1,3 ]","Standard-HDD","[ 40GB - 4096GB ]","[ 1-10 ]","BDS.v8m32","[ 3-10 ]","Standard-HDD","[ 40GB - 4096GB ]","[ 1-10 ]","BDS.v8m32","[ 0-10 ]"]
[1,null,null,null,null,null,null,null,null,null,{"$f":"IF(D4 = \"\",0,\nIF(D4=\"Base\",1,\nIF(D4=\"HA\",3,\nIF(D4=\"HA_Kerberos\",3))))","v":0},null,null,null,null,null,null,null,null,null,null,{"$f":"IF($C4=\"CDH5.11.0\",$C4&\"_\"&V$2,\nIF($C4=\"CDH6.3.2\",$C4&\"_\"&V$2,\nIF($C4=\"HDP2.5\",$C4&\"_\"&V$2,\nIF($C4=\"HDP3.1\",$C4&\"_\"&V$2,\nIF($C4=\"CDH6.3.2\",$C4&\"_\"&V$2,\nIF($C4=\"Spark2.3.0\",$C4&\"_\"&V$2,\nIF($C4=\"Vanilla2.8.2\",$C4&\"_\"&V$2)))))))","v":false},false,false,false,false,false,false,false,false,false,false,false,false,false,false,false,false,false,false,{"$f":"IF($C4=\"CDH5.11.0\",$C4&\"_\"&AO$2,\nIF($C4=\"CDH6.3.2\",$C4&\"_\"&AO$2,\nIF($C4=\"HDP2.5\",$C4&\"_\"&AO$2,\nIF($C4=\"HDP3.1\",$C4&\"_\"&AO$2,\nIF($C4=\"CDH6.3.2\",$C4&\"_\"&AO$2,\nIF($C4=\"Spark2.3.0\",$C4&\"_\"&AO$2,\nIF($C4=\"Vanilla2.8.2\",$C4&\"_\"&AO$2)))))))","v":false}]
[2,null,null,null,null,null,null,null,null,null,{"$f":"IF(D5 = \"\",0,\nIF(D5=\"Base\",1,\nIF(D5=\"HA\",3,\nIF(D5=\"HA_Kerberos\",3))))","v":0},null,null,null,null,null,null,null,null,null,null,false,false,false,false,false,false,false,false,false,false,false,false,false,false,false,false,false,false,false,{"$f":"IF($C5=\"CDH5.11.0\",$C5&\"_\"&AO$2,\nIF($C5=\"CDH6.3.2\",$C5&\"_\"&AO$2,\nIF($C5=\"HDP2.5\",$C5&\"_\"&AO$2,\nIF($C5=\"HDP3.1\",$C5&\"_\"&AO$2,\nIF($C5=\"CDH6.3.2\",$C5&\"_\"&AO$2,\nIF($C5=\"Spark2.3.0\",$C5&\"_\"&AO$2,\nIF($C5=\"Vanilla2.8.2\",$C5&\"_\"&AO$2)))))))","v":false}]
[3,null,null,null,null,null,null,null,null,null,0,null,null,null,null,null,null,null,null,null,null,false,false,false,false,false,false,false,false,false,false,false,false,false,false,false,false,false,false,false,false]
[4,null,null,null,null,null,null,null,null,null,0,null,null,null,null,null,null,null,null,null,null,false,false,false,false,false,false,false,false,false,false,false,false,false,false,false,false,false,false,false,false]
[5,null,null,null,null,null,null,null,null,null,0,null,null,null,null,null,null,null,null,null,null,false,false,false,false,false,false,false,false,false,false,false,false,false,false,false,false,false,false,false,false]
[]
[]
[" 請勾選Cluster上要加裝的服務"]
["Cluster Name","Flume","HBase","Hue","KMS",null,null,null,null,"Kafka","Senty","Solr","Spark","Sqoop","Sqoop2","Slider","Storm","kudu","sqoopclient","jupyternotebook"]
["叢集名稱","分散式日誌收集系統","分散式即時性資料庫","數據可視化分析平台","金鑰管理服務器",null,null,null,null,"分散式串流訊息處理平台","使用者權限管理服務","全文搜尋引擎服務","In-Memory 型態的資料處理框架","Hadoop與關聯式資料庫轉換工具","Hadoop與關聯式資料庫轉換工具","部屬管理YARN的長期運行應用框架","串流式資料即時處理引擎","列式儲存管理",null,"瀏覽器交互式分析"]
["BDS-Test","✓","✓","✓","✓",null,null,null,null,"✓","✓","✓","✓","✓","✓","✓","✓","✓","✓","✓"]
[{"$f":"IF(B4=\"\",\"\",B4)","v":""}]
[{"$f":"IF(B5=\"\",\"\",B5)","v":""}]
[""]
[""]
[""]
[]
[]
[" 請勾選Cluster上要加裝的服務"]
["Cluster Name","Flink","Accumulo","Atlas","Ranger",null,null,null,null,"ZeppelinNotebook"]
["叢集名稱","計算框架與分散式處理引擎","分散式鍵值資料庫","資料治理服務","集中式安全管理框架",null,null,null,null,"基於Web的互動式資料分析"]
["BDS-Test","✓","✓","✓","✓",null,null,null,null,"✓"]
[{"$f":"IF(B4=\"\",\"\",B4)","v":""}]
[{"$f":"IF(B5=\"\",\"\",B5)","v":""}]
[""]
[""]
[""]
[]
["叢集必選服務資訊："]
["CDH：Cloudera  / HDFS / Hive / Impala / Oozie / YARN / Zookeeper"]
["HDP2.5：Ambari / HBase / HDFS / Hive / Knox / Oozie / Spark / YARN / Zookeeper"]
["HDP3.1：Ambari / HBase / HDFS / Hive / Infra Solr / Knox / Oozie / Spark / YARN / Zookeeper"]
["Spark：HDFS / Spark"]
["Vanilla：HDFS / Hive / Oozie / Spark / YARN / jupyter notebook"]
["CDH5.11.0","CDH6.3.2","HDP2.5","HDP3.1","Spark2.3.0","Vanilla2.8.2"]
["Base","Base","Base","Base","Base","Base"]
["HA","HA","HA","HA"]
["HA_Kerberos","HA_Kerberos","HA_Kerberos","HA_Kerberos"]
[]
[]
[{"$f":"A38&\"_\"&$B$12","v":"CDH5.11.0_Flume"},{"$f":"B38&\"_\"&$B$12","v":"CDH6.3.2_Flume"},"HDP2.5_Flume","HDP3.1_Flume",{"$f":"E38&\"_\"&$B$12","v":"Spark2.3.0_Flume"},{"$f":"F38&\"_\"&$B$12","v":"Vanilla2.8.2_Flume"}]
["✓","✓","✓","不支援","不支援","不支援"]
[{"$f":"A38&\"_\"&$C$12","v":"CDH5.11.0_HBase"},{"$f":"B38&\"_\"&$C$12","v":"CDH6.3.2_HBase"},{"$f":"C38&\"_\"&$C$12","v":"HDP2.5_HBase"},"HDP3.1_HBase",{"$f":"E38&\"_\"&$C$12","v":"Spark2.3.0_HBase"},{"$f":"F38&\"_\"&$C$12","v":"Vanilla2.8.2_HBase"}]
["✓","✓","預設","不支援","不支援","不支援"]
[{"$f":"A38&\"_\"&$D$12","v":"CDH5.11.0_Hue"},{"$f":"B38&\"_\"&$D$12","v":"CDH6.3.2_Hue"},"HDP2.5_Hue","HDP3.1_Hue",{"$f":"E38&\"_\"&$D$12","v":"Spark2.3.0_Hue"},{"$f":"F38&\"_\"&$D$12","v":"Vanilla2.8.2_Hue"}]
["✓","✓","不支援","不支援","不支援","不支援"]
[{"$f":"A38&\"_\"&$E$12","v":"CDH5.11.0_KMS"},"CDH6.3.2_KMS","HDP2.5_KMS","HDP3.1_KMS","Spark2.3.0_KMS","Vanilla2.8.2_KMS"]
["✓","不支援","不支援","不支援","不支援","不支援"]
[{"$f":"A38&\"_\"&$J$12","v":"CDH5.11.0_Kafka"},{"$f":"B38&\"_\"&$J$12","v":"CDH6.3.2_Kafka"},"HDP2.5_Kafka","HDP3.1_Kafka",{"$f":"E38&\"_\"&$J$12","v":"Spark2.3.0_Kafka"},{"$f":"F38&\"_\"&$J$12","v":"Vanilla2.8.2_Kafka"}]
["✓","✓","✓","✓","不支援","不支援"]
[{"$f":"A38&\"_\"&$K$12","v":"CDH5.11.0_Senty"},{"$f":"B38&\"_\"&$K$12","v":"CDH6.3.2_Senty"},"HDP2.5_Senty","HDP3.1_Senty",{"$f":"E38&\"_\"&$K$12","v":"Spark2.3.0_Senty"},{"$f":"F38&\"_\"&$K$12","v":"Vanilla2.8.2_Senty"}]
["✓","✓","不支援","不支援","不支援","不支援"]
[{"$f":"A38&\"_\"&$L$12","v":"CDH5.11.0_Solr"},{"$f":"B38&\"_\"&$L$12","v":"CDH6.3.2_Solr"},"HDP2.5_Solr","HDP3.1_Solr",{"$f":"E38&\"_\"&$L$12","v":"Spark2.3.0_Solr"},{"$f":"F38&\"_\"&$L$12","v":"Vanilla2.8.2_Solr"}]
["✓","✓","不支援","不支援","不支援","不支援"]
[{"$f":"A38&\"_\"&$M$12","v":"CDH5.11.0_Spark"},{"$f":"B38&\"_\"&$M$12","v":"CDH6.3.2_Spark"},"HDP2.5_Spark","HDP3.1_Spark",{"$f":"E38&\"_\"&$M$12","v":"Spark2.3.0_Spark"},{"$f":"F38&\"_\"&$M$12","v":"Vanilla2.8.2_Spark"}]
["✓","✓","預設","不支援","預設","預設"]
[{"$f":"A38&\"_\"&$N$12","v":"CDH5.11.0_Sqoop"},{"$f":"B38&\"_\"&$N$12","v":"CDH6.3.2_Sqoop"},"HDP2.5_Sqoop","HDP3.1_Sqoop",{"$f":"E38&\"_\"&$N$12","v":"Spark2.3.0_Sqoop"},{"$f":"F38&\"_\"&$N$12","v":"Vanilla2.8.2_Sqoop"}]
["不支援","不支援","✓","✓","不支援","不支援"]
[{"$f":"A38&\"_\"&$O$12","v":"CDH5.11.0_Sqoop2"},{"$f":"B38&\"_\"&$O$12","v":"CDH6.3.2_Sqoop2"},"HDP2.5_Sqoop2","HDP3.1_Sqoop2",{"$f":"E38&\"_\"&$O$12","v":"Spark2.3.0_Sqoop2"},{"$f":"F38&\"_\"&$O$12","v":"Vanilla2.8.2_Sqoop2"}]
["✓","不支援","不支援","不支援","不支援","不支援"]
[{"$f":"A38&\"_\"&$P$12","v":"CDH5.11.0_Slider"},{"$f":"B38&\"_\"&$P$12","v":"CDH6.3.2_Slider"},"HDP2.5_Slider","HDP3.1_Slider",{"$f":"E38&\"_\"&$P$12","v":"Spark2.3.0_Slider"},{"$f":"F38&\"_\"&$P$12","v":"Vanilla2.8.2_Slider"}]
["不支援","不支援","✓","不支援","不支援","不支援"]
[{"$f":"A38&\"_\"&$Q$12","v":"CDH5.11.0_Storm"},{"$f":"B38&\"_\"&$Q$12","v":"CDH6.3.2_Storm"},"HDP2.5_Storm","HDP3.1_Storm",{"$f":"E38&\"_\"&$Q$12","v":"Spark2.3.0_Storm"},{"$f":"F38&\"_\"&$Q$12","v":"Vanilla2.8.2_Storm"}]
["不支援","不支援","✓","✓","不支援","不支援"]
[{"$f":"A38&\"_\"&$R$12","v":"CDH5.11.0_kudu"},{"$f":"B38&\"_\"&$R$12","v":"CDH6.3.2_kudu"},"HDP2.5_kudu","HDP3.1_kudu",{"$f":"E38&\"_\"&$R$12","v":"Spark2.3.0_kudu"},{"$f":"F38&\"_\"&$R$12","v":"Vanilla2.8.2_kudu"}]
["不支援","✓","不支援","不支援","不支援","不支援"]
[{"$f":"A38&\"_\"&$S$12","v":"CDH5.11.0_sqoopclient"},{"$f":"B38&\"_\"&$S$12","v":"CDH6.3.2_sqoopclient"},"HDP2.5_sqoopclient","HDP3.1_sqoopclient",{"$f":"E38&\"_\"&$S$12","v":"Spark2.3.0_sqoopclient"},{"$f":"F38&\"_\"&$S$12","v":"Vanilla2.8.2_sqoopclient"}]
["不支援","✓","不支援","不支援","不支援","不支援"]
[{"$f":"A38&\"_\"&$T$12","v":"CDH5.11.0_jupyternotebook"},{"$f":"B38&\"_\"&$T$12","v":"CDH6.3.2_jupyternotebook"},"HDP2.5_jupyternotebook","HDP3.1_jupyternotebook",{"$f":"E38&\"_\"&$T$12","v":"Spark2.3.0_jupyternotebook"},{"$f":"F38&\"_\"&$T$12","v":"Vanilla2.8.2_jupyternotebook"}]
["不支援","✓","不支援","不支援","不支援","預設"]
[{"$f":"A38&\"_\"&$B$23","v":"CDH5.11.0_Flink"},{"$f":"B38&\"_\"&$B$23","v":"CDH6.3.2_Flink"},"HDP2.5_Flink","HDP3.1_Flink","Spark2.3.0_Flink","Vanilla2.8.2_Flink"]
["不支援","✓","不支援","✓","不支援","不支援"]
[{"$f":"A38&\"_\"&$C$23","v":"CDH5.11.0_Accumulo"},{"$f":"B38&\"_\"&$C$23","v":"CDH6.3.2_Accumulo"},"HDP2.5_Accumulo","HDP3.1_Accumulo","Spark2.3.0_Accumulo","Vanilla2.8.2_Accumulo"]
["不支援","不支援","不支援","✓","不支援","不支援"]
[{"$f":"A38&\"_\"&$D$23","v":"CDH5.11.0_Atlas"},{"$f":"B38&\"_\"&$D$23","v":"CDH6.3.2_Atlas"},"HDP2.5_Atlas","HDP3.1_Atlas","Spark2.3.0_Atlas","Vanilla2.8.2_Atlas"]
["不支援","不支援","不支援","✓","不支援","不支援"]
[{"$f":"A38&\"_\"&$E$23","v":"CDH5.11.0_Ranger"},{"$f":"B38&\"_\"&$E$23","v":"CDH6.3.2_Ranger"},"HDP2.5_Ranger","HDP3.1_Ranger","Spark2.3.0_Ranger","Vanilla2.8.2_Ranger"]
["不支援","不支援","不支援","✓","不支援","不支援"]
[{"$f":"A38&\"_\"&$J$23","v":"CDH5.11.0_ZeppelinNotebook"},{"$f":"B38&\"_\"&$J$23","v":"CDH6.3.2_ZeppelinNotebook"},"HDP2.5_ZeppelinNotebook","HDP3.1_ZeppelinNotebook","Spark2.3.0_ZeppelinNotebook","Vanilla2.8.2_ZeppelinNotebook"]
["不支援","不支援","不支援","✓","不支援","不支援"]

{"sheet":"BDS交付表","index":7,"n_rows":20,"n_cols":13,"rows_kept":20,"cut":false,"hidden":true,"merged":[[0,6,2,11],[3,6,4,11],[10,0,10,12]]}
[null,null,null,null,null,null,"雲高玉山雲-資源需求規格調查表"]
[]
[]
[null,null,null,null,null,null,"專案名稱: 大數據分析"]
[]
["玉山雲Portal帳號: username@gmail.com，注意:帳號一經開設無法異動 。"]
["技術聯絡人email: username@gmail.com"]
[]
[]
[]
["BDS資源需求規格交付表"]
["序號","Cluster Name","ssh key (Linux)","key user name","Instance Name","Flavor","IP Type\nPublic IP/FHW IP(擇一)","FHW IP","Private IP","OS","OS硬碟種類\n(預設 40G)","Data硬碟大小和種類\n(SATA或SSD)","用途"]
["範例","spark","drumrick.pem","ubuntu","spark-master-0","BDS-v4m8","FHW IP*1","10.62.172.138","192.168.120.5","Ubuntu 16.04 (LTS)","SSD 40G","SSD 100G","Master Node"]
[null,null,null,"ubuntu","spark-core-0","BDS-v4m8","Only Private IP",null,"192.168.120.6","Ubuntu 16.05 (LTS)","SSD 40G","SSD 100G","Core Node"]
[null,null,null,"ubuntu","spark-core-1","BDS-v4m8","Only Private IP",null,"192.168.120.15","Ubuntu 16.06 (LTS)","SSD 40G","SSD 100G","Core Node"]
[null,null,null,"ubuntu","spark-core-2","BDS-v4m8","Only Private IP",null,"192.168.120.9","Ubuntu 16.07 (LTS)","SSD 40G","SSD 100G","Core Node"]
[1]
[2]
[3]
[4]

{"sheet":"MQS","index":8,"n_rows":37,"n_cols":12,"rows_kept":37,"cut":false,"hidden":false,"merged":[[8,0,8,1],[14,0,14,1],[9,1,9,10],[10,1,10,10],[24,1,24,10],[15,1,15,10],[16,1,16,10],[12,1,12,10],[11,1,11,10],[17,1,17,10],[18,1,18,10],[20,0,20,1],[21,1,21,10],[22,1,22,10],[23,1,23,10]]}
[]
["序號","Service Name\n服務名稱","MQ Service Type\n訊息佇列服務","MQ Service Type\n訊息佇列服務類型","Flavor\n硬體規格","Service Type\n服務類型","Messaging Protoco\n信息協議","Public IP/CNCS IP","Private IP","Data Type\n(資料碟型態)","備註","VM Count"]
["範例","MQS01","RabbitMQ / Kafka",null,"MQS.v4m8","Cluster(3 Zookeeper+3 Kafka)","AMQP / MQTT / STOMP","Public IP","Private IP","Standard-SSD"]
[1,null,null,{"$f":"IF(C4=\"RabbitMQ\",\"RabbitMQ_\",\nIF(C4=\"Kafka\",\"Kafka_\"))","v":false},null,null,null,null,null,null,null,{"$f":"IF(ISNUMBER(SEARCH(\"Cluster\",F4)),3,IF(ISNUMBER(SEARCH(\"Standalone\",F4)),1))","v":false}]
[2,null,null,null,null,null,null,null,null,null,null,{"$f":"IF(ISNUMBER(SEARCH(\"Cluster\",F5)),3,IF(ISNUMBER(SEARCH(\"Standalone\",F5)),1,))","v":0}]
[3,null,null,null,null,null,null,null,null,null,null,{"$f":"IF(ISNUMBER(SEARCH(\"Cluster\",F6)),3,IF(ISNUMBER(SEARCH(\"Standalone\",F6)),1,))","v":0}]
[]
[]
[{"$f":"\"Instance name：\"&B4","v":"Instance name："}]
["Floating IP"]
["Zookeeper"]
["內網資訊"]
["外網資訊"]
[]
[{"$f":"\"Instance name：\"&B5","v":"Instance name："}]
["Floating IP"]
["Zookeeper"]
["內網資訊"]
["外網資訊"]
[]
[{"$f":"\"Instance name：\"&B6","v":"Instance name："}]
["Floating IP"]
["Zookeeper"]
["內網資訊"]
["外網資訊"]
[]
[]
[]
[]
["RabbitMQ","Kafka"]
["Standalone","Standalone"]
["Cluster","Cluster(3 Zookeeper+3 Kafka)"]
[]
["RabbitMQ_","Kafka_"]
["AMQP","-"]
["MQTT"]
["STOMP"]

{"sheet":"SFS","index":9,"n_rows":8,"n_cols":9,"rows_kept":8,"cut":false,"hidden":false,"merged":[]}
[]
["序號","Instance Name","Protocol","Network","Fiel System Size","Access IP","Access Level","備註","Mount Point"]
["範例","Shares-01","NFS","Private-FHW","100 GB","192.168.0.X"]
[1]
[2]
[3]
[4]
[5]

{"sheet":"ROS","index":10,"n_rows":8,"n_cols":11,"rows_kept":8,"cut":false,"hidden":false,"merged":[]}
[]
["序號","Service Name\n服務名稱","Instance Name\n指定的虛擬主機","Max size\n擴展上限","Load balancer\n是否啟用負載平衡","Port\n端口","Load balance Floating IP\n負載平衡浮動IP","CPU Low threshold\nCPU自動縮減門檻","CPU High threshold\nCPU自動擴展門檻","Cooldown\n延遲期(秒)","Period\n等待期(分)"]
["範例","ROS01","FiCo-VM01","[ 1 - 12 ]","Enable / Disable",80,"10.62.X.X","[ 10 - 100 ]","[ 10 - 100 ]"," [ 60 - 3600 ]","[ 1 - 60 ]"]
[1]
[2]
[3]
[4]
[5]

{"sheet":"CIS","index":11,"n_rows":28,"n_cols":16,"rows_kept":28,"cut":false,"hidden":false,"merged":[[27,2,27,3],[21,2,21,3],[22,2,22,3],[23,2,23,3],[24,2,24,3],[25,2,25,3],[6,9,6,10],[7,9,7,10],[11,2,11,3],[12,2,12,3],[26,2,26,3],[13,2,13,3],[14,2,14,3],[15,2,15,3],[16,2,16,3],[17,2,17,3],[1,9,1,10],[3,9,3,10],[2,9,2,10],[4,9,4,10],[5,9,5,10]]}
[]
["序號","Cluster Name\n集群名稱","Worker Flavor\n子節點規格","Worker Number\n子節點數","Data Volume Size\n資料容量大小 (GB)","Volume Type\n容量類型","Public IP/CNCS IP\n公有網路/鴻海集團網路","Master Flavor\n主節點規格","Master Number\n主節點數","Domain Name\n域名",null,"K8S Version\nK8S版本","Domain Name\n域名","Floating IP\n浮動IP","備註","API Address"]
["範例","CIS01",{"$f":"'MJC (玉山雲)_v4.0'!$I$38","v":"CIS.v4m8"},"[ 1-10 ]","120GB","Standard-SSD","CNCS IP",{"$f":"'MJC (玉山雲)_v4.0'!$I$38","v":"CIS.v4m8"},"[ 3 ]",null,null,null,"192.168.X.X","10.62.X.X"]
[1,null,null,null,null,null,null,null,null,null,null,null,null,null,null,{"$f":"IF(C4=\"\",\"\",\"https://\"&J4&\":6443\")","v":""}]
[2]
[3]
[4]
[5]
[]
[null,null,null,"建立鏡像倉庫會佔用您的 FiBo 資源"]
[]
["序號","Service Name\n名稱","Public IP/CNCS IP/DMZ IP\n公有網路/鴻海集團網路/鴻海DMZ",null,"Hub Version\n倉庫版本",null,null,null,null,"Password\nadmin密碼","Floating IP\n浮動IP",null,"Domain Name\n域名"]
["範例","Hub","CNCS IP",null,"v2.3.0"]
[1]
[2]
[3]
[4]
[5]
[]
[]
[]
["序號","Service Name\n名稱","Public IP/CNCS IP/DMZ IP\n公有網路/鴻海集團網路/鴻海DMZ",null,null,null,null,null,null,"Password\nadmin密碼","Floating IP\n浮動IP",null,"Domain Name\n域名"]
["範例","CIS01","CNCS IP",null,null,null,null,null,null,null,"10.62.X.X"]
[1]
[2]
[3]
[4]
[5]

{"sheet":"CMS","index":12,"n_rows":43,"n_cols":5,"rows_kept":43,"cut":false,"hidden":false,"merged":[]}
[]
["序號","Service Name\n服務名稱","Certificate Content\n憑證證書內容","Private Key Content\n伺服器私鑰內容","Correspond LBS\n對應的LBS服務"]
["範例","CMS01","請貼上憑證內容","請貼上私鑰內容"]
[1]
[2]
[3]
[]
[]
[]
[]
[]
[]
[]
[]
[]
[]
[]
[]
[]
[]
[]
[]
[]
[]
[]
[]
[]
[]
[]
[]
[]
[]
[]
[]
[]
[]
[]
[]
[]
[]
[]
[]
[null,1]

{"sheet":"FiWo","index":13,"n_rows":13,"n_cols":12,"rows_kept":13,"cut":false,"hidden":false,"merged":[]}
[]
["序號","Flavor\nCPU/RAM規格","OS\n作業系統","OS Type\nOS硬碟類型","OS Size\nOS 硬碟容量","Data Type\nDATA硬碟類型","DATA Size\nDATA 硬碟容量","訪問權限(剪貼簿、掛載硬碟、USB、印表機、RDP \nConnection Bar、多媒體)",null,null,null,"VDI數量"]
["範例","vCore.4_RAM.8G","Win 10 pro","Standard-SSD","50G","Standard-SSD","50G","預設全開，權限控管於IT",null,null,null,2]
[1,null,{"$f":"IF(B4<>\"\",\"Win 10 pro\",\"\")","v":""},{"$f":"IF(B4<>\"\",\"Standard-SSD\",\"\")","v":""},{"$f":"IF(B4 = \"\",\"\",\nIF(B4=\"vCore.2_RAM.8G\",\"50G\",\nIF(B4=\"vCore.4_RAM.8G\",\"50G\",\nIF(B4=\"vCore.8_RAM.16G\",\"100G\"))))","v":""},{"$f":"IF(B4<>\"\",\"Standard-SSD\",\"\")","v":""},{"$f":"IF(B4 = \"\",\"\",\nIF(B4=\"vCore.2_RAM.8G\",\"50G\",\nIF(B4=\"vCore.4_RAM.8G\",\"50G\",\nIF(B4=\"vCore.8_RAM.16G\",\"100G\"))))","v":""},{"$f":"IF(B4<>\"\",\"預設全開，權限控管於IT\",\"\")","v":""},{"$f":"IF(ISNUMBER(SEARCH(\"CentOS\",C4)),\"Linux\",IF(ISNUMBER(SEARCH(\"Ubuntu\",C4)),\"Linux\",IF(ISNUMBER(SEARCH(\"SUSE\",C4)),\"Linux\",IF(ISNUMBER(SEARCH(\"Windows\",C4)),\"Windows\"))))","v":false}]
[2,null,{"$f":"IF(B5<>\"\",\"Win 10 pro\",\"\")","v":""},{"$f":"IF(B5<>\"\",\"Standard-SSD\",\"\")","v":""},{"$f":"IF(B5 = \"\",\"\",\nIF(B5=\"vCore.2_RAM.8G\",\"50G\",\nIF(B5=\"vCore.4_RAM.8G\",\"50G\",\nIF(B5=\"vCore.8_RAM.16G\",\"100G\"))))","v":""},{"$f":"IF(B5<>\"\",\"Standard-SSD\",\"\")","v":""},{"$f":"IF(B5 = \"\",\"\",\nIF(B5=\"vCore.2_RAM.8G\",\"50G\",\nIF(B5=\"vCore.4_RAM.8G\",\"50G\",\nIF(B5=\"vCore.8_RAM.16G\",\"100G\"))))","v":""},{"$f":"IF(B5<>\"\",\"預設全開，權限控管於IT\",\"\")","v":""},false]
[3,null,"","","","","","",false]
[4,null,"","","","","","",false]
[5,null,"","","","","","",false]
[6,null,"","","","","","",false]
[7,null,"","","","","","",false]
[8,null,"","","","","","",false]
[9,null,"","","","","","",false]
[10,null,"","","","","","",false]

{"sheet":"交付","index":14,"n_rows":195,"n_cols":27,"rows_kept":195,"cut":false,"hidden":false,"merged":[[170,17,170,22],[129,12,129,13],[123,12,123,13],[118,12,118,13],[119,12,119,13],[165,17,165,22],[166,17,166,22],[167,17,167,22],[168,17,168,22],[169,17,169,22],[165,13,165,16],[166,13,166,16],[152,11,152,16],[151,11,151,16],[153,11,153,16],[154,11,154,16],[155,11,155,16],[156,11,156,16],[149,12,149,13],[143,13,143,18],[144,13,144,18],[145,13,145,18],[146,13,146,18],[147,13,147,18],[88,14,88,15],[89,14,89,15],[119,14,119,22],[118,14,118,22],[120,14,120,22],[121,14,121,22],[122,14,122,22],[123,14,123,22],[90,16,90,17],[91,16,91,17],[90,18,90,22],[91,18,91,22],[107,3,107,15],[108,3,108,15],[109,3,109,15],[114,3,114,15],[115,3,115,15],[111,1,111,4],[118,8,118,9],[118,10,118,11],[119,8,119,9],[107,1,107,2],[108,1,108,2],[109,1,109,2],[79,9,79,12],[80,9,80,12],[81,9,81,12],[87,3,87,4],[88,3,88,4],[89,3,89,4],[89,1,89,2],[87,16,87,17],[87,18,87,22],[88,16,88,17],[88,18,88,22],[89,16,89,17],[89,18,89,22],[89,5,89,6],[89,7,89,8],[79,13,81,14],[79,15,81,16],[87,9,87,10],[88,9,88,10],[89,9,89,10],[88,11,88,13],[87,11,87,13],[89,11,89,13],[87,14,87,15],[170,1,170,2],[170,3,170,4],[170,5,170,6],[170,7,170,8],[170,9,170,12],[170,13,170,16],[20,7,20,8],[126,1,126,3],[169,1,169,2],[169,3,169,4],[166,1,166,2],[165,3,165,4],[82,1,84,2],[82,3,82,4],[82,5,82,7],[82,9,82,12],[82,13,84,14],[82,15,84,16],[83,3,83,4],[83,5,83,7],[83,9,83,12],[84,3,84,4],[84,5,84,7],[84,9,84,12],[169,5,169,6],[169,7,169,8],[167,9,167,12],[167,13,167,16],[168,1,168,2],[168,3,168,4],[168,5,168,6],[168,7,168,8],[168,9,168,12],[167,3,167,4],[167,1,167,2],[168,13,168,16],[167,5,167,6],[167,7,167,8],[169,9,169,12],[169,13,169,16],[165,1,165,2],[165,9,165,12],[166,9,166,12],[150,1,150,3],[151,1,151,2],[151,3,151,4],[151,5,151,6],[152,1,152,2],[152,3,152,4],[152,5,152,6],[153,1,153,2],[153,3,153,4],[164,1,164,3],[166,3,166,4],[165,5,165,6],[166,5,166,6],[165,7,165,8],[166,7,166,8],[155,1,155,2],[155,3,155,4],[151,7,151,10],[152,7,152,10],[153,7,153,10],[154,7,154,10],[155,7,155,10],[156,7,156,10],[149,9,149,11],[134,1,134,3],[132,1,132,2],[132,4,132,6],[132,7,132,8],[162,1,162,2],[162,3,162,5],[160,1,160,2],[160,3,160,5],[146,1,146,2],[146,5,146,6],[158,1,158,3],[159,1,159,2],[159,3,159,5],[149,1,149,2],[157,5,157,6],[161,1,161,2],[161,3,161,5],[149,5,149,6],[147,1,147,2],[147,5,147,6],[155,5,155,6],[156,1,156,2],[156,3,156,4],[156,5,156,6],[153,5,153,6],[154,1,154,2],[154,3,154,4],[154,5,154,6],[142,1,142,3],[149,3,149,4],[148,1,148,2],[148,5,148,6],[143,9,143,12],[144,9,144,12],[145,9,145,12],[146,9,146,12],[147,9,147,12],[148,9,148,12],[144,3,144,4],[145,3,145,4],[146,3,146,4],[147,3,147,4],[148,3,148,4],[146,7,146,8],[147,7,147,8],[139,1,139,2],[139,3,139,5],[138,1,138,2],[138,3,138,5],[137,1,137,2],[137,3,137,5],[136,3,136,5],[148,7,148,8],[145,1,145,2],[145,5,145,6],[145,7,145,8],[130,1,130,2],[130,4,130,6],[130,7,130,8],[130,9,130,11],[130,12,130,13],[127,12,127,13],[128,12,128,13],[127,4,127,6],[149,7,149,8],[148,13,148,18],[143,3,143,4],[129,1,129,2],[129,4,129,6],[129,7,129,8],[129,9,129,11],[141,15,141,17],[143,1,143,2],[144,1,144,2],[143,5,143,6],[144,5,144,6],[143,7,143,8],[144,7,144,8],[140,1,140,2],[140,3,140,5],[112,1,112,2],[121,1,121,2],[122,1,122,2],[123,1,123,2],[123,4,123,5],[123,6,123,7],[120,4,120,5],[120,6,120,7],[121,4,121,5],[121,6,121,7],[122,4,122,5],[122,6,122,7],[112,3,112,15],[117,1,117,3],[118,4,118,5],[119,4,119,5],[118,6,118,7],[119,6,119,7],[118,1,118,2],[119,1,119,2],[113,1,113,2],[114,1,114,2],[115,1,115,2],[113,3,113,15],[95,1,95,2],[96,1,96,2],[97,1,97,2],[95,3,95,4],[96,3,96,4],[97,3,97,4],[95,5,95,6],[96,5,96,6],[97,5,97,6],[100,1,100,2],[101,1,101,2],[102,1,102,2],[103,1,103,2],[106,1,106,2],[97,7,97,9],[97,10,97,11],[97,12,97,13],[97,14,97,15],[100,3,100,15],[101,3,101,15],[102,3,102,15],[103,3,103,15],[106,3,106,15],[99,1,99,4],[105,1,105,4],[93,1,93,3],[94,1,94,2],[94,3,94,4],[94,5,94,6],[90,1,90,2],[90,3,90,4],[90,5,90,6],[90,14,90,15],[90,7,90,8],[90,9,90,10],[90,11,90,13],[91,1,91,2],[91,3,91,4],[91,5,91,6],[91,7,91,8],[91,9,91,10],[91,11,91,13],[91,14,91,15],[94,14,94,15],[95,12,95,13],[96,12,96,13],[95,14,95,15],[96,14,96,15],[94,7,94,9],[95,7,95,9],[96,7,96,9],[94,10,94,11],[95,10,95,11],[96,10,96,11],[94,12,94,13],[78,3,78,4],[78,5,78,7],[79,3,79,4],[79,5,79,7],[79,1,81,2],[73,1,75,2],[76,1,78,2],[87,1,87,2],[88,1,88,2],[87,5,87,6],[88,5,88,6],[87,7,87,8],[88,7,88,8],[80,3,80,4],[80,5,80,7],[81,3,81,4],[81,5,81,7],[86,1,86,3],[77,3,77,4],[77,5,77,7],[73,3,73,4],[73,5,73,7],[74,3,74,4],[74,5,74,7],[75,3,75,4],[75,5,75,7],[76,3,76,4],[76,5,76,7],[70,1,72,2],[69,3,69,4],[70,3,70,4],[71,3,71,4],[69,5,69,7],[70,5,70,7],[71,5,71,7],[72,3,72,4],[72,5,72,7],[15,7,15,8],[16,7,16,8],[68,1,68,3],[69,1,69,2],[14,1,14,3],[5,1,5,3],[17,7,17,8],[20,13,20,14],[21,13,21,14],[11,1,11,3],[19,13,19,14],[32,9,32,12],[33,9,33,12],[44,7,44,8],[44,9,44,12],[37,1,37,3],[22,13,22,14],[29,9,29,12],[30,9,30,12],[18,7,18,8],[19,7,19,8],[31,1,31,3],[31,4,31,6],[31,7,31,8],[19,17,19,18],[25,9,25,12],[26,9,26,12],[27,9,27,12],[193,1,193,7],[15,1,15,3],[16,1,16,3],[17,1,17,3],[18,1,18,3],[19,1,19,3],[20,1,20,3],[21,1,21,3],[22,1,22,3],[23,1,23,3],[24,1,24,3],[15,4,15,6],[16,4,16,6],[17,4,17,6],[18,4,18,6],[19,4,19,6],[20,4,20,6],[21,4,21,6],[22,4,22,6],[31,9,31,12],[20,17,20,18],[21,17,21,18],[22,17,22,18],[23,4,23,6],[24,4,24,6],[24,9,24,12],[28,1,28,3],[28,4,28,6],[28,7,28,8],[28,9,28,12],[26,1,26,3],[26,4,26,6],[26,7,26,8],[27,1,27,3],[27,4,27,6],[27,7,27,8],[25,1,25,3],[25,4,25,6],[25,7,25,8],[23,7,23,8],[24,7,24,8],[21,7,21,8],[22,7,22,8],[28,15,28,16],[32,4,32,6],[32,7,32,8],[33,1,33,3],[33,4,33,6],[33,7,33,8],[35,1,35,3],[35,4,35,6],[35,7,35,8],[36,1,36,3],[36,4,36,6],[36,7,36,8],[34,1,34,3],[34,4,34,6],[34,7,34,8],[32,1,32,3],[61,4,61,6],[61,7,61,8],[49,1,49,3],[47,9,47,12],[47,7,47,8],[47,1,47,3],[47,4,47,6],[52,9,52,12],[37,4,37,6],[37,7,37,8],[38,9,38,12],[39,9,39,12],[40,9,40,12],[41,9,41,12],[37,9,37,12],[40,4,40,6],[40,7,40,8],[41,4,41,6],[41,7,41,8],[38,1,38,3],[38,4,38,6],[38,7,38,8],[39,1,39,3],[39,4,39,6],[15,15,15,16],[17,15,17,16],[16,15,16,16],[17,17,17,18],[16,17,16,18],[18,13,18,14],[18,17,18,18],[15,17,15,18],[18,15,18,16],[37,17,37,18],[38,17,38,18],[39,17,39,18],[40,17,40,18],[42,17,42,18],[43,17,43,18],[44,13,44,14],[33,15,33,16],[34,15,34,16],[35,15,35,16],[33,13,33,14],[34,13,34,14],[35,13,35,14],[44,17,44,18],[36,13,36,14],[37,13,37,14],[38,13,38,14],[39,13,39,14],[40,13,40,14],[41,13,41,14],[37,15,37,16],[38,15,38,16],[41,17,41,18],[42,15,42,16],[28,17,28,18],[29,17,29,18],[30,17,30,18],[31,17,31,18],[32,17,32,18],[33,17,33,18],[34,17,34,18],[35,17,35,18],[36,17,36,18],[56,17,56,18],[55,15,55,16],[55,17,55,18],[52,15,52,16],[53,15,53,16],[44,15,44,16],[54,9,54,12],[49,9,49,12],[50,9,50,12],[53,9,53,12],[53,13,53,14],[54,13,54,14],[51,15,51,16],[47,17,47,18],[48,17,48,18],[49,17,49,18],[45,17,45,18],[53,17,53,18],[54,15,54,16],[54,17,54,18],[47,15,47,16],[48,15,48,16],[49,15,49,16],[48,9,48,12],[41,15,41,16],[57,1,57,3],[57,4,57,6],[57,7,57,8],[57,9,57,12],[57,13,57,14],[56,1,56,3],[56,4,56,6],[56,7,56,8],[56,9,56,12],[55,1,55,3],[55,4,55,6],[55,7,55,8],[55,9,55,12],[55,13,55,14],[52,13,52,14],[48,13,48,14],[49,13,49,14],[45,13,45,14],[48,1,48,3],[48,4,48,6],[48,7,48,8],[47,13,47,14],[51,1,51,3],[54,1,54,3],[49,4,49,6],[49,7,49,8],[53,4,53,6],[53,7,53,8],[54,4,54,6],[54,7,54,8],[50,1,50,3],[50,4,50,6],[50,7,50,8],[45,1,45,3],[51,7,51,8],[51,9,51,12],[51,13,51,14],[11,5,11,14],[23,13,23,14],[24,13,24,14],[25,13,25,14],[26,13,26,14],[27,13,27,14],[28,13,28,14],[29,13,29,14],[30,13,30,14],[42,9,42,12],[42,13,42,14],[45,9,45,12],[46,9,46,12],[20,9,20,12],[21,9,21,12],[22,9,22,12],[23,9,23,12],[15,13,15,14],[16,13,16,14],[17,13,17,14],[39,7,39,8],[46,1,46,3],[46,4,46,6],[46,7,46,8],[46,13,46,14],[31,13,31,14],[32,13,32,14],[15,9,15,12],[16,9,16,12],[17,9,17,12],[18,9,18,12],[19,9,19,12],[45,4,45,6],[45,7,45,8],[44,4,44,6],[40,1,40,3],[41,1,41,3],[43,1,43,3],[43,4,43,6],[43,7,43,8],[42,1,42,3],[42,4,42,6],[42,7,42,8],[29,1,29,3],[29,4,29,6],[19,15,19,16],[20,15,20,16],[21,15,21,16],[43,9,43,12],[43,13,43,14],[43,15,43,16],[44,1,44,3],[45,15,45,16],[29,15,29,16],[22,15,22,16],[23,15,23,16],[24,15,24,16],[25,15,25,16],[26,15,26,16],[27,15,27,16],[36,15,36,16],[29,7,29,8],[30,1,30,3],[30,4,30,6],[30,7,30,8],[34,9,34,12],[35,9,35,12],[36,9,36,12],[50,17,50,18],[61,9,61,12],[58,1,58,3],[58,4,58,6],[58,7,58,8],[58,9,58,12],[59,13,59,14],[53,1,53,3],[60,1,60,3],[60,4,60,6],[60,7,60,8],[60,9,60,12],[60,13,60,14],[60,15,60,16],[61,1,61,3],[51,17,51,18],[52,1,52,3],[52,4,52,6],[52,7,52,8],[59,15,59,16],[59,17,59,18],[61,13,61,14],[51,4,51,6],[56,15,56,16],[77,9,77,12],[69,13,69,14],[70,13,72,14],[73,13,75,14],[76,13,78,14],[78,9,78,12],[69,9,69,12],[73,15,75,16],[76,15,78,16],[70,15,72,16],[74,9,74,12],[75,9,75,12],[76,9,76,12],[69,15,69,16],[62,1,62,3],[62,4,62,6],[62,7,62,8],[62,9,62,12],[62,13,62,14],[62,15,62,16],[56,13,56,14],[23,17,23,18],[24,17,24,18],[25,17,25,18],[26,17,26,18],[27,17,27,18],[52,17,52,18],[39,15,39,16],[40,15,40,16],[30,15,30,16],[31,15,31,16],[32,15,32,16],[59,1,59,3],[59,4,59,6],[59,7,59,8],[59,9,59,12],[46,15,46,16],[46,17,46,18],[58,15,58,16],[58,17,58,18],[57,15,57,16],[57,17,57,18],[58,13,58,14],[60,17,60,18],[15,22,15,24],[16,19,16,21],[16,22,16,24],[20,19,20,21],[21,19,21,21],[22,19,22,21],[23,19,23,21],[24,19,24,21],[25,19,25,21],[26,19,26,21],[27,19,27,21],[45,19,45,21],[28,19,28,21],[29,19,29,21],[30,19,30,21],[31,19,31,21],[50,13,50,14],[50,15,50,16],[15,25,15,27],[16,25,16,27],[17,19,17,21],[18,19,18,21],[19,19,19,21],[17,25,17,27],[18,22,18,24],[19,22,19,24],[15,19,15,21],[17,22,17,24],[32,19,32,21],[46,19,46,21],[47,19,47,21],[48,19,48,21],[33,19,33,21],[34,19,34,21],[35,19,35,21],[36,19,36,21],[37,19,37,21],[38,19,38,21],[39,19,39,21],[40,19,40,21],[41,19,41,21],[42,19,42,21],[43,19,43,21],[44,19,44,21],[45,22,45,24],[46,22,46,24],[47,22,47,24],[48,22,48,24],[49,22,49,24],[50,22,50,24],[58,22,58,24],[59,22,59,24],[60,22,60,24],[51,22,51,24],[52,22,52,24],[53,22,53,24],[54,22,54,24],[55,22,55,24],[56,22,56,24],[57,22,57,24],[42,22,42,24],[43,22,43,24],[44,22,44,24],[20,22,20,24],[21,22,21,24],[22,22,22,24],[23,22,23,24],[24,22,24,24],[25,22,25,24],[26,22,26,24],[27,22,27,24],[28,22,28,24],[29,22,29,24],[30,22,30,24],[31,22,31,24],[32,22,32,24],[33,22,33,24],[58,19,58,21],[59,19,59,21],[60,19,60,21],[49,19,49,21],[50,19,50,21],[51,19,51,21],[52,19,52,21],[53,19,53,21],[54,19,54,21],[55,19,55,21],[56,19,56,21],[57,19,57,21],[33,25,33,27],[34,25,34,27],[35,25,35,27],[36,25,36,27],[37,25,37,27],[38,25,38,27],[39,25,39,27],[40,22,40,24],[41,22,41,24],[40,25,40,27],[41,25,41,27],[34,22,34,24],[35,22,35,24],[36,22,36,24],[37,22,37,24],[38,22,38,24],[39,22,39,24],[54,25,54,27],[55,25,55,27],[56,25,56,27],[64,22,64,24],[65,22,65,24],[4,25,4,26],[18,25,18,27],[19,25,19,27],[20,25,20,27],[21,25,21,27],[22,25,22,27],[23,25,23,27],[24,25,24,27],[25,25,25,27],[26,25,26,27],[27,25,27,27],[28,25,28,27],[29,25,29,27],[30,25,30,27],[31,25,31,27],[32,25,32,27],[49,25,49,27],[50,25,50,27],[51,25,51,27],[42,25,42,27],[43,25,43,27],[44,25,44,27],[45,25,45,27],[46,25,46,27],[47,25,47,27],[48,25,48,27],[52,25,52,27],[53,25,53,27],[57,25,57,27],[58,25,58,27],[59,25,59,27],[60,25,60,27],[61,25,61,27],[62,25,62,27],[63,25,63,27],[64,25,64,27],[65,25,65,27],[65,1,65,3],[65,4,65,6],[65,7,65,8],[65,9,65,12],[65,13,65,14],[65,15,65,16],[65,17,65,18],[63,1,63,3],[63,4,63,6],[63,7,63,8],[63,9,63,12],[64,17,64,18],[63,13,63,14],[63,15,63,16],[63,17,63,18],[64,1,64,3],[64,4,64,6],[64,7,64,8],[64,9,64,12],[64,13,64,14],[64,15,64,16],[61,22,61,24],[62,22,62,24],[63,22,63,24],[61,19,61,21],[65,19,65,21],[70,9,70,12],[71,9,71,12],[72,9,72,12],[73,9,73,12],[62,19,62,21],[63,19,63,21],[64,19,64,21],[62,17,62,18],[61,15,61,16],[61,17,61,18],[190,1,190,26],[191,1,191,26],[192,1,192,26],[173,1,173,26],[174,1,174,26],[175,1,175,26],[176,1,176,26],[177,1,177,26],[178,1,178,26],[179,1,179,26],[180,1,180,26],[181,1,181,26],[182,1,182,26],[183,1,183,26],[184,1,184,26],[185,1,185,26],[186,1,186,26],[187,1,187,26],[188,1,188,26],[189,1,189,26],[119,10,119,11],[120,10,120,11],[121,10,121,11],[122,10,122,11],[123,10,123,11],[120,12,120,13],[120,1,120,2],[120,8,120,9],[121,12,121,13],[122,12,122,13],[121,8,121,9],[123,8,123,9],[122,8,122,9],[128,1,128,2],[128,4,128,6],[127,7,127,8],[139,11,139,20],[135,6,135,8],[136,6,136,8],[137,6,137,8],[138,6,138,8],[139,6,139,8],[128,7,128,8],[127,1,127,2],[127,9,127,11],[128,9,128,11],[136,1,136,2],[135,1,135,2],[135,3,135,5],[132,9,132,11],[132,12,132,13],[131,1,131,2],[131,4,131,6],[131,7,131,8],[131,9,131,11],[131,12,131,13],[135,11,135,20],[140,6,140,8],[135,9,135,10],[136,9,136,10],[137,9,137,10],[138,9,138,10],[139,9,139,10],[140,9,140,10],[137,11,137,20],[138,11,138,20],[136,11,136,20],[140,11,140,20]]}
[]
[]
[]
[]
[null,null,null,null,null,null,null,null,null,null,null,null,null,null,null,null,null,null,null,null,null,null,null,null,"日期：",{"$f":"TODAY()","v":"2022-12-14"}]
[null,"Login Information"]
[null,null,null,"Project Name：",{"$f":"Reply!B3","v":0}]
[null,null,null,"User Name：",{"$f":"Reply!B5","v":0}]
[null,null,null,"Portal：","https://mtjadeks2.dct-cloud.com/FiXo/"]
[null,null,null,"Operation Manual：","https://docs.dct-cloud.com/"]
[]
[null,"     FiBo 儲存服務",null,null,{"$f":"IF(FiBo!B2=\"申請(Apply)\",\"已開通\",\"未開通\")","v":"未開通"},{"$f":"IF(E12=\"已開通\",\"※ 提醒: 使用S3服務創建bucket時，請務必加入前綴編號，以避免新增容器時，因不同帳號但採用重複名稱導致讀寫資料錯誤。 (或是建議直接採用FiXo Portal>> FiBo創建bucket ，則無須擔心prefix問題)亦即: prefix+bucketname\",\"\")","v":""}]
[null,null,null,null,{"$f":"IF(E12=\"已開通\",\"請參考操作文檔  'FiBo 創建及刪除S3訪問密鑰方式'\",\"\")","v":""}]
[]
[null,"      FiCo 計算服務",null,null,{"$f":"IF(SUM(COUNTBLANK(FiCo!B4:B8))>4,\"未開通\",\"已開通\")","v":"未開通"}]
[null,"Instance",null,null,"OS",null,null,"Login Account",null,"Login Password",null,null,null,"Flavor",null,"Public IP/CNCS IP",null,"Private IP",null,"OS Disk",null,null,"Data Disk ",null,null,"Backup Status"]
[null,{"$f":"FiCo!B4","v":0},null,null,{"$f":"IF(FiCo!B4=\"\",0,FiCo!C4)","v":0},null,null,{"$f":"IF(FiCo!B4=\"\",0,FiCo!D4)","v":0},null,{"$f":"IF(AND(FiCo!B4<>\"\",FiCo!S4=\"Linux\"),\"Use \"&FiCo!E4&\" Key to Login\",FiCo!E4)","v":0},null,null,null,{"$f":"IF(ISBLANK(FiCo!B4),\"\",IF(FiCo!B4=\"\",0,FiCo!F4)\n&IF(ISBLANK(FiCo!B4),\"\",IF(FiCo!H4=\"Yes\",\"-Q7\",\"-Q1\")))","v":""},null,{"$f":"IF(FiCo!B4=\"\",0,FiCo!I4)","v":0},null,{"$f":"IF(FiCo!B4=\"\",0,FiCo!J4)","v":0},null,{"$f":"IF(FiCo!B4=\"\",0,IF(FiCo!C4=\"\",0,FiCo!K4&\" / \"&FiCo!L4))","v":0},null,null,{"$f":"IF(FiCo!B4=\"\",0,IF(FiCo!M4=\"\",0,FiCo!M4&\" / \"&FiCo!N4))","v":0},null,null,{"$f":"IF(FiCo!O4=\"Yes\",\"Start at:\"&TEXT(FiCo!P4,\"yyyy/mm/dd\"),\"\")","v":""}]
[null,{"$f":"FiCo!B5","v":0},null,null,{"$f":"IF(FiCo!B5=\"\",0,FiCo!C5)","v":0},null,null,{"$f":"IF(FiCo!B5=\"\",0,FiCo!D5)","v":0},null,{"$f":"IF(AND(FiCo!B5<>\"\",FiCo!S5=\"Linux\"),\"Use \"&FiCo!E5&\" Key to Login\",FiCo!E5)","v":0},null,null,null,{"$f":"IF(ISBLANK(FiCo!B5),\"\",IF(FiCo!B5=\"\",0,FiCo!F5)\n&IF(ISBLANK(FiCo!B5),\"\",IF(FiCo!H5=\"Yes\",\"-Q7\",\"-Q1\")))","v":""},null,{"$f":"IF(FiCo!B5=\"\",0,FiCo!I5)","v":0},null,{"$f":"IF(FiCo!B5=\"\",0,FiCo!J5)","v":0},null,{"$f":"IF(FiCo!B5=\"\",0,IF(FiCo!C5=\"\",0,FiCo!K5&\" / \"&FiCo!L5))","v":0},null,null,{"$f":"IF(FiCo!B5=\"\",0,IF(FiCo!M5=\"\",0,FiCo!M5&\" / \"&FiCo!N5))","v":0},null,null,{"$f":"IF(FiCo!O5=\"Yes\",\"Start at:\"&TEXT(FiCo!P5,\"yyyy/mm/dd\"),\"\")","v":""}]
[null,{"$f":"FiCo!B6","v":0},null,null,{"$f":"IF(FiCo!B6=\"\",0,FiCo!C6)","v":0},null,null,{"$f":"IF(FiCo!B6=\"\",0,FiCo!D6)","v":0},null,{"$f":"IF(AND(FiCo!B6<>\"\",FiCo!S6=\"Linux\"),\"Use \"&FiCo!E6&\" Key to Login\",FiCo!E6)","v":0},null,null,null,{"$f":"IF(ISBLANK(FiCo!B6),\"\",IF(FiCo!B6=\"\",0,FiCo!F6)\n&IF(ISBLANK(FiCo!B6),\"\",IF(FiCo!H6=\"Yes\",\"-Q7\",\"-Q1\")))","v":""},null,{"$f":"IF(FiCo!B6=\"\",0,FiCo!I6)","v":0},null,{"$f":"IF(FiCo!B6=\"\",0,FiCo!J6)","v":0},null,{"$f":"IF(FiCo!B6=\"\",0,IF(FiCo!C6=\"\",0,FiCo!K6&\" / \"&FiCo!L6))","v":0},null,null,{"$f":"IF(FiCo!B6=\"\",0,IF(FiCo!M6=\"\",0,FiCo!M6&\" / \"&FiCo!N6))","v":0},null,null,{"$f":"IF(FiCo!O6=\"Yes\",\"Start at:\"&TEXT(FiCo!P6,\"yyyy/mm/dd\"),\"\")","v":""}]
[null,{"$f":"FiCo!B7","v":0},null,null,{"$f":"IF(FiCo!B7=\"\",0,FiCo!C7)","v":0},null,null,{"$f":"IF(FiCo!B7=\"\",0,FiCo!D7)","v":0},null,{"$f":"IF(AND(FiCo!B7<>\"\",FiCo!S7=\"Linux\"),\"Use \"&FiCo!E7&\" Key to Login\",FiCo!E7)","v":0},null,null,null,{"$f":"IF(ISBLANK(FiCo!B7),\"\",IF(FiCo!B7=\"\",0,FiCo!F7)\n&IF(ISBLANK(FiCo!B7),\"\",IF(FiCo!H7=\"Yes\",\"-Q7\",\"-Q1\")))","v":""},null,{"$f":"IF(FiCo!B7=\"\",0,FiCo!I7)","v":0},null,{"$f":"IF(FiCo!B7=\"\",0,FiCo!J7)","v":0},null,{"$f":"IF(FiCo!B7=\"\",0,IF(FiCo!C7=\"\",0,FiCo!K7&\" / \"&FiCo!L7))","v":0},null,null,{"$f":"IF(FiCo!B7=\"\",0,IF(FiCo!M7=\"\",0,FiCo!M7&\" / \"&FiCo!N7))","v":0},null,null,{"$f":"IF(FiCo!O7=\"Yes\",\"Start at:\"&TEXT(FiCo!P7,\"yyyy/mm/dd\"),\"\")","v":""}]
[null,{"$f":"FiCo!B8","v":0},null,null,{"$f":"IF(FiCo!B8=\"\",0,FiCo!C8)","v":0},null,null,{"$f":"IF(FiCo!B8=\"\",0,FiCo!D8)","v":0},null,{"$f":"IF(AND(FiCo!B8<>\"\",FiCo!S8=\"Linux\"),\"Use \"&FiCo!E8&\" Key to Login\",FiCo!E8)","v":0},null,null,null,{"$f":"IF(ISBLANK(FiCo!B8),\"\",IF(FiCo!B8=\"\",0,FiCo!F8)\n&IF(ISBLANK(FiCo!B8),\"\",IF(FiCo!H8=\"Yes\",\"-Q7\",\"-Q1\")))","v":""},null,{"$f":"IF(FiCo!B8=\"\",0,FiCo!I8)","v":0},null,{"$f":"IF(FiCo!B8=\"\",0,FiCo!J8)","v":0},null,{"$f":"IF(FiCo!B8=\"\",0,IF(FiCo!C8=\"\",0,FiCo!K8&\" / \"&FiCo!L8))","v":0},null,null,{"$f":"IF(FiCo!B8=\"\",0,IF(FiCo!M8=\"\",0,FiCo!M8&\" / \"&FiCo!N8))","v":0},null,null,{"$f":"IF(FiCo!O8=\"Yes\",\"Start at:\"&TEXT(FiCo!P8,\"yyyy/mm/dd\"),\"\")","v":""}]
[null,{"$f":"FiCo!B9","v":0},null,null,{"$f":"IF(FiCo!B9=\"\",0,FiCo!C9)","v":0},null,null,{"$f":"IF(FiCo!B9=\"\",0,FiCo!D9)","v":0},null,{"$f":"IF(AND(FiCo!B9<>\"\",FiCo!S9=\"Linux\"),\"Use \"&FiCo!E9&\" Key to Login\",FiCo!E9)","v":0},null,null,null,{"$f":"IF(ISBLANK(FiCo!B9),\"\",IF(FiCo!B9=\"\",0,FiCo!F9)\n&IF(ISBLANK(FiCo!B9),\"\",IF(FiCo!H9=\"Yes\",\"-Q7\",\"-Q1\")))","v":""},null,{"$f":"IF(FiCo!B9=\"\",0,FiCo!I9)","v":0},null,{"$f":"IF(FiCo!B9=\"\",0,FiCo!J9)","v":0},null,{"$f":"IF(FiCo!B9=\"\",0,IF(FiCo!C9=\"\",0,FiCo!K9&\" / \"&FiCo!L9))","v":0},null,null,{"$f":"IF(FiCo!B9=\"\",0,IF(FiCo!M9=\"\",0,FiCo!M9&\" / \"&FiCo!N9))","v":0},null,null,{"$f":"IF(FiCo!O9=\"Yes\",\"Start at:\"&TEXT(FiCo!P9,\"yyyy/mm/dd\"),\"\")","v":""}]
[null,{"$f":"FiCo!B10","v":0},null,null,{"$f":"IF(FiCo!B10=\"\",0,FiCo!C10)","v":0},null,null,{"$f":"IF(FiCo!B10=\"\",0,FiCo!D10)","v":0},null,{"$f":"IF(AND(FiCo!B10<>\"\",FiCo!S10=\"Linux\"),\"Use \"&FiCo!E10&\" Key to Login\",FiCo!E10)","v":0},null,null,null,{"$f":"IF(ISBLANK(FiCo!B10),\"\",IF(FiCo!B10=\"\",0,FiCo!F10)\n&IF(ISBLANK(FiCo!B10),\"\",IF(FiCo!H10=\"Yes\",\"-Q7\",\"-Q1\")))","v":""},null,{"$f":"IF(FiCo!B10=\"\",0,FiCo!I10)","v":0},null,{"$f":"IF(FiCo!B10=\"\",0,FiCo!J10)","v":0},null,{"$f":"IF(FiCo!B10=\"\",0,IF(FiCo!C10=\"\",0,FiCo!K10&\" / \"&FiCo!L10))","v":0},null,null,{"$f":"IF(FiCo!B10=\"\",0,IF(FiCo!M10=\"\",0,FiCo!M10&\" / \"&FiCo!N10))","v":0},null,null,{"$f":"IF(FiCo!O10=\"Yes\",\"Start at:\"&TEXT(FiCo!P10,\"yyyy/mm/dd\"),\"\")","v":""}]
[null,{"$f":"FiCo!B11","v":0},null,null,{"$f":"IF(FiCo!B11=\"\",0,FiCo!C11)","v":0},null,null,{"$f":"IF(FiCo!B11=\"\",0,FiCo!D11)","v":0},null,{"$f":"IF(AND(FiCo!B11<>\"\",FiCo!S11=\"Linux\"),\"Use \"&FiCo!E11&\" Key to Login\",FiCo!E11)","v":0},null,null,null,{"$f":"IF(ISBLANK(FiCo!B11),\"\",IF(FiCo!B11=\"\",0,FiCo!F11)\n&IF(ISBLANK(FiCo!B11),\"\",IF(FiCo!H11=\"Yes\",\"-Q7\",\"-Q1\")))","v":""},null,{"$f":"IF(FiCo!B11=\"\",0,FiCo!I11)","v":0},null,{"$f":"IF(FiCo!B11=\"\",0,FiCo!J11)","v":0},null,{"$f":"IF(FiCo!B11=\"\",0,IF(FiCo!C11=\"\",0,FiCo!K11&\" / \"&FiCo!L11))","v":0},null,null,{"$f":"IF(FiCo!B11=\"\",0,IF(FiCo!M11=\"\",0,FiCo!M11&\" / \"&FiCo!N11))","v":0},null,null,{"$f":"IF(FiCo!O11=\"Yes\",\"Start at:\"&TEXT(FiCo!P11,\"yyyy/mm/dd\"),\"\")","v":""}]
[null,{"$f":"FiCo!B12","v":0},null,null,{"$f":"IF(FiCo!B12=\"\",0,FiCo!C12)","v":0},null,null,{"$f":"IF(FiCo!B12=\"\",0,FiCo!D12)","v":0},null,{"$f":"IF(AND(FiCo!B12<>\"\",FiCo!S12=\"Linux\"),\"Use \"&FiCo!E12&\" Key to Login\",FiCo!E12)","v":0},null,null,null,{"$f":"IF(ISBLANK(FiCo!B12),\"\",IF(FiCo!B12=\"\",0,FiCo!F12)\n&IF(ISBLANK(FiCo!B12),\"\",IF(FiCo!H12=\"Yes\",\"-Q7\",\"-Q1\")))","v":""},null,{"$f":"IF(FiCo!B12=\"\",0,FiCo!I12)","v":0},null,{"$f":"IF(FiCo!B12=\"\",0,FiCo!J12)","v":0},null,{"$f":"IF(FiCo!B12=\"\",0,IF(FiCo!C12=\"\",0,FiCo!K12&\" / \"&FiCo!L12))","v":0},null,null,{"$f":"IF(FiCo!B12=\"\",0,IF(FiCo!M12=\"\",0,FiCo!M12&\" / \"&FiCo!N12))","v":0},null,null,{"$f":"IF(FiCo!O12=\"Yes\",\"Start at:\"&TEXT(FiCo!P12,\"yyyy/mm/dd\"),\"\")","v":""}]
[null,{"$f":"FiCo!B13","v":0},null,null,{"$f":"IF(FiCo!B13=\"\",0,FiCo!C13)","v":0},null,null,{"$f":"IF(FiCo!B13=\"\",0,FiCo!D13)","v":0},null,{"$f":"IF(AND(FiCo!B13<>\"\",FiCo!S13=\"Linux\"),\"Use \"&FiCo!E13&\" Key to Login\",FiCo!E13)","v":0},null,null,null,{"$f":"IF(ISBLANK(FiCo!B13),\"\",IF(FiCo!B13=\"\",0,FiCo!F13)\n&IF(ISBLANK(FiCo!B13),\"\",IF(FiCo!H13=\"Yes\",\"-Q7\",\"-Q1\")))","v":""},null,{"$f":"IF(FiCo!B13=\"\",0,FiCo!I13)","v":0},null,{"$f":"IF(FiCo!B13=\"\",0,FiCo!J13)","v":0},null,{"$f":"IF(FiCo!B13=\"\",0,IF(FiCo!C13=\"\",0,FiCo!K13&\" / \"&FiCo!L13))","v":0},null,null,{"$f":"IF(FiCo!B13=\"\",0,IF(FiCo!M13=\"\",0,FiCo!M13&\" / \"&FiCo!N13))","v":0},null,null,{"$f":"IF(FiCo!O13=\"Yes\",\"Start at:\"&TEXT(FiCo!P13,\"yyyy/mm/dd\"),\"\")","v":""}]
[null,{"$f":"FiCo!B14","v":0},null,null,{"$f":"IF(FiCo!B14=\"\",0,FiCo!C14)","v":0},null,null,{"$f":"IF(FiCo!B14=\"\",0,FiCo!D14)","v":0},null,{"$f":"IF(AND(FiCo!B14<>\"\",FiCo!S14=\"Linux\"),\"Use \"&FiCo!E14&\" Key to Login\",FiCo!E14)","v":0},null,null,null,{"$f":"IF(ISBLANK(FiCo!B14),\"\",IF(FiCo!B14=\"\",0,FiCo!F14)\n&IF(ISBLANK(FiCo!B14),\"\",IF(FiCo!H14=\"Yes\",\"-Q7\",\"-Q1\")))","v":""},null,{"$f":"IF(FiCo!B14=\"\",0,FiCo!I14)","v":0},null,{"$f":"IF(FiCo!B14=\"\",0,FiCo!J14)","v":0},null,{"$f":"IF(FiCo!B14=\"\",0,IF(FiCo!C14=\"\",0,FiCo!K14&\" / \"&FiCo!L14))","v":0},null,null,{"$f":"IF(FiCo!B14=\"\",0,IF(FiCo!M14=\"\",0,FiCo!M14&\" / \"&FiCo!N14))","v":0},null,null,{"$f":"IF(FiCo!O14=\"Yes\",\"Start at:\"&TEXT(FiCo!P14,\"yyyy/mm/dd\"),\"\")","v":""}]
[null,{"$f":"FiCo!B15","v":0},null,null,{"$f":"IF(FiCo!B15=\"\",0,FiCo!C15)","v":0},null,null,{"$f":"IF(FiCo!B15=\"\",0,FiCo!D15)","v":0},null,{"$f":"IF(AND(FiCo!B15<>\"\",FiCo!S15=\"Linux\"),\"Use \"&FiCo!E15&\" Key to Login\",FiCo!E15)","v":0},null,null,null,{"$f":"IF(ISBLANK(FiCo!B15),\"\",IF(FiCo!B15=\"\",0,FiCo!F15)\n&IF(ISBLANK(FiCo!B15),\"\",IF(FiCo!H15=\"Yes\",\"-Q7\",\"-Q1\")))","v":""},null,{"$f":"IF(FiCo!B15=\"\",0,FiCo!I15)","v":0},null,{"$f":"IF(FiCo!B15=\"\",0,FiCo!J15)","v":0},null,{"$f":"IF(FiCo!B15=\"\",0,IF(FiCo!C15=\"\",0,FiCo!K15&\" / \"&FiCo!L15))","v":0},null,null,{"$f":"IF(FiCo!B15=\"\",0,IF(FiCo!M15=\"\",0,FiCo!M15&\" / \"&FiCo!N15))","v":0},null,null,{"$f":"IF(FiCo!O15=\"Yes\",\"Start at:\"&TEXT(FiCo!P15,\"yyyy/mm/dd\"),\"\")","v":""}]
[null,{"$f":"FiCo!B16","v":0},null,null,{"$f":"IF(FiCo!B16=\"\",0,FiCo!C16)","v":0},null,null,{"$f":"IF(FiCo!B16=\"\",0,FiCo!D16)","v":0},null,{"$f":"IF(AND(FiCo!B16<>\"\",FiCo!S16=\"Linux\"),\"Use \"&FiCo!E16&\" Key to Login\",FiCo!E16)","v":0},null,null,null,{"$f":"IF(ISBLANK(FiCo!B16),\"\",IF(FiCo!B16=\"\",0,FiCo!F16)\n&IF(ISBLANK(FiCo!B16),\"\",IF(FiCo!H16=\"Yes\",\"-Q7\",\"-Q1\")))","v":""},null,{"$f":"IF(FiCo!B16=\"\",0,FiCo!I16)","v":0},null,{"$f":"IF(FiCo!B16=\"\",0,FiCo!J16)","v":0},null,{"$f":"IF(FiCo!B16=\"\",0,IF(FiCo!C16=\"\",0,FiCo!K16&\" / \"&FiCo!L16))","v":0},null,null,{"$f":"IF(FiCo!B16=\"\",0,IF(FiCo!M16=\"\",0,FiCo!M16&\" / \"&FiCo!N16))","v":0},null,null,{"$f":"IF(FiCo!O16=\"Yes\",\"Start at:\"&TEXT(FiCo!P16,\"yyyy/mm/dd\"),\"\")","v":""}]
[null,{"$f":"FiCo!B17","v":0},null,null,{"$f":"IF(FiCo!B17=\"\",0,FiCo!C17)","v":0},null,null,{"$f":"IF(FiCo!B17=\"\",0,FiCo!D17)","v":0},null,{"$f":"IF(AND(FiCo!B17<>\"\",FiCo!S17=\"Linux\"),\"Use \"&FiCo!E17&\" Key to Login in\",FiCo!E17)","v":0},null,null,{"$f":"IF(FiCo!B17=\"\",0,FiCo!F17)","v":0},{"$f":"IF(ISBLANK(FiCo!B17),\"\",IF(FiCo!B17=\"\",0,FiCo!F17)\n&IF(ISBLANK(FiCo!B17),\"\",IF(FiCo!H17=\"Yes\",\"-Q7\",\"-Q1\")))","v":""},null,{"$f":"IF(FiCo!B17=\"\",0,FiCo!I17)","v":0},null,{"$f":"IF(FiCo!B17=\"\",0,FiCo!J17)","v":0},null,{"$f":"IF(FiCo!B17=\"\",0,IF(FiCo!C17=\"\",0,FiCo!K17&\" / \"&FiCo!L17))","v":0},null,null,{"$f":"IF(FiCo!B17=\"\",0,IF(FiCo!M17=\"\",0,FiCo!M17&\" / \"&FiCo!N17))","v":0},null,null,{"$f":"IF(FiCo!O17=\"Yes\",\"Start at:\"&TEXT(FiCo!P17,\"yyyy/mm/dd\"),\"\")","v":""}]
[null,{"$f":"FiCo!B18","v":0},null,null,{"$f":"IF(FiCo!B18=\"\",0,FiCo!C18)","v":0},null,null,{"$f":"IF(FiCo!B18=\"\",0,FiCo!D18)","v":0},null,{"$f":"IF(AND(FiCo!B18<>\"\",FiCo!S18=\"Linux\"),\"Use \"&FiCo!E18&\" Key to Login in\",FiCo!E18)","v":0},null,null,{"$f":"IF(FiCo!B18=\"\",0,FiCo!F18)","v":0},{"$f":"IF(ISBLANK(FiCo!B18),\"\",IF(FiCo!B18=\"\",0,FiCo!F18)\n&IF(ISBLANK(FiCo!B18),\"\",IF(FiCo!H18=\"Yes\",\"-Q7\",\"-Q1\")))","v":""},null,{"$f":"IF(FiCo!B18=\"\",0,FiCo!I18)","v":0},null,{"$f":"IF(FiCo!B18=\"\",0,FiCo!J18)","v":0},null,{"$f":"IF(FiCo!B18=\"\",0,IF(FiCo!C18=\"\",0,FiCo!K18&\" / \"&FiCo!L18))","v":0},null,null,{"$f":"IF(FiCo!B18=\"\",0,IF(FiCo!M18=\"\",0,FiCo!M18&\" / \"&FiCo!N18))","v":0},null,null,{"$f":"IF(FiCo!O18=\"Yes\",\"Start at:\"&TEXT(FiCo!P18,\"yyyy/mm/dd\"),\"\")","v":""}]
[null,{"$f":"FiCo!B19","v":0},null,null,{"$f":"IF(FiCo!B19=\"\",0,FiCo!C19)","v":0},null,null,{"$f":"IF(FiCo!B19=\"\",0,FiCo!D19)","v":0},null,{"$f":"IF(AND(FiCo!B19<>\"\",FiCo!S19=\"Linux\"),\"Use \"&FiCo!E19&\" Key to Login in\",FiCo!E19)","v":0},null,null,{"$f":"IF(FiCo!B19=\"\",0,FiCo!F19)","v":0},{"$f":"IF(ISBLANK(FiCo!B19),\"\",IF(FiCo!B19=\"\",0,FiCo!F19)\n&IF(ISBLANK(FiCo!B19),\"\",IF(FiCo!H19=\"Yes\",\"-Q7\",\"-Q1\")))","v":""},null,{"$f":"IF(FiCo!B19=\"\",0,FiCo!I19)","v":0},null,{"$f":"IF(FiCo!B19=\"\",0,FiCo!J19)","v":0},null,{"$f":"IF(FiCo!B19=\"\",0,IF(FiCo!C19=\"\",0,FiCo!K19&\" / \"&FiCo!L19))","v":0},null,null,{"$f":"IF(FiCo!B19=\"\",0,IF(FiCo!M19=\"\",0,FiCo!M19&\" / \"&FiCo!N19))","v":0},null,null,{"$f":"IF(FiCo!O19=\"Yes\",\"Start at:\"&TEXT(FiCo!P19,\"yyyy/mm/dd\"),\"\")","v":""}]
[null,{"$f":"FiCo!B20","v":0},null,null,{"$f":"IF(FiCo!B20=\"\",0,FiCo!C20)","v":0},null,null,{"$f":"IF(FiCo!B20=\"\",0,FiCo!D20)","v":0},null,{"$f":"IF(AND(FiCo!B20<>\"\",FiCo!S20=\"Linux\"),\"Use \"&FiCo!E20&\" Key to Login in\",FiCo!E20)","v":0},null,null,{"$f":"IF(FiCo!B20=\"\",0,FiCo!F20)","v":0},{"$f":"IF(ISBLANK(FiCo!B20),\"\",IF(FiCo!B20=\"\",0,FiCo!F20)\n&IF(ISBLANK(FiCo!B20),\"\",IF(FiCo!H20=\"Yes\",\"-Q7\",\"-Q1\")))","v":""},null,{"$f":"IF(FiCo!B20=\"\",0,FiCo!I20)","v":0},null,{"$f":"IF(FiCo!B20=\"\",0,FiCo!J20)","v":0},null,{"$f":"IF(FiCo!B20=\"\",0,IF(FiCo!C20=\"\",0,FiCo!K20&\" / \"&FiCo!L20))","v":0},null,null,{"$f":"IF(FiCo!B20=\"\",0,IF(FiCo!M20=\"\",0,FiCo!M20&\" / \"&FiCo!N20))","v":0},null,null,{"$f":"IF(FiCo!O20=\"Yes\",\"Start at:\"&TEXT(FiCo!P20,\"yyyy/mm/dd\"),\"\")","v":""}]
[null,{"$f":"FiCo!B21","v":0},null,null,{"$f":"IF(FiCo!B21=\"\",0,FiCo!C21)","v":0},null,null,{"$f":"IF(FiCo!B21=\"\",0,FiCo!D21)","v":0},null,{"$f":"IF(AND(FiCo!B21<>\"\",FiCo!S21=\"Linux\"),\"Use \"&FiCo!E21&\" Key to Login in\",FiCo!E21)","v":0},null,null,{"$f":"IF(FiCo!B21=\"\",0,FiCo!F21)","v":0},{"$f":"IF(ISBLANK(FiCo!B21),\"\",IF(FiCo!B21=\"\",0,FiCo!F21)\n&IF(ISBLANK(FiCo!B21),\"\",IF(FiCo!H21=\"Yes\",\"-Q7\",\"-Q1\")))","v":""},null,{"$f":"IF(FiCo!B21=\"\",0,FiCo!I21)","v":0},null,{"$f":"IF(FiCo!B21=\"\",0,FiCo!J21)","v":0},null,{"$f":"IF(FiCo!B21=\"\",0,IF(FiCo!C21=\"\",0,FiCo!K21&\" / \"&FiCo!L21))","v":0},null,null,{"$f":"IF(FiCo!B21=\"\",0,IF(FiCo!M21=\"\",0,FiCo!M21&\" / \"&FiCo!N21))","v":0},null,null,{"$f":"IF(FiCo!O21=\"Yes\",\"Start at:\"&TEXT(FiCo!P21,\"yyyy/mm/dd\"),\"\")","v":""}]
[null,{"$f":"FiCo!B22","v":0},null,null,{"$f":"IF(FiCo!B22=\"\",0,FiCo!C22)","v":0},null,null,{"$f":"IF(FiCo!B22=\"\",0,FiCo!D22)","v":0},null,{"$f":"IF(AND(FiCo!B22<>\"\",FiCo!S22=\"Linux\"),\"Use \"&FiCo!E22&\" Key to Login in\",FiCo!E22)","v":0},null,null,{"$f":"IF(FiCo!B22=\"\",0,FiCo!F22)","v":0},{"$f":"IF(ISBLANK(FiCo!B22),\"\",IF(FiCo!B22=\"\",0,FiCo!F22)\n&IF(ISBLANK(FiCo!B22),\"\",IF(FiCo!H22=\"Yes\",\"-Q7\",\"-Q1\")))","v":""},null,{"$f":"IF(FiCo!B22=\"\",0,FiCo!I22)","v":0},null,{"$f":"IF(FiCo!B22=\"\",0,FiCo!J22)","v":0},null,{"$f":"IF(FiCo!B22=\"\",0,IF(FiCo!C22=\"\",0,FiCo!K22&\" / \"&FiCo!L22))","v":0},null,null,{"$f":"IF(FiCo!B22=\"\",0,IF(FiCo!M22=\"\",0,FiCo!M22&\" / \"&FiCo!N22))","v":0},null,null,{"$f":"IF(FiCo!O22=\"Yes\",\"Start at:\"&TEXT(FiCo!P22,\"yyyy/mm/dd\"),\"\")","v":""}]
[null,{"$f":"FiCo!B23","v":0},null,null,{"$f":"IF(FiCo!B23=\"\",0,FiCo!C23)","v":0},null,null,{"$f":"IF(FiCo!B23=\"\",0,FiCo!D23)","v":0},null,{"$f":"IF(AND(FiCo!B23<>\"\",FiCo!S23=\"Linux\"),\"Use \"&FiCo!E23&\" Key to Login in\",FiCo!E23)","v":0},null,null,{"$f":"IF(FiCo!B23=\"\",0,FiCo!F23)","v":0},{"$f":"IF(ISBLANK(FiCo!B23),\"\",IF(FiCo!B23=\"\",0,FiCo!F23)\n&IF(ISBLANK(FiCo!B23),\"\",IF(FiCo!H23=\"Yes\",\"-Q7\",\"-Q1\")))","v":""},null,{"$f":"IF(FiCo!B23=\"\",0,FiCo!I23)","v":0},null,{"$f":"IF(FiCo!B23=\"\",0,FiCo!J23)","v":0},null,{"$f":"IF(FiCo!B23=\"\",0,IF(FiCo!C23=\"\",0,FiCo!K23&\" / \"&FiCo!L23))","v":0},null,null,{"$f":"IF(FiCo!B23=\"\",0,IF(FiCo!M23=\"\",0,FiCo!M23&\" / \"&FiCo!N23))","v":0},null,null,{"$f":"IF(FiCo!O23=\"Yes\",\"Start at:\"&TEXT(FiCo!P23,\"yyyy/mm/dd\"),\"\")","v":""}]
[null,{"$f":"FiCo!B24","v":0},null,null,{"$f":"IF(FiCo!B24=\"\",0,FiCo!C24)","v":0},null,null,{"$f":"IF(FiCo!B24=\"\",0,FiCo!D24)","v":0},null,{"$f":"IF(AND(FiCo!B24<>\"\",FiCo!S24=\"Linux\"),\"Use \"&FiCo!E24&\" Key to Login in\",FiCo!E24)","v":0},null,null,{"$f":"IF(FiCo!B24=\"\",0,FiCo!F24)","v":0},{"$f":"IF(ISBLANK(FiCo!B24),\"\",IF(FiCo!B24=\"\",0,FiCo!F24)\n&IF(ISBLANK(FiCo!B24),\"\",IF(FiCo!H24=\"Yes\",\"-Q7\",\"-Q1\")))","v":""},null,{"$f":"IF(FiCo!B24=\"\",0,FiCo!I24)","v":0},null,{"$f":"IF(FiCo!B24=\"\",0,FiCo!J24)","v":0},null,{"$f":"IF(FiCo!B24=\"\",0,IF(FiCo!C24=\"\",0,FiCo!K24&\" / \"&FiCo!L24))","v":0},null,null,{"$f":"IF(FiCo!B24=\"\",0,IF(FiCo!M24=\"\",0,FiCo!M24&\" / \"&FiCo!N24))","v":0},null,null,{"$f":"IF(FiCo!O24=\"Yes\",\"Start at:\"&TEXT(FiCo!P24,\"yyyy/mm/dd\"),\"\")","v":""}]
[null,{"$f":"FiCo!B25","v":0},null,null,{"$f":"IF(FiCo!B25=\"\",0,FiCo!C25)","v":0},null,null,{"$f":"IF(FiCo!B25=\"\",0,FiCo!D25)","v":0},null,{"$f":"IF(AND(FiCo!B25<>\"\",FiCo!S25=\"Linux\"),\"Use \"&FiCo!E25&\" Key to Login in\",FiCo!E25)","v":0},null,null,{"$f":"IF(FiCo!B25=\"\",0,FiCo!F25)","v":0},{"$f":"IF(ISBLANK(FiCo!B25),\"\",IF(FiCo!B25=\"\",0,FiCo!F25)\n&IF(ISBLANK(FiCo!B25),\"\",IF(FiCo!H25=\"Yes\",\"-Q7\",\"-Q1\")))","v":""},null,{"$f":"IF(FiCo!B25=\"\",0,FiCo!I25)","v":0},null,{"$f":"IF(FiCo!B25=\"\",0,FiCo!J25)","v":0},null,{"$f":"IF(FiCo!B25=\"\",0,IF(FiCo!C25=\"\",0,FiCo!K25&\" / \"&FiCo!L25))","v":0},null,null,{"$f":"IF(FiCo!B25=\"\",0,IF(FiCo!M25=\"\",0,FiCo!M25&\" / \"&FiCo!N25))","v":0},null,null,{"$f":"IF(FiCo!O25=\"Yes\",\"Start at:\"&TEXT(FiCo!P25,\"yyyy/mm/dd\"),\"\")","v":""}]
[null,{"$f":"FiCo!B26","v":0},null,null,{"$f":"IF(FiCo!B26=\"\",0,FiCo!C26)","v":0},null,null,{"$f":"IF(FiCo!B26=\"\",0,FiCo!D26)","v":0},null,{"$f":"IF(AND(FiCo!B26<>\"\",FiCo!S26=\"Linux\"),\"Use \"&FiCo!E26&\" Key to Login in\",FiCo!E26)","v":0},null,null,{"$f":"IF(FiCo!B26=\"\",0,FiCo!F26)","v":0},{"$f":"IF(ISBLANK(FiCo!B26),\"\",IF(FiCo!B26=\"\",0,FiCo!F26)\n&IF(ISBLANK(FiCo!B26),\"\",IF(FiCo!H26=\"Yes\",\"-Q7\",\"-Q1\")))","v":""},null,{"$f":"IF(FiCo!B26=\"\",0,FiCo!I26)","v":0},null,{"$f":"IF(FiCo!B26=\"\",0,FiCo!J26)","v":0},null,{"$f":"IF(FiCo!B26=\"\",0,IF(FiCo!C26=\"\",0,FiCo!K26&\" / \"&FiCo!L26))","v":0},null,null,{"$f":"IF(FiCo!B26=\"\",0,IF(FiCo!M26=\"\",0,FiCo!M26&\" / \"&FiCo!N26))","v":0},null,null,{"$f":"IF(FiCo!O26=\"Yes\",\"Start at:\"&TEXT(FiCo!P26,\"yyyy/mm/dd\"),\"\")","v":""}]
[null,{"$f":"FiCo!B27","v":0},null,null,{"$f":"IF(FiCo!B27=\"\",0,FiCo!C27)","v":0},null,null,{"$f":"IF(FiCo!B27=\"\",0,FiCo!D27)","v":0},null,{"$f":"IF(AND(FiCo!B27<>\"\",FiCo!S27=\"Linux\"),\"Use \"&FiCo!E27&\" Key to Login in\",FiCo!E27)","v":0},null,null,{"$f":"IF(FiCo!B27=\"\",0,FiCo!F27)","v":0},{"$f":"IF(ISBLANK(FiCo!B27),\"\",IF(FiCo!B27=\"\",0,FiCo!F27)\n&IF(ISBLANK(FiCo!B27),\"\",IF(FiCo!H27=\"Yes\",\"-Q7\",\"-Q1\")))","v":""},null,{"$f":"IF(FiCo!B27=\"\",0,FiCo!I27)","v":0},null,{"$f":"IF(FiCo!B27=\"\",0,FiCo!J27)","v":0},null,{"$f":"IF(FiCo!B27=\"\",0,IF(FiCo!C27=\"\",0,FiCo!K27&\" / \"&FiCo!L27))","v":0},null,null,{"$f":"IF(FiCo!B27=\"\",0,IF(FiCo!M27=\"\",0,FiCo!M27&\" / \"&FiCo!N27))","v":0},null,null,{"$f":"IF(FiCo!O27=\"Yes\",\"Start at:\"&TEXT(FiCo!P27,\"yyyy/mm/dd\"),\"\")","v":""}]
[null,{"$f":"FiCo!B28","v":0},null,null,{"$f":"IF(FiCo!B28=\"\",0,FiCo!C28)","v":0},null,null,{"$f":"IF(FiCo!B28=\"\",0,FiCo!D28)","v":0},null,{"$f":"IF(AND(FiCo!B28<>\"\",FiCo!S28=\"Linux\"),\"Use \"&FiCo!E28&\" Key to Login in\",FiCo!E28)","v":0},null,null,{"$f":"IF(FiCo!B28=\"\",0,FiCo!F28)","v":0},{"$f":"IF(ISBLANK(FiCo!B28),\"\",IF(FiCo!B28=\"\",0,FiCo!F28)\n&IF(ISBLANK(FiCo!B28),\"\",IF(FiCo!H28=\"Yes\",\"-Q7\",\"-Q1\")))","v":""},null,{"$f":"IF(FiCo!B28=\"\",0,FiCo!I28)","v":0},null,{"$f":"IF(FiCo!B28=\"\",0,FiCo!J28)","v":0},null,{"$f":"IF(FiCo!B28=\"\",0,IF(FiCo!C28=\"\",0,FiCo!K28&\" / \"&FiCo!L28))","v":0},null,null,{"$f":"IF(FiCo!B28=\"\",0,IF(FiCo!M28=\"\",0,FiCo!M28&\" / \"&FiCo!N28))","v":0},null,null,{"$f":"IF(FiCo!O28=\"Yes\",\"Start at:\"&TEXT(FiCo!P28,\"yyyy/mm/dd\"),\"\")","v":""}]
[null,{"$f":"FiCo!B29","v":0},null,null,{"$f":"IF(FiCo!B29=\"\",0,FiCo!C29)","v":0},null,null,{"$f":"IF(FiCo!B29=\"\",0,FiCo!D29)","v":0},null,{"$f":"IF(AND(FiCo!B29<>\"\",FiCo!S29=\"Linux\"),\"Use \"&FiCo!E29&\" Key to Login in\",FiCo!E29)","v":0},null,null,{"$f":"IF(FiCo!B29=\"\",0,FiCo!F29)","v":0},{"$f":"IF(ISBLANK(FiCo!B29),\"\",IF(FiCo!B29=\"\",0,FiCo!F29)\n&IF(ISBLANK(FiCo!B29),\"\",IF(FiCo!H29=\"Yes\",\"-Q7\",\"-Q1\")))","v":""},null,{"$f":"IF(FiCo!B29=\"\",0,FiCo!I29)","v":0},null,{"$f":"IF(FiCo!B29=\"\",0,FiCo!J29)","v":0},null,{"$f":"IF(FiCo!B29=\"\",0,IF(FiCo!C29=\"\",0,FiCo!K29&\" / \"&FiCo!L29))","v":0},null,null,{"$f":"IF(FiCo!B29=\"\",0,IF(FiCo!M29=\"\",0,FiCo!M29&\" / \"&FiCo!N29))","v":0},null,null,{"$f":"IF(FiCo!O29=\"Yes\",\"Start at:\"&TEXT(FiCo!P29,\"yyyy/mm/dd\"),\"\")","v":""}]
[null,{"$f":"FiCo!B30","v":0},null,null,{"$f":"IF(FiCo!B30=\"\",0,FiCo!C30)","v":0},null,null,{"$f":"IF(FiCo!B30=\"\",0,FiCo!D30)","v":0},null,{"$f":"IF(AND(FiCo!B30<>\"\",FiCo!S30=\"Linux\"),\"Use \"&FiCo!E30&\" Key to Login in\",FiCo!E30)","v":0},null,null,{"$f":"IF(FiCo!B30=\"\",0,FiCo!F30)","v":0},{"$f":"IF(ISBLANK(FiCo!B30),\"\",IF(FiCo!B30=\"\",0,FiCo!F30)\n&IF(ISBLANK(FiCo!B30),\"\",IF(FiCo!H30=\"Yes\",\"-Q7\",\"-Q1\")))","v":""},null,{"$f":"IF(FiCo!B30=\"\",0,FiCo!I30)","v":0},null,{"$f":"IF(FiCo!B30=\"\",0,FiCo!J30)","v":0},null,{"$f":"IF(FiCo!B30=\"\",0,IF(FiCo!C30=\"\",0,FiCo!K30&\" / \"&FiCo!L30))","v":0},null,null,{"$f":"IF(FiCo!B30=\"\",0,IF(FiCo!M30=\"\",0,FiCo!M30&\" / \"&FiCo!N30))","v":0},null,null,{"$f":"IF(FiCo!O30=\"Yes\",\"Start at:\"&TEXT(FiCo!P30,\"yyyy/mm/dd\"),\"\")","v":""}]
[null,{"$f":"FiCo!B31","v":0},null,null,{"$f":"IF(FiCo!B31=\"\",0,FiCo!C31)","v":0},null,null,{"$f":"IF(FiCo!B31=\"\",0,FiCo!D31)","v":0},null,{"$f":"IF(AND(FiCo!B31<>\"\",FiCo!S31=\"Linux\"),\"Use \"&FiCo!E31&\" Key to Login in\",FiCo!E31)","v":0},null,null,{"$f":"IF(FiCo!B31=\"\",0,FiCo!F31)","v":0},{"$f":"IF(ISBLANK(FiCo!B31),\"\",IF(FiCo!B31=\"\",0,FiCo!F31)\n&IF(ISBLANK(FiCo!B31),\"\",IF(FiCo!H31=\"Yes\",\"-Q7\",\"-Q1\")))","v":""},null,{"$f":"IF(FiCo!B31=\"\",0,FiCo!I31)","v":0},null,{"$f":"IF(FiCo!B31=\"\",0,FiCo!J31)","v":0},null,{"$f":"IF(FiCo!B31=\"\",0,IF(FiCo!C31=\"\",0,FiCo!K31&\" / \"&FiCo!L31))","v":0},null,null,{"$f":"IF(FiCo!B31=\"\",0,IF(FiCo!M31=\"\",0,FiCo!M31&\" / \"&FiCo!N31))","v":0},null,null,{"$f":"IF(FiCo!O31=\"Yes\",\"Start at:\"&TEXT(FiCo!P31,\"yyyy/mm/dd\"),\"\")","v":""}]
[null,{"$f":"FiCo!B32","v":0},null,null,{"$f":"IF(FiCo!B32=\"\",0,FiCo!C32)","v":0},null,null,{"$f":"IF(FiCo!B32=\"\",0,FiCo!D32)","v":0},null,{"$f":"IF(AND(FiCo!B32<>\"\",FiCo!S32=\"Linux\"),\"Use \"&FiCo!E32&\" Key to Login in\",FiCo!E32)","v":0},null,null,{"$f":"IF(FiCo!B32=\"\",0,FiCo!F32)","v":0},{"$f":"IF(ISBLANK(FiCo!B32),\"\",IF(FiCo!B32=\"\",0,FiCo!F32)\n&IF(ISBLANK(FiCo!B32),\"\",IF(FiCo!H32=\"Yes\",\"-Q7\",\"-Q1\")))","v":""},null,{"$f":"IF(FiCo!B32=\"\",0,FiCo!I32)","v":0},null,{"$f":"IF(FiCo!B32=\"\",0,FiCo!J32)","v":0},null,{"$f":"IF(FiCo!B32=\"\",0,IF(FiCo!C32=\"\",0,FiCo!K32&\" / \"&FiCo!L32))","v":0},null,null,{"$f":"IF(FiCo!B32=\"\",0,IF(FiCo!M32=\"\",0,FiCo!M32&\" / \"&FiCo!N32))","v":0},null,null,{"$f":"IF(FiCo!O32=\"Yes\",\"Start at:\"&TEXT(FiCo!P32,\"yyyy/mm/dd\"),\"\")","v":""}]
[null,{"$f":"FiCo!B33","v":0},null,null,{"$f":"IF(FiCo!B33=\"\",0,FiCo!C33)","v":0},null,null,{"$f":"IF(FiCo!B33=\"\",0,FiCo!D33)","v":0},null,{"$f":"IF(AND(FiCo!B33<>\"\",FiCo!S33=\"Linux\"),\"Use \"&FiCo!E33&\" Key to Login in\",FiCo!E33)","v":0},null,null,{"$f":"IF(FiCo!B33=\"\",0,FiCo!F33)","v":0},{"$f":"IF(ISBLANK(FiCo!B33),\"\",IF(FiCo!B33=\"\",0,FiCo!F33)\n&IF(ISBLANK(FiCo!B33),\"\",IF(FiCo!H33=\"Yes\",\"-Q7\",\"-Q1\")))","v":""},null,{"$f":"IF(FiCo!B33=\"\",0,FiCo!I33)","v":0},null,{"$f":"IF(FiCo!B33=\"\",0,FiCo!J33)","v":0},null,{"$f":"IF(FiCo!B33=\"\",0,IF(FiCo!C33=\"\",0,FiCo!K33&\" / \"&FiCo!L33))","v":0},null,null,{"$f":"IF(FiCo!B33=\"\",0,IF(FiCo!M33=\"\",0,FiCo!M33&\" / \"&FiCo!N33))","v":0},null,null,{"$f":"IF(FiCo!O33=\"Yes\",\"Start at:\"&TEXT(FiCo!P33,\"yyyy/mm/dd\"),\"\")","v":""}]
[null,{"$f":"FiCo!B34","v":0},null,null,{"$f":"IF(FiCo!B34=\"\",0,FiCo!C34)","v":0},null,null,{"$f":"IF(FiCo!B34=\"\",0,FiCo!D34)","v":0},null,{"$f":"IF(AND(FiCo!B34<>\"\",FiCo!S34=\"Linux\"),\"Use \"&FiCo!E34&\" Key to Login in\",FiCo!E34)","v":0},null,null,{"$f":"IF(FiCo!B34=\"\",0,FiCo!F34)","v":0},{"$f":"IF(ISBLANK(FiCo!B34),\"\",IF(FiCo!B34=\"\",0,FiCo!F34)\n&IF(ISBLANK(FiCo!B34),\"\",IF(FiCo!H34=\"Yes\",\"-Q7\",\"-Q1\")))","v":""},null,{"$f":"IF(FiCo!B34=\"\",0,FiCo!I34)","v":0},null,{"$f":"IF(FiCo!B34=\"\",0,FiCo!J34)","v":0},null,{"$f":"IF(FiCo!B34=\"\",0,IF(FiCo!C34=\"\",0,FiCo!K34&\" / \"&FiCo!L34))","v":0},null,null,{"$f":"IF(FiCo!B34=\"\",0,IF(FiCo!M34=\"\",0,FiCo!M34&\" / \"&FiCo!N34))","v":0},null,null,{"$f":"IF(FiCo!O34=\"Yes\",\"Start at:\"&TEXT(FiCo!P34,\"yyyy/mm/dd\"),\"\")","v":""}]
[null,{"$f":"FiCo!B35","v":0},null,null,{"$f":"IF(FiCo!B35=\"\",0,FiCo!C35)","v":0},null,null,{"$f":"IF(FiCo!B35=\"\",0,FiCo!D35)","v":0},null,{"$f":"IF(AND(FiCo!B35<>\"\",FiCo!S35=\"Linux\"),\"Use \"&FiCo!E35&\" Key to Login in\",FiCo!E35)","v":0},null,null,{"$f":"IF(FiCo!B35=\"\",0,FiCo!F35)","v":0},{"$f":"IF(ISBLANK(FiCo!B35),\"\",IF(FiCo!B35=\"\",0,FiCo!F35)\n&IF(ISBLANK(FiCo!B35),\"\",IF(FiCo!H35=\"Yes\",\"-Q7\",\"-Q1\")))","v":""},null,{"$f":"IF(FiCo!B35=\"\",0,FiCo!I35)","v":0},null,{"$f":"IF(FiCo!B35=\"\",0,FiCo!J35)","v":0},null,{"$f":"IF(FiCo!B35=\"\",0,IF(FiCo!C35=\"\",0,FiCo!K35&\" / \"&FiCo!L35))","v":0},null,null,{"$f":"IF(FiCo!B35=\"\",0,IF(FiCo!M35=\"\",0,FiCo!M35&\" / \"&FiCo!N35))","v":0},null,null,{"$f":"IF(FiCo!O35=\"Yes\",\"Start at:\"&TEXT(FiCo!P35,\"yyyy/mm/dd\"),\"\")","v":""}]
[null,{"$f":"FiCo!B36","v":0},null,null,{"$f":"IF(FiCo!B36=\"\",0,FiCo!C36)","v":0},null,null,{"$f":"IF(FiCo!B36=\"\",0,FiCo!D36)","v":0},null,{"$f":"IF(AND(FiCo!B36<>\"\",FiCo!S36=\"Linux\"),\"Use \"&FiCo!E36&\" Key to Login in\",FiCo!E36)","v":0},null,null,{"$f":"IF(FiCo!B36=\"\",0,FiCo!F36)","v":0},{"$f":"IF(ISBLANK(FiCo!B36),\"\",IF(FiCo!B36=\"\",0,FiCo!F36)\n&IF(ISBLANK(FiCo!B36),\"\",IF(FiCo!H36=\"Yes\",\"-Q7\",\"-Q1\")))","v":""},null,{"$f":"IF(FiCo!B36=\"\",0,FiCo!I36)","v":0},null,{"$f":"IF(FiCo!B36=\"\",0,FiCo!J36)","v":0},null,{"$f":"IF(FiCo!B36=\"\",0,IF(FiCo!C36=\"\",0,FiCo!K36&\" / \"&FiCo!L36))","v":0},null,null,{"$f":"IF(FiCo!B36=\"\",0,IF(FiCo!M36=\"\",0,FiCo!M36&\" / \"&FiCo!N36))","v":0},null,null,{"$f":"IF(FiCo!O36=\"Yes\",\"Start at:\"&TEXT(FiCo!P36,\"yyyy/mm/dd\"),\"\")","v":""}]
[null,{"$f":"FiCo!B37","v":0},null,null,{"$f":"IF(FiCo!B37=\"\",0,FiCo!C37)","v":0},null,null,{"$f":"IF(FiCo!B37=\"\",0,FiCo!D37)","v":0},null,{"$f":"IF(AND(FiCo!B37<>\"\",FiCo!S37=\"Linux\"),\"Use \"&FiCo!E37&\" Key to Login in\",FiCo!E37)","v":0},null,null,{"$f":"IF(FiCo!B37=\"\",0,FiCo!F37)","v":0},{"$f":"IF(ISBLANK(FiCo!B37),\"\",IF(FiCo!B37=\"\",0,FiCo!F37)\n&IF(ISBLANK(FiCo!B37),\"\",IF(FiCo!H37=\"Yes\",\"-Q7\",\"-Q1\")))","v":""},null,{"$f":"IF(FiCo!B37=\"\",0,FiCo!I37)","v":0},null,{"$f":"IF(FiCo!B37=\"\",0,FiCo!J37)","v":0},null,{"$f":"IF(FiCo!B37=\"\",0,IF(FiCo!C37=\"\",0,FiCo!K37&\" / \"&FiCo!L37))","v":0},null,null,{"$f":"IF(FiCo!B37=\"\",0,IF(FiCo!M37=\"\",0,FiCo!M37&\" / \"&FiCo!N37))","v":0},null,null,{"$f":"IF(FiCo!O37=\"Yes\",\"Start at:\"&TEXT(FiCo!P37,\"yyyy/mm/dd\"),\"\")","v":""}]
[null,{"$f":"FiCo!B38","v":0},null,null,{"$f":"IF(FiCo!B38=\"\",0,FiCo!C38)","v":0},null,null,{"$f":"IF(FiCo!B38=\"\",0,FiCo!D38)","v":0},null,{"$f":"IF(AND(FiCo!B38<>\"\",FiCo!S38=\"Linux\"),\"Use \"&FiCo!E38&\" Key to Login in\",FiCo!E38)","v":0},null,null,{"$f":"IF(FiCo!B38=\"\",0,FiCo!F38)","v":0},{"$f":"IF(ISBLANK(FiCo!B38),\"\",IF(FiCo!B38=\"\",0,FiCo!F38)\n&IF(ISBLANK(FiCo!B38),\"\",IF(FiCo!H38=\"Yes\",\"-Q7\",\"-Q1\")))","v":""},null,{"$f":"IF(FiCo!B38=\"\",0,FiCo!I38)","v":0},null,{"$f":"IF(FiCo!B38=\"\",0,FiCo!J38)","v":0},null,{"$f":"IF(FiCo!B38=\"\",0,IF(FiCo!C38=\"\",0,FiCo!K38&\" / \"&FiCo!L38))","v":0},null,null,{"$f":"IF(FiCo!B38=\"\",0,IF(FiCo!M38=\"\",0,FiCo!M38&\" / \"&FiCo!N38))","v":0},null,null,{"$f":"IF(FiCo!O38=\"Yes\",\"Start at:\"&TEXT(FiCo!P38,\"yyyy/mm/dd\"),\"\")","v":""}]
[null,{"$f":"FiCo!B39","v":0},null,null,{"$f":"IF(FiCo!B39=\"\",0,FiCo!C39)","v":0},null,null,{"$f":"IF(FiCo!B39=\"\",0,FiCo!D39)","v":0},null,{"$f":"IF(AND(FiCo!B39<>\"\",FiCo!S39=\"Linux\"),\"Use \"&FiCo!E39&\" Key to Login in\",FiCo!E39)","v":0},null,null,{"$f":"IF(FiCo!B39=\"\",0,FiCo!F39)","v":0},{"$f":"IF(ISBLANK(FiCo!B39),\"\",IF(FiCo!B39=\"\",0,FiCo!F39)\n&IF(ISBLANK(FiCo!B39),\"\",IF(FiCo!H39=\"Yes\",\"-Q7\",\"-Q1\")))","v":""},null,{"$f":"IF(FiCo!B39=\"\",0,FiCo!I39)","v":0},null,{"$f":"IF(FiCo!B39=\"\",0,FiCo!J39)","v":0},null,{"$f":"IF(FiCo!B39=\"\",0,IF(FiCo!C39=\"\",0,FiCo!K39&\" / \"&FiCo!L39))","v":0},null,null,{"$f":"IF(FiCo!B39=\"\",0,IF(FiCo!M39=\"\",0,FiCo!M39&\" / \"&FiCo!N39))","v":0},null,null,{"$f":"IF(FiCo!O39=\"Yes\",\"Start at:\"&TEXT(FiCo!P39,\"yyyy/mm/dd\"),\"\")","v":""}]
[null,{"$f":"FiCo!B40","v":0},null,null,{"$f":"IF(FiCo!B40=\"\",0,FiCo!C40)","v":0},null,null,{"$f":"IF(FiCo!B40=\"\",0,FiCo!D40)","v":0},null,{"$f":"IF(AND(FiCo!B40<>\"\",FiCo!S40=\"Linux\"),\"Use \"&FiCo!E40&\" Key to Login in\",FiCo!E40)","v":0},null,null,{"$f":"IF(FiCo!B40=\"\",0,FiCo!F40)","v":0},{"$f":"IF(ISBLANK(FiCo!B40),\"\",IF(FiCo!B40=\"\",0,FiCo!F40)\n&IF(ISBLANK(FiCo!B40),\"\",IF(FiCo!H40=\"Yes\",\"-Q7\",\"-Q1\")))","v":""},null,{"$f":"IF(FiCo!B40=\"\",0,FiCo!I40)","v":0},null,{"$f":"IF(FiCo!B40=\"\",0,FiCo!J40)","v":0},null,{"$f":"IF(FiCo!B40=\"\",0,IF(FiCo!C40=\"\",0,FiCo!K40&\" / \"&FiCo!L40))","v":0},null,null,{"$f":"IF(FiCo!B40=\"\",0,IF(FiCo!M40=\"\",0,FiCo!M40&\" / \"&FiCo!N40))","v":0},null,null,{"$f":"IF(FiCo!O40=\"Yes\",\"Start at:\"&TEXT(FiCo!P40,\"yyyy/mm/dd\"),\"\")","v":""}]
[null,{"$f":"FiCo!B41","v":0},null,null,{"$f":"IF(FiCo!B41=\"\",0,FiCo!C41)","v":0},null,null,{"$f":"IF(FiCo!B41=\"\",0,FiCo!D41)","v":0},null,{"$f":"IF(AND(FiCo!B41<>\"\",FiCo!S41=\"Linux\"),\"Use \"&FiCo!E41&\" Key to Login in\",FiCo!E41)","v":0},null,null,{"$f":"IF(FiCo!B41=\"\",0,FiCo!F41)","v":0},{"$f":"IF(ISBLANK(FiCo!B41),\"\",IF(FiCo!B41=\"\",0,FiCo!F41)\n&IF(ISBLANK(FiCo!B41),\"\",IF(FiCo!H41=\"Yes\",\"-Q7\",\"-Q1\")))","v":""},null,{"$f":"IF(FiCo!B41=\"\",0,FiCo!I41)","v":0},null,{"$f":"IF(FiCo!B41=\"\",0,FiCo!J41)","v":0},null,{"$f":"IF(FiCo!B41=\"\",0,IF(FiCo!C41=\"\",0,FiCo!K41&\" / \"&FiCo!L41))","v":0},null,null,{"$f":"IF(FiCo!B41=\"\",0,IF(FiCo!M41=\"\",0,FiCo!M41&\" / \"&FiCo!N41))","v":0},null,null,{"$f":"IF(FiCo!O41=\"Yes\",\"Start at:\"&TEXT(FiCo!P41,\"yyyy/mm/dd\"),\"\")","v":""}]
[null,{"$f":"FiCo!B42","v":0},null,null,{"$f":"IF(FiCo!B42=\"\",0,FiCo!C42)","v":0},null,null,{"$f":"IF(FiCo!B42=\"\",0,FiCo!D42)","v":0},null,{"$f":"IF(AND(FiCo!B42<>\"\",FiCo!S42=\"Linux\"),\"Use \"&FiCo!E42&\" Key to Login in\",FiCo!E42)","v":0},null,null,{"$f":"IF(FiCo!B42=\"\",0,FiCo!F42)","v":0},{"$f":"IF(ISBLANK(FiCo!B42),\"\",IF(FiCo!B42=\"\",0,FiCo!F42)\n&IF(ISBLANK(FiCo!B42),\"\",IF(FiCo!H42=\"Yes\",\"-Q7\",\"-Q1\")))","v":""},null,{"$f":"IF(FiCo!B42=\"\",0,FiCo!I42)","v":0},null,{"$f":"IF(FiCo!B42=\"\",0,FiCo!J42)","v":0},null,{"$f":"IF(FiCo!B42=\"\",0,IF(FiCo!C42=\"\",0,FiCo!K42&\" / \"&FiCo!L42))","v":0},null,null,{"$f":"IF(FiCo!B42=\"\",0,IF(FiCo!M42=\"\",0,FiCo!M42&\" / \"&FiCo!N42))","v":0},null,null,{"$f":"IF(FiCo!O42=\"Yes\",\"Start at:\"&TEXT(FiCo!P42,\"yyyy/mm/dd\"),\"\")","v":""}]
[null,{"$f":"FiCo!B43","v":0},null,null,{"$f":"IF(FiCo!B43=\"\",0,FiCo!C43)","v":0},null,null,{"$f":"IF(FiCo!B43=\"\",0,FiCo!D43)","v":0},null,{"$f":"IF(AND(FiCo!B43<>\"\",FiCo!S43=\"Linux\"),\"Use \"&FiCo!E43&\" Key to Login in\",FiCo!E43)","v":0},null,null,{"$f":"IF(FiCo!B43=\"\",0,FiCo!F43)","v":0},{"$f":"IF(ISBLANK(FiCo!B43),\"\",IF(FiCo!B43=\"\",0,FiCo!F43)\n&IF(ISBLANK(FiCo!B43),\"\",IF(FiCo!H43=\"Yes\",\"-Q7\",\"-Q1\")))","v":""},null,{"$f":"IF(FiCo!B43=\"\",0,FiCo!I43)","v":0},null,{"$f":"IF(FiCo!B43=\"\",0,FiCo!J43)","v":0},null,{"$f":"IF(FiCo!B43=\"\",0,IF(FiCo!C43=\"\",0,FiCo!K43&\" / \"&FiCo!L43))","v":0},null,null,{"$f":"IF(FiCo!B43=\"\",0,IF(FiCo!M43=\"\",0,FiCo!M43&\" / \"&FiCo!N43))","v":0},null,null,{"$f":"IF(FiCo!O43=\"Yes\",\"Start at:\"&TEXT(FiCo!P43,\"yyyy/mm/dd\"),\"\")","v":""}]
[null,{"$f":"FiCo!B44","v":0},null,null,{"$f":"IF(FiCo!B44=\"\",0,FiCo!C44)","v":0},null,null,{"$f":"IF(FiCo!B44=\"\",0,FiCo!D44)","v":0},null,{"$f":"IF(AND(FiCo!B44<>\"\",FiCo!S44=\"Linux\"),\"Use \"&FiCo!E44&\" Key to Login in\",FiCo!E44)","v":0},null,null,{"$f":"IF(FiCo!B44=\"\",0,FiCo!F44)","v":0},{"$f":"IF(ISBLANK(FiCo!B44),\"\",IF(FiCo!B44=\"\",0,FiCo!F44)\n&IF(ISBLANK(FiCo!B44),\"\",IF(FiCo!H44=\"Yes\",\"-Q7\",\"-Q1\")))","v":""},null,{"$f":"IF(FiCo!B44=\"\",0,FiCo!I44)","v":0},null,{"$f":"IF(FiCo!B44=\"\",0,FiCo!J44)","v":0},null,{"$f":"IF(FiCo!B44=\"\",0,IF(FiCo!C44=\"\",0,FiCo!K44&\" / \"&FiCo!L44))","v":0},null,null,{"$f":"IF(FiCo!B44=\"\",0,IF(FiCo!M44=\"\",0,FiCo!M44&\" / \"&FiCo!N44))","v":0},null,null,{"$f":"IF(FiCo!O44=\"Yes\",\"Start at:\"&TEXT(FiCo!P44,\"yyyy/mm/dd\"),\"\")","v":""}]
[null,{"$f":"FiCo!B45","v":0},null,null,{"$f":"IF(FiCo!B45=\"\",0,FiCo!C45)","v":0},null,null,{"$f":"IF(FiCo!B45=\"\",0,FiCo!D45)","v":0},null,{"$f":"IF(AND(FiCo!B45<>\"\",FiCo!S45=\"Linux\"),\"Use \"&FiCo!E45&\" Key to Login in\",FiCo!E45)","v":0},null,null,{"$f":"IF(FiCo!B45=\"\",0,FiCo!F45)","v":0},{"$f":"IF(ISBLANK(FiCo!B45),\"\",IF(FiCo!B45=\"\",0,FiCo!F45)\n&IF(ISBLANK(FiCo!B45),\"\",IF(FiCo!H45=\"Yes\",\"-Q7\",\"-Q1\")))","v":""},null,{"$f":"IF(FiCo!B45=\"\",0,FiCo!I45)","v":0},null,{"$f":"IF(FiCo!B45=\"\",0,FiCo!J45)","v":0},null,{"$f":"IF(FiCo!B45=\"\",0,IF(FiCo!C45=\"\",0,FiCo!K45&\" / \"&FiCo!L45))","v":0},null,null,{"$f":"IF(FiCo!B45=\"\",0,IF(FiCo!M45=\"\",0,FiCo!M45&\" / \"&FiCo!N45))","v":0},null,null,{"$f":"IF(FiCo!O45=\"Yes\",\"Start at:\"&TEXT(FiCo!P45,\"yyyy/mm/dd\"),\"\")","v":""}]
[null,{"$f":"FiCo!B46","v":0},null,null,{"$f":"IF(FiCo!B46=\"\",0,FiCo!C46)","v":0},null,null,{"$f":"IF(FiCo!B46=\"\",0,FiCo!D46)","v":0},null,{"$f":"IF(AND(FiCo!B46<>\"\",FiCo!S46=\"Linux\"),\"Use \"&FiCo!E46&\" Key to Login in\",FiCo!E46)","v":0},null,null,{"$f":"IF(FiCo!B46=\"\",0,FiCo!F46)","v":0},{"$f":"IF(ISBLANK(FiCo!B46),\"\",IF(FiCo!B46=\"\",0,FiCo!F46)\n&IF(ISBLANK(FiCo!B46),\"\",IF(FiCo!H46=\"Yes\",\"-Q7\",\"-Q1\")))","v":""},null,{"$f":"IF(FiCo!B46=\"\",0,FiCo!I46)","v":0},null,{"$f":"IF(FiCo!B46=\"\",0,FiCo!J46)","v":0},null,{"$f":"IF(FiCo!B46=\"\",0,IF(FiCo!C46=\"\",0,FiCo!K46&\" / \"&FiCo!L46))","v":0},null,null,{"$f":"IF(FiCo!B46=\"\",0,IF(FiCo!M46=\"\",0,FiCo!M46&\" / \"&FiCo!N46))","v":0},null,null,{"$f":"IF(FiCo!O46=\"Yes\",\"Start at:\"&TEXT(FiCo!P46,\"yyyy/mm/dd\"),\"\")","v":""}]
[null,{"$f":"FiCo!B47","v":0},null,null,{"$f":"IF(FiCo!B47=\"\",0,FiCo!C47)","v":0},null,null,{"$f":"IF(FiCo!B47=\"\",0,FiCo!D47)","v":0},null,{"$f":"IF(AND(FiCo!B47<>\"\",FiCo!S47=\"Linux\"),\"Use \"&FiCo!E47&\" Key to Login in\",FiCo!E47)","v":0},null,null,{"$f":"IF(FiCo!B47=\"\",0,FiCo!F47)","v":0},{"$f":"IF(ISBLANK(FiCo!B47),\"\",IF(FiCo!B47=\"\",0,FiCo!F47)\n&IF(ISBLANK(FiCo!B47),\"\",IF(FiCo!H47=\"Yes\",\"-Q7\",\"-Q1\")))","v":""},null,{"$f":"IF(FiCo!B47=\"\",0,FiCo!I47)","v":0},null,{"$f":"IF(FiCo!B47=\"\",0,FiCo!J47)","v":0},null,{"$f":"IF(FiCo!B47=\"\",0,IF(FiCo!C47=\"\",0,FiCo!K47&\" / \"&FiCo!L47))","v":0},null,null,{"$f":"IF(FiCo!B47=\"\",0,IF(FiCo!M47=\"\",0,FiCo!M47&\" / \"&FiCo!N47))","v":0},null,null,{"$f":"IF(FiCo!O47=\"Yes\",\"Start at:\"&TEXT(FiCo!P47,\"yyyy/mm/dd\"),\"\")","v":""}]
[null,{"$f":"FiCo!B48","v":0},null,null,{"$f":"IF(FiCo!B48=\"\",0,FiCo!C48)","v":0},null,null,{"$f":"IF(FiCo!B48=\"\",0,FiCo!D48)","v":0},null,{"$f":"IF(AND(FiCo!B48<>\"\",FiCo!S48=\"Linux\"),\"Use \"&FiCo!E48&\" Key to Login in\",FiCo!E48)","v":0},null,null,{"$f":"IF(FiCo!B48=\"\",0,FiCo!F48)","v":0},{"$f":"IF(ISBLANK(FiCo!B48),\"\",IF(FiCo!B48=\"\",0,FiCo!F48)\n&IF(ISBLANK(FiCo!B48),\"\",IF(FiCo!H48=\"Yes\",\"-Q7\",\"-Q1\")))","v":""},null,{"$f":"IF(FiCo!B48=\"\",0,FiCo!I48)","v":0},null,{"$f":"IF(FiCo!B48=\"\",0,FiCo!J48)","v":0},null,{"$f":"IF(FiCo!B48=\"\",0,IF(FiCo!C48=\"\",0,FiCo!K48&\" / \"&FiCo!L48))","v":0},null,null,{"$f":"IF(FiCo!B48=\"\",0,IF(FiCo!M48=\"\",0,FiCo!M48&\" / \"&FiCo!N48))","v":0},null,null,{"$f":"IF(FiCo!O48=\"Yes\",\"Start at:\"&TEXT(FiCo!P48,\"yyyy/mm/dd\"),\"\")","v":""}]
[null,{"$f":"FiCo!B49","v":0},null,null,{"$f":"IF(FiCo!B49=\"\",0,FiCo!C49)","v":0},null,null,{"$f":"IF(FiCo!B49=\"\",0,FiCo!D49)","v":0},null,{"$f":"IF(AND(FiCo!B49<>\"\",FiCo!S49=\"Linux\"),\"Use \"&FiCo!E49&\" Key to Login in\",FiCo!E49)","v":0},null,null,{"$f":"IF(FiCo!B49=\"\",0,FiCo!F49)","v":0},{"$f":"IF(ISBLANK(FiCo!B49),\"\",IF(FiCo!B49=\"\",0,FiCo!F49)\n&IF(ISBLANK(FiCo!B49),\"\",IF(FiCo!H49=\"Yes\",\"-Q7\",\"-Q1\")))","v":""},null,{"$f":"IF(FiCo!B49=\"\",0,FiCo!I49)","v":0},null,{"$f":"IF(FiCo!B49=\"\",0,FiCo!J49)","v":0},null,{"$f":"IF(FiCo!B49=\"\",0,IF(FiCo!C49=\"\",0,FiCo!K49&\" / \"&FiCo!L49))","v":0},null,null,{"$f":"IF(FiCo!B49=\"\",0,IF(FiCo!M49=\"\",0,FiCo!M49&\" / \"&FiCo!N49))","v":0},null,null,{"$f":"IF(FiCo!O49=\"Yes\",\"Start at:\"&TEXT(FiCo!P49,\"yyyy/mm/dd\"),\"\")","v":""}]
[null,{"$f":"FiCo!B50","v":0},null,null,{"$f":"IF(FiCo!B50=\"\",0,FiCo!C50)","v":0},null,null,{"$f":"IF(FiCo!B50=\"\",0,FiCo!D50)","v":0},null,{"$f":"IF(AND(FiCo!B50<>\"\",FiCo!S50=\"Linux\"),\"Use \"&FiCo!E50&\" Key to Login in\",FiCo!E50)","v":0},null,null,{"$f":"IF(FiCo!B50=\"\",0,FiCo!F50)","v":0},{"$f":"IF(ISBLANK(FiCo!B50),\"\",IF(FiCo!B50=\"\",0,FiCo!F50)\n&IF(ISBLANK(FiCo!B50),\"\",IF(FiCo!H50=\"Yes\",\"-Q7\",\"-Q1\")))","v":""},null,{"$f":"IF(FiCo!B50=\"\",0,FiCo!I50)","v":0},null,{"$f":"IF(FiCo!B50=\"\",0,FiCo!J50)","v":0},null,{"$f":"IF(FiCo!B50=\"\",0,IF(FiCo!C50=\"\",0,FiCo!K50&\" / \"&FiCo!L50))","v":0},null,null,{"$f":"IF(FiCo!B50=\"\",0,IF(FiCo!M50=\"\",0,FiCo!M50&\" / \"&FiCo!N50))","v":0},null,null,{"$f":"IF(FiCo!O50=\"Yes\",\"Start at:\"&TEXT(FiCo!P50,\"yyyy/mm/dd\"),\"\")","v":""}]
[null,{"$f":"FiCo!B51","v":0},null,null,{"$f":"IF(FiCo!B51=\"\",0,FiCo!C51)","v":0},null,null,{"$f":"IF(FiCo!B51=\"\",0,FiCo!D51)","v":0},null,{"$f":"IF(AND(FiCo!B51<>\"\",FiCo!S51=\"Linux\"),\"Use \"&FiCo!E51&\" Key to Login in\",FiCo!E51)","v":0},null,null,{"$f":"IF(FiCo!B51=\"\",0,FiCo!F51)","v":0},{"$f":"IF(ISBLANK(FiCo!B51),\"\",IF(FiCo!B51=\"\",0,FiCo!F51)\n&IF(ISBLANK(FiCo!B51),\"\",IF(FiCo!H51=\"Yes\",\"-Q7\",\"-Q1\")))","v":""},null,{"$f":"IF(FiCo!B51=\"\",0,FiCo!I51)","v":0},null,{"$f":"IF(FiCo!B51=\"\",0,FiCo!J51)","v":0},null,{"$f":"IF(FiCo!B51=\"\",0,IF(FiCo!C51=\"\",0,FiCo!K51&\" / \"&FiCo!L51))","v":0},null,null,{"$f":"IF(FiCo!B51=\"\",0,IF(FiCo!M51=\"\",0,FiCo!M51&\" / \"&FiCo!N51))","v":0},null,null,{"$f":"IF(FiCo!O51=\"Yes\",\"Start at:\"&TEXT(FiCo!P51,\"yyyy/mm/dd\"),\"\")","v":""}]
[null,{"$f":"FiCo!B52","v":0},null,null,{"$f":"IF(FiCo!B52=\"\",0,FiCo!C52)","v":0},null,null,{"$f":"IF(FiCo!B52=\"\",0,FiCo!D52)","v":0},null,{"$f":"IF(AND(FiCo!B52<>\"\",FiCo!S52=\"Linux\"),\"Use \"&FiCo!E52&\" Key to Login in\",FiCo!E52)","v":0},null,null,{"$f":"IF(FiCo!B52=\"\",0,FiCo!F52)","v":0},{"$f":"IF(ISBLANK(FiCo!B52),\"\",IF(FiCo!B52=\"\",0,FiCo!F52)\n&IF(ISBLANK(FiCo!B52),\"\",IF(FiCo!H52=\"Yes\",\"-Q7\",\"-Q1\")))","v":""},null,{"$f":"IF(FiCo!B52=\"\",0,FiCo!I52)","v":0},null,{"$f":"IF(FiCo!B52=\"\",0,FiCo!J52)","v":0},null,{"$f":"IF(FiCo!B52=\"\",0,IF(FiCo!C52=\"\",0,FiCo!K52&\" / \"&FiCo!L52))","v":0},null,null,{"$f":"IF(FiCo!B52=\"\",0,IF(FiCo!M52=\"\",0,FiCo!M52&\" / \"&FiCo!N52))","v":0},null,null,{"$f":"IF(FiCo!O52=\"Yes\",\"Start at:\"&TEXT(FiCo!P52,\"yyyy/mm/dd\"),\"\")","v":""}]
[null,{"$f":"FiCo!B53","v":0},null,null,{"$f":"IF(FiCo!B53=\"\",0,FiCo!C53)","v":0},null,null,{"$f":"IF(FiCo!B53=\"\",0,FiCo!D53)","v":0},null,{"$f":"IF(AND(FiCo!B53<>\"\",FiCo!S53=\"Linux\"),\"Use \"&FiCo!E53&\" Key to Login in\",FiCo!E53)","v":0},null,null,{"$f":"IF(FiCo!B53=\"\",0,FiCo!F53)","v":0},{"$f":"IF(ISBLANK(FiCo!B53),\"\",IF(FiCo!B53=\"\",0,FiCo!F53)\n&IF(ISBLANK(FiCo!B53),\"\",IF(FiCo!H53=\"Yes\",\"-Q7\",\"-Q1\")))","v":""},null,{"$f":"IF(FiCo!B53=\"\",0,FiCo!I53)","v":0},null,{"$f":"IF(FiCo!B53=\"\",0,FiCo!J53)","v":0},null,{"$f":"IF(FiCo!B53=\"\",0,IF(FiCo!C53=\"\",0,FiCo!K53&\" / \"&FiCo!L53))","v":0},null,null,{"$f":"IF(FiCo!B53=\"\",0,IF(FiCo!M53=\"\",0,FiCo!M53&\" / \"&FiCo!N53))","v":0},null,null,{"$f":"IF(FiCo!O53=\"Yes\",\"Start at:\"&TEXT(FiCo!P53,\"yyyy/mm/dd\"),\"\")","v":""}]
[]
[]
[null,"    LBS 負載平衡",null,null,{"$f":"IF(SUM(COUNTBLANK(LBS!B5:B9))>4,\"未開通\",\"已開通\")","v":"未開通"}]
[null,"LBS Name",null,"Listerner Protocol",null,"Method",null,null,"Session Persistence Method"," Pool Member",null,null,null,"LBS VIP",null,"Public IP/CNCS IP"]
[null,{"$f":"LBS!B5","v":0},null,{"$f":"IF(LBS!$B$5=\"\",\"\",LBS!C5&IF(ISBLANK(LBS!D5),\"\",\" / \")&LBS!D5)","v":""},null,{"$f":"IF(LBS!$B$5=\"\",\"\",LBS!E5)","v":""},null,null,{"$f":"IF(LBS!$B$5=\"\",\"\",LBS!F5)","v":""},{"$f":"IF(LBS!$B$5=\"\",\"\",LBS!G5)","v":""},null,null,null,{"$f":"IF(LBS!B5=\"\",\"\",LBS!I5)","v":""},null,{"$f":"IF(LBS!B5=\"\",\"\",LBS!K5)","v":""}]
[null,null,null,{"$f":"IF(LBS!$B$5=\"\",\"\",LBS!C6&IF(ISBLANK(LBS!D6),\"\",\" / \")&LBS!D6)","v":""},null,{"$f":"IF(LBS!$B$5=\"\",\"\",LBS!E6)","v":""},null,null,{"$f":"IF(LBS!$B$5=\"\",\"\",LBS!F6)","v":""},{"$f":"IF(LBS!$B$5=\"\",\"\",LBS!G6)","v":""}]
[null,null,null,{"$f":"IF(LBS!$B$5=\"\",\"\",LBS!C7&IF(ISBLANK(LBS!D7),\"\",\" / \")&LBS!D7)","v":""},null,{"$f":"IF(LBS!$B$5=\"\",\"\",LBS!E7)","v":""},null,null,{"$f":"IF(LBS!$B$5=\"\",\"\",LBS!F7)","v":""},{"$f":"IF(LBS!$B$5=\"\",\"\",LBS!G7)","v":""}]
[null,{"$f":"LBS!B8","v":0},null,{"$f":"IF(LBS!$B$8=\"\",\"\",LBS!C8&IF(ISBLANK(LBS!D8),\"\",\" / \")&LBS!D8)","v":""},null,{"$f":"IF(LBS!$B$5=\"\",\"\",LBS!E8)","v":""},null,null,{"$f":"IF(LBS!$B$8=\"\",\"\",LBS!F8)","v":""},{"$f":"IF(LBS!$B$5=\"\",\"\",LBS!G8)","v":""},null,null,null,{"$f":"IF(LBS!B8=\"\",\"\",LBS!I8)","v":""},null,{"$f":"IF(LBS!B5=\"\",\"\",LBS!K8)","v":""}]
[null,null,null,{"$f":"IF(LBS!$B$8=\"\",\"\",LBS!C9&IF(ISBLANK(LBS!D9),\"\",\" / \")&LBS!D9)","v":""},null,{"$f":"IF(LBS!$B$5=\"\",\"\",LBS!E9)","v":""},null,null,{"$f":"IF(LBS!$B$8=\"\",\"\",LBS!F9)","v":""},{"$f":"IF(LBS!$B$5=\"\",\"\",LBS!G9)","v":""}]
[null,null,null,{"$f":"IF(LBS!$B$8=\"\",\"\",LBS!C10&IF(ISBLANK(LBS!D10),\"\",\" / \")&LBS!D10)","v":""},null,{"$f":"IF(LBS!$B$5=\"\",\"\",LBS!E10)","v":""},null,null,{"$f":"IF(LBS!$B$8=\"\",\"\",LBS!F10)","v":""},{"$f":"IF(LBS!$B$5=\"\",\"\",LBS!G10)","v":""}]
[null,{"$f":"LBS!B11","v":0},null,{"$f":"IF(LBS!$B$11=\"\",\"\",LBS!C11&IF(ISBLANK(LBS!D11),\"\",\" / \")&LBS!D11)","v":""},null,{"$f":"IF(LBS!$B$5=\"\",\"\",LBS!E11)","v":""},null,null,{"$f":"IF(LBS!$B$11=\"\",\"\",LBS!F11)","v":""},{"$f":"IF(LBS!$B$5=\"\",\"\",LBS!G11)","v":""},null,null,null,{"$f":"IF(LBS!B11=\"\",\"\",LBS!I11)","v":""},null,{"$f":"IF(LBS!D11=\"\",\"\",LBS!K11)","v":""}]
[null,null,null,{"$f":"IF(LBS!$B$11=\"\",\"\",LBS!C12&IF(ISBLANK(LBS!D12),\"\",\" / \")&LBS!D12)","v":""},null,{"$f":"IF(LBS!$B$5=\"\",\"\",LBS!E12)","v":""},null,null,{"$f":"IF(LBS!$B$11=\"\",\"\",LBS!F12)","v":""},{"$f":"IF(LBS!$B$5=\"\",\"\",LBS!G12)","v":""}]
[null,null,null,{"$f":"IF(LBS!$B$11=\"\",\"\",LBS!C13&IF(ISBLANK(LBS!D13),\"\",\" / \")&LBS!D13)","v":""},null,{"$f":"IF(LBS!$B$5=\"\",\"\",LBS!E13)","v":""},null,null,{"$f":"IF(LBS!$B$11=\"\",\"\",LBS!F13)","v":""},{"$f":"IF(LBS!$B$5=\"\",\"\",LBS!G13)","v":""}]
[null,{"$f":"LBS!B14","v":0},null,{"$f":"IF(LBS!$B$14=\"\",\"\",LBS!C14&IF(ISBLANK(LBS!D14),\"\",\" / \")&LBS!D14)","v":""},null,{"$f":"IF(LBS!$B$5=\"\",\"\",LBS!E14)","v":""},null,null,{"$f":"IF(LBS!$B$14=\"\",\"\",LBS!F14)","v":""},{"$f":"IF(LBS!$B$5=\"\",\"\",LBS!G14)","v":""},null,null,null,{"$f":"IF(LBS!B14=\"\",\"\",LBS!I14)","v":""},null,{"$f":"IF(LBS!D14=\"\",\"\",LBS!K14)","v":""}]
[null,null,null,{"$f":"IF(LBS!$B$14=\"\",\"\",LBS!C15&IF(ISBLANK(LBS!D15),\"\",\" / \")&LBS!D15)","v":""},null,{"$f":"IF(LBS!$B$5=\"\",\"\",LBS!E15)","v":""},null,null,{"$f":"IF(LBS!$B$14=\"\",\"\",LBS!F15)","v":""},{"$f":"IF(LBS!$B$5=\"\",\"\",LBS!G15)","v":""}]
[null,null,null,{"$f":"IF(LBS!$B$14=\"\",\"\",LBS!C16&IF(ISBLANK(LBS!D16),\"\",\" / \")&LBS!D16)","v":""},null,{"$f":"IF(LBS!$B$5=\"\",\"\",LBS!E16)","v":""},null,null,{"$f":"IF(LBS!$B$14=\"\",\"\",LBS!F16)","v":""},{"$f":"IF(LBS!$B$5=\"\",\"\",LBS!G16)","v":""}]
[null,{"$f":"LBS!B17","v":0},null,{"$f":"IF(LBS!$B$14=\"\",\"\",LBS!C17&IF(ISBLANK(LBS!D17),\"\",\" / \")&LBS!D17)","v":""},null,{"$f":"IF(LBS!$B$5=\"\",\"\",LBS!E17)","v":""},null,null,{"$f":"IF(LBS!$B$14=\"\",\"\",LBS!F17)","v":""},{"$f":"IF(LBS!$B$5=\"\",\"\",LBS!G17)","v":""},null,null,null,{"$f":"IF(LBS!B17=\"\",\"\",LBS!I17)","v":""},null,{"$f":"IF(LBS!D17=\"\",\"\",LBS!K17)","v":""}]
[null,null,null,{"$f":"IF(LBS!$B$14=\"\",\"\",LBS!C18&IF(ISBLANK(LBS!D18),\"\",\" / \")&LBS!D18)","v":""},null,{"$f":"IF(LBS!$B$5=\"\",\"\",LBS!E18)","v":""},null,null,{"$f":"IF(LBS!$B$14=\"\",\"\",LBS!F18)","v":""},{"$f":"IF(LBS!$B$5=\"\",\"\",LBS!G18)","v":""}]
[null,null,null,{"$f":"IF(LBS!$B$14=\"\",\"\",LBS!C19&IF(ISBLANK(LBS!D19),\"\",\" / \")&LBS!D19)","v":""},null,{"$f":"IF(LBS!$B$5=\"\",\"\",LBS!E19)","v":""},null,null,{"$f":"IF(LBS!$B$14=\"\",\"\",LBS!F19)","v":""},{"$f":"IF(LBS!$B$5=\"\",\"\",LBS!G19)","v":""}]
[]
[null,"        DBS 資料庫服務",null,null,{"$f":"IF(SUM(COUNTBLANK(DBS!B4:B6))>2,\"未開通\",\"已開通\")","v":"未開通"}]
[null,"Instance",null,"DBS version",null,"Flavor",null,"Public IP/CNCS IP",null,"Private IP",null,"DB Data Size",null,null,"DB User",null,"DB Password",null,"Grant Access to DB"]
[null,{"$f":"DBS!B4","v":0},null,{"$f":"IF(DBS!B4=\"\",\"\",DBS!C4)","v":""},null,{"$f":"IF(DBS!B4=\"\",\"\",DBS!E4)","v":""},null,{"$f":"IF(DBS!B4=\"\",\"\",DBS!H4)","v":""},null,{"$f":"IF(DBS!B4=\"\",\"\",DBS!I4)","v":""},null,{"$f":"IF(DBS!B4=\"\",0,IF(DBS!C4=\"\",0,DBS!J4&\" / \"&DBS!K4))","v":0},null,null,{"$f":"IF(DBS!B4=\"\",\"\",DBS!M4)","v":""},null,{"$f":"IF(DBS!B4=\"\",\"\",DBS!N4)","v":""},null,{"$f":"IF(DBS!B4=\"\",\"\",DBS!O4)","v":""}]
[null,{"$f":"DBS!B5","v":0},null,{"$f":"IF(DBS!B5=\"\",\"\",DBS!C5)","v":""},null,{"$f":"IF(DBS!B5=\"\",\"\",DBS!E5)","v":""},null,{"$f":"IF(DBS!B5=\"\",\"\",DBS!H5)","v":""},null,{"$f":"IF(DBS!B5=\"\",\"\",DBS!I5)","v":""},null,{"$f":"IF(DBS!B5=\"\",0,IF(DBS!C5=\"\",0,DBS!J5&\" / \"&DBS!K5))","v":0},null,null,{"$f":"IF(DBS!B5=\"\",\"\",DBS!M5)","v":""},null,{"$f":"IF(DBS!E5=\"\",\"\",DBS!N5)","v":""},null,{"$f":"IF(DBS!G5=\"\",\"\",DBS!O5)","v":""}]
[null,{"$f":"DBS!B6","v":0},null,{"$f":"IF(DBS!B6=\"\",\"\",DBS!C6)","v":""},{"$f":"IF(DBS!B6=\"\",\"\",DBS!E6)","v":""},{"$f":"IF(DBS!B6=\"\",\"\",DBS!E6)","v":""},null,{"$f":"IF(DBS!B6=\"\",\"\",DBS!H6)","v":""},null,{"$f":"IF(DBS!B6=\"\",\"\",DBS!I6)","v":""},null,{"$f":"IF(DBS!B6=\"\",0,IF(DBS!C6=\"\",0,DBS!J6&\" / \"&DBS!K6))","v":0},null,null,{"$f":"IF(DBS!B6=\"\",\"\",DBS!M6)","v":""},null,{"$f":"IF(DBS!E6=\"\",\"\",DBS!N6)","v":""},null,{"$f":"IF(DBS!G6=\"\",\"\",DBS!O6)","v":""}]
[null,{"$f":"DBS!B7","v":0},null,{"$f":"IF(DBS!B7=\"\",\"\",DBS!C7)","v":""},{"$f":"IF(DBS!B7=\"\",\"\",DBS!E7)","v":""},{"$f":"IF(DBS!B7=\"\",\"\",DBS!E7)","v":""},null,{"$f":"IF(DBS!B7=\"\",\"\",DBS!H7)","v":""},null,{"$f":"IF(DBS!B7=\"\",\"\",DBS!I7)","v":""},null,{"$f":"IF(DBS!B7=\"\",0,IF(DBS!C7=\"\",0,DBS!J7&\" / \"&DBS!K7))","v":0},null,null,{"$f":"IF(DBS!B7=\"\",\"\",DBS!M7)","v":""},null,{"$f":"IF(DBS!E7=\"\",\"\",DBS!N7)","v":""},null,{"$f":"IF(DBS!G7=\"\",\"\",DBS!O7)","v":""}]
[]
[null,"     MQS 訊息佇列",null,null,{"$f":"IF(SUM(COUNTBLANK(MQS!B4:B6))>2,\"未開通\",\"已開通\")","v":"未開通"}]
[null,"Instance",null,"MQ Service",null,"Flavor",null,"Service Type",null,null,"Public IP/CNCS IP",null,"Private IP",null,"Data Type"]
[null,{"$f":"MQS!B4","v":0},null,{"$f":"IF(MQS!$B$4=\"\",\"\",MQS!C4)","v":""},null,{"$f":"IF(MQS!B4=\"\",\"\",\"MQS.\"&MQS!E4)","v":""},null,{"$f":"IF(MQS!$B$4=\"\",\"\",MQS!F4)","v":""},null,null,{"$f":"IF(MQS!$B$4=\"\",\"\",MQS!H4)","v":""},null,{"$f":"IF(MQS!$B$4=\"\",\"\",MQS!I4)","v":""},null,{"$f":"IF(MQS!$B$4=\"\",\"\",MQS!J4)","v":""}]
[null,{"$f":"MQS!B5","v":0},null,{"$f":"IF(MQS!$B$5=\"\",\"\",MQS!C5)","v":""},null,{"$f":"IF(MQS!B5=\"\",\"\",\"MQS.\"&MQS!E5)","v":""},null,{"$f":"IF(MQS!$B$5=\"\",\"\",MQS!F5)","v":""},null,null,{"$f":"IF(MQS!$B$5=\"\",\"\",MQS!H5)","v":""},null,{"$f":"IF(MQS!$B$5=\"\",\"\",MQS!I5)","v":""},null,{"$f":"IF(MQS!$B$5=\"\",\"\",MQS!J5)","v":""}]
[null,{"$f":"MQS!B6","v":0},null,{"$f":"IF(MQS!$B$6=\"\",\"\",MQS!C6)","v":""},null,{"$f":"IF(MQS!B6=\"\",\"\",\"MQS.\"&MQS!E6)","v":""},null,{"$f":"IF(MQS!$B$6=\"\",\"\",MQS!F6)","v":""},null,null,{"$f":"IF(MQS!$B$6=\"\",\"\",MQS!H6)","v":""},null,{"$f":"IF(MQS!$B$6=\"\",\"\",MQS!I6)","v":""},null,{"$f":"IF(MQS!$B$6=\"\",\"\",MQS!J6)","v":""}]
[]
[null,{"$f":"IF($E$94=\"未開通\",\"  MQS Instance name：N/A\",\"MQS Instance name：\"&MQS!B4)","v":"  MQS Instance name：N/A"}]
[null,"Floating IP",null,{"$f":"IF(IF(MQS!$B$4=\"\",\"\",MQS!B10)=\"\",\"\",MQS!B10)","v":""}]
[null,"Zookeeper",null,{"$f":"IF(IF(MQS!$B$4=\"\",\"\",MQS!B11)=\"\",\"\",MQS!B11)","v":""}]
[null,"內網資訊",null,{"$f":"IF(IF(MQS!$B$4=\"\",\"\",MQS!B12)=\"\",\"\",MQS!B12)","v":""}]
[null,"外網資訊",null,{"$f":"IF(IF(MQS!$B$4=\"\",\"\",MQS!B13)=\"\",\"\",MQS!B13)","v":""}]
[]
[null,{"$f":"IF($E$94=\"未開通\",\"  MQS Instance name：N/A\",\"MQS Instance name：\"&MQS!B5)","v":"  MQS Instance name：N/A"}]
[null,"Floating IP",null,{"$f":"IF(IF(MQS!$B$5=\"\",\"\",MQS!B16)=\"\",\"\",MQS!B16)","v":""}]
[null,"Zookeeper",null,{"$f":"IF(IF(MQS!$B$5=\"\",\"\",MQS!B17)=\"\",\"\",MQS!B17)","v":""}]
[null,"內網資訊",null,{"$f":"IF(IF(MQS!$B$5=\"\",\"\",MQS!B18)=\"\",\"\",MQS!B18)","v":""}]
[null,"外網資訊",null,{"$f":"IF(IF(MQS!$B$5=\"\",\"\",MQS!B19)=\"\",\"\",MQS!B19)","v":""}]
[]
[null,{"$f":"IF($E$94=\"未開通\",\"  MQS Instance name：N/A\",\"MQS Instance name：\"&MQS!B6)","v":"  MQS Instance name：N/A"}]
[null,"Floating IP",null,{"$f":"IF(IF(MQS!$B$5=\"\",\"\",MQS!B22)=\"\",\"\",MQS!B22)","v":""}]
[null,"Zookeeper",null,{"$f":"IF(IF(MQS!$B$5=\"\",\"\",MQS!B23)=\"\",\"\",MQS!B23)","v":""}]
[null,"內網資訊",null,{"$f":"IF(IF(MQS!$B$5=\"\",\"\",MQS!B24)=\"\",\"\",MQS!B24)","v":""}]
[null,"外網資訊",null,{"$f":"IF(IF(MQS!$B$5=\"\",\"\",MQS!B25)=\"\",\"\",MQS!B25)","v":""}]
[]
[null,"  SFS 檔案系統",null,null,{"$f":"IF(SUM(COUNTBLANK(SFS!B4:B8))>4,\"未開通\",\"已開通\")","v":"未開通"}]
[null,"Instance",null,"Protocol","Network",null,"Fiel System Size",null,"Access IP",null,"Access Level",null,"Remark",null,"Mount Point"]
[null,{"$f":"SFS!B4","v":0},null,{"$f":"SFS!C4","v":0},{"$f":"SFS!D4","v":0},null,{"$f":"SFS!E4","v":0},null,{"$f":"SFS!F4","v":0},null,{"$f":"SFS!G4","v":0},null,{"$f":"SFS!H4","v":0},null,{"$f":"SFS!I4","v":0}]
[null,{"$f":"SFS!B5","v":0},null,{"$f":"SFS!C5","v":0},{"$f":"SFS!D5","v":0},null,{"$f":"SFS!E5","v":0},null,{"$f":"SFS!F5","v":0},null,{"$f":"SFS!G5","v":0},null,{"$f":"SFS!H5","v":0},null,{"$f":"SFS!I5","v":0}]
[null,{"$f":"SFS!B6","v":0},null,{"$f":"SFS!C6","v":0},{"$f":"SFS!D6","v":0},null,{"$f":"SFS!E6","v":0},null,{"$f":"SFS!F6","v":0},null,{"$f":"SFS!G6","v":0},null,{"$f":"SFS!H6","v":0},null,{"$f":"SFS!I6","v":0}]
[null,{"$f":"SFS!B7","v":0},null,{"$f":"SFS!C7","v":0},{"$f":"SFS!D7","v":0},null,{"$f":"SFS!E7","v":0},null,{"$f":"SFS!F7","v":0},null,{"$f":"SFS!G7","v":0},null,{"$f":"SFS!H7","v":0},null,{"$f":"SFS!I7","v":0}]
[null,{"$f":"SFS!B8","v":0},null,{"$f":"SFS!C8","v":0},{"$f":"SFS!D8","v":0},null,{"$f":"SFS!E8","v":0},null,{"$f":"SFS!F8","v":0},null,{"$f":"SFS!G8","v":0},null,{"$f":"SFS!H8","v":0},null,{"$f":"SFS!I8","v":0}]
[]
[]
[null,"  ROS 資源編配",null,null,{"$f":"IF(SUM(COUNTBLANK(ROS!B4:B8))>4,\"未開通\",\"已開通\")","v":"未開通"}]
[null,"Instance",null,"Max size","Load balancer / Port",null,null,"CPU Low threshold",null,"CPU high threshold",null,null,"Cooldown",null,"Period"]
[null,{"$f":"ROS!C4","v":0},null,{"$f":"ROS!D4","v":0},{"$f":"IF(ROS!E4=\"\",0,ROS!E4&\" / \"&ROS!F4)","v":0},null,null,{"$f":"ROS!H4","v":0},null,{"$f":"ROS!I4","v":0},null,null,{"$f":"ROS!J4","v":0},null,{"$f":"ROS!K4","v":0}]
[null,{"$f":"ROS!C5","v":0},null,{"$f":"ROS!D5","v":0},{"$f":"IF(ROS!E5=\"\",0,ROS!E5&\" / \"&ROS!F5)","v":0},null,null,{"$f":"ROS!H5","v":0},null,{"$f":"ROS!I5","v":0},null,null,{"$f":"ROS!J5","v":0},null,{"$f":"ROS!K5","v":0}]
[null,{"$f":"ROS!C6","v":0},null,{"$f":"ROS!D6","v":0},{"$f":"IF(ROS!E6=\"\",0,ROS!E6&\" / \"&ROS!F6)","v":0},null,null,{"$f":"ROS!H6","v":0},null,{"$f":"ROS!I6","v":0},null,null,{"$f":"ROS!J6","v":0},null,{"$f":"ROS!K6","v":0}]
[null,{"$f":"ROS!C7","v":0},null,{"$f":"ROS!D7","v":0},{"$f":"IF(ROS!E7=\"\",0,ROS!E7&\" / \"&ROS!F7)","v":0},null,null,{"$f":"ROS!H7","v":0},null,{"$f":"ROS!I7","v":0},null,null,{"$f":"ROS!J7","v":0},null,{"$f":"ROS!K7","v":0}]
[null,{"$f":"ROS!C8","v":0},null,{"$f":"ROS!D8","v":0},{"$f":"IF(ROS!E8=\"\",0,ROS!E8&\" / \"&ROS!F8)","v":0},null,null,{"$f":"ROS!H8","v":0},null,{"$f":"ROS!I8","v":0},null,null,{"$f":"ROS!J8","v":0},null,{"$f":"ROS!K8","v":0}]
[]
[null,"      容器基礎設施",null,null,{"$f":"IF(SUM(COUNTBLANK(CIS!B4:B8))>4,\"未開通\",\"已開通\")","v":"未開通"},{"$f":"IF(E135=\"已開通\",\"▷ 其他詳細項目請登入FiXo Portal確認\",\"\")","v":""}]
[null,"Cluster Name",null,"Master & Work Flavor",null,null,"Work Node Data Disk",null,null,"K8S Version",null,"API Address"]
[null,{"$f":"CIS!B4","v":0},null,{"$f":"IF(CIS!B4=\"\",\"\",\"Master：\"&CIS!H4&\" (\"&CIS!I4&\")\"&CHAR(10)&\"Work：\"&CIS!C4&\" (\"&CIS!D4&\")\")","v":""},null,null,{"$f":"IF(CIS!B4=\"\",\"\",CIS!E4&\" / \"&CIS!F4&\" (\"&CIS!D4&\")\")","v":""},null,null,{"$f":"IF(CIS!B4=\"\",\"\",CIS!L4)","v":""},null,{"$f":"IF(CIS!B4=\"\",\"\",CIS!P4)","v":""}]
[null,{"$f":"CIS!B5","v":0},null,{"$f":"IF(CIS!B5=\"\",\"\",\"Master：\"&CIS!H5&\" (\"&CIS!I5&\")\"&CHAR(10)&\"Work：\"&CIS!C5&\" (\"&CIS!D5&\")\")","v":""},null,null,{"$f":"IF(CIS!B5=\"\",\"\",CIS!E5&\" / \"&CIS!F5&\" (\"&CIS!D5&\")\")","v":""},null,null,{"$f":"IF(CIS!B5=\"\",\"\",CIS!L5)","v":""},null,{"$f":"IF(CIS!B5=\"\",\"\",CIS!P5)","v":""}]
[null,{"$f":"CIS!B6","v":0},null,{"$f":"IF(CIS!B6=\"\",\"\",\"Master：\"&CIS!H6&\" (\"&CIS!I6&\")\"&CHAR(10)&\"Work：\"&CIS!C6&\" (\"&CIS!D6&\")\")","v":""},null,null,{"$f":"IF(CIS!B6=\"\",\"\",CIS!E6&\" / \"&CIS!F6&\" (\"&CIS!D6&\")\")","v":""},null,null,{"$f":"IF(CIS!B6=\"\",\"\",CIS!L6)","v":""},null,{"$f":"IF(CIS!B6=\"\",\"\",CIS!P6)","v":""}]
[null,{"$f":"CIS!B7","v":0},null,{"$f":"IF(CIS!B7=\"\",\"\",\"Master：\"&CIS!H7&\" (\"&CIS!I7&\")\"&CHAR(10)&\"Work：\"&CIS!C7&\" (\"&CIS!D7&\")\")","v":""},null,null,{"$f":"IF(CIS!B7=\"\",\"\",CIS!E7&\" / \"&CIS!F7&\" (\"&CIS!D7&\")\")","v":""},null,null,{"$f":"IF(CIS!B7=\"\",\"\",CIS!L7)","v":""},null,{"$f":"IF(CIS!B7=\"\",\"\",CIS!P7)","v":""}]
[null,{"$f":"CIS!B8","v":0},null,{"$f":"IF(CIS!B8=\"\",\"\",\"Master：\"&CIS!H8&\" (\"&CIS!I8&\")\"&CHAR(10)&\"Work：\"&CIS!C8&\" (\"&CIS!D8&\")\")","v":""},null,null,{"$f":"IF(CIS!B8=\"\",\"\",CIS!E8&\" / \"&CIS!F8&\" (\"&CIS!D8&\")\")","v":""},null,null,{"$f":"IF(CIS!B8=\"\",\"\",CIS!L8)","v":""},null,{"$f":"IF(CIS!B8=\"\",\"\",CIS!P8)","v":""}]
[]
[null,"      CIS 鏡像倉庫",null,null,{"$f":"IF(SUM(COUNTBLANK(CIS!B14:B18))>4,\"未開通\",\"已開通\")","v":"未開通"}]
[null,"Service Name",null,"Hub Version",null,"Network",null,"Floating IP",null,"Account/Password",null,null,null,"API Address"]
[null,{"$f":"CIS!B14","v":0},null,{"$f":"CIS!E14","v":0},null,{"$f":"CIS!C14","v":0},null,{"$f":"CIS!K14","v":0},null,{"$f":"IF(CIS!B14=\"\",\"\",\"admin / \"&CIS!J14)","v":""},null,null,null,{"$f":"IF(CIS!B14=\"\",\"\",\"https://\"&CIS!M14)","v":""}]
[null,{"$f":"CIS!B15","v":0},null,{"$f":"CIS!E15","v":0},null,{"$f":"CIS!C15","v":0},null,{"$f":"CIS!K15","v":0},null,{"$f":"IF(CIS!B15=\"\",\"\",\"admin / \"&CIS!J15)","v":""},null,null,null,{"$f":"IF(CIS!B15=\"\",\"\",\"https://\"&CIS!M15)","v":""}]
[null,{"$f":"CIS!B16","v":0},null,{"$f":"CIS!E16","v":0},null,{"$f":"CIS!C16","v":0},null,{"$f":"CIS!K16","v":0},null,{"$f":"IF(CIS!B16=\"\",\"\",\"admin / \"&CIS!J16)","v":""}]
[null,{"$f":"CIS!B17","v":0},null,{"$f":"CIS!E17","v":0},null,{"$f":"CIS!C17","v":0},null,{"$f":"CIS!K17","v":0},null,{"$f":"IF(CIS!B17=\"\",\"\",\"admin / \"&CIS!J17)","v":""}]
[null,{"$f":"CIS!B18","v":0},null,{"$f":"CIS!E18","v":0},null,{"$f":"CIS!C18","v":0},null,{"$f":"CIS!K18","v":0},null,{"$f":"IF(CIS!B18=\"\",\"\",\"admin / \"&CIS!J18)","v":""}]
[null,{"$f":"CIS!B18","v":0},null,{"$f":"CIS!C18","v":0},null,{"$f":"CIS!K18","v":0},null,{"$f":"CIS!D18","v":0},null,{"$f":"IF(CIS!B18=\"\",\"\",IF(CIS!E18=\"Enable\",\"https://\"&CIS!N18,\"Dashboard Disable\"))","v":""}]
[null,"    海神平台",null,null,{"$f":"IF(SUM(COUNTBLANK(CIS!B24:B28))>4,\"未開通\",\"已開通\")","v":"未開通"}]
[null,"Service Name",null,"Network",null,"Floating IP",null,"Account/Password",null,null,null,"API Address"]
[null,{"$f":"CIS!B24","v":0},null,{"$f":"CIS!C24","v":0},null,{"$f":"CIS!K24","v":0},null,{"$f":"IF(CIS!B24=\"\",\"\",\"admin / \"&CIS!J24)","v":""},null,null,null,{"$f":"IF(CIS!B24=\"\",\"\",\"https://\"&CIS!M24)","v":""}]
[null,{"$f":"CIS!B25","v":0},null,{"$f":"CIS!C25","v":0},null,{"$f":"CIS!K25","v":0},null,{"$f":"IF(CIS!B25=\"\",\"\",\"admin / \"&CIS!J25)","v":""},null,null,null,{"$f":"IF(CIS!B25=\"\",\"\",\"https://\"&CIS!M25)","v":""}]
[null,{"$f":"CIS!B26","v":0},null,{"$f":"CIS!C26","v":0},null,{"$f":"CIS!K26","v":0},null,{"$f":"IF(CIS!B26=\"\",\"\",\"admin / \"&CIS!J26)","v":""},null,null,null,{"$f":"IF(CIS!B26=\"\",\"\",\"https://\"&CIS!M26)","v":""}]
[null,{"$f":"CIS!B27","v":0},null,{"$f":"CIS!C27","v":0},null,{"$f":"CIS!K27","v":0},null,{"$f":"IF(CIS!B27=\"\",\"\",\"admin / \"&CIS!J27)","v":""},null,null,null,{"$f":"IF(CIS!B27=\"\",\"\",\"https://\"&CIS!M27)","v":""}]
[null,{"$f":"CIS!B28","v":0},null,{"$f":"CIS!C28","v":0},null,{"$f":"CIS!K28","v":0},null,{"$f":"IF(CIS!B28=\"\",\"\",\"admin / \"&CIS!J28)","v":""},null,null,null,{"$f":"IF(CIS!B28=\"\",\"\",\"https://\"&CIS!M28)","v":""}]
[null,null,null,null,null,{"$f":"CIS!K19","v":0}]
[null,"      CMS 憑證服務",null,null,{"$f":"IF(SUM(COUNTBLANK(CMS!B4:B6))>2,\"未開通\",\"已開通\")","v":"未開通"}]
[null,"Service Name",null,"Correspond LBS Service"]
[null,{"$f":"CMS!B4","v":0},null,{"$f":"CMS!E4","v":0}]
[null,{"$f":"CMS!B5","v":0},null,null,{"$f":"CMS!E5","v":0}]
[null,{"$f":"CMS!B6","v":0},null,null,{"$f":"CMS!E6","v":0}]
[]
[null,"      BDS 大數據服務",null,null,{"$f":"IF(SUM(COUNTBLANK(BDS!B4:B8))>4,\"未開通\",\"已開通\")","v":"未開通"}]
[null,"Cluster Name",null,"Flavor",null,"CNCS IP/Public IP",null,"Private IP",null,"Data Disk",null,null,null,"Optional Services",null,null,null,"Remark"]
[null,{"$f":"IF(BDS!B4=\"\",\"\",BDS!B4&CHAR(10)&\"(\"&BDS!D4&\")\")","v":""},null,{"$f":"IF(AND(BDS!B4<>\"\",BDS!K4<>\"\"),\"Master：\"&BDS!J4&\" (\"&BDS!K4&\")\",\"\")\n&IF(AND(BDS!B4<>\"\",BDS!P4<>\"\"),CHAR(10)&\"Code： \"&BDS!O4&\" (\"&BDS!P4&\")\",\"\")\n&IF(AND(BDS!B4<>\"\",BDS!U4<>0),CHAR(10)&\"Task ： \"&BDS!T4&\" (\"&BDS!U4&\")\",\"\")","v":""},null,{"$f":"BDS!F4","v":0},null,{"$f":"IF(AND(BDS!B4<>\"\",BDS!K4<>\"\"),\"Master：\"&CHAR(10)&BDS!G4,\"\")\n&IF(AND(BDS!B4<>\"\",BDS!P4<>\"\"),CHAR(10)&\"Code： \"&CHAR(10)&BDS!H4,\"\")\n&IF(AND(BDS!B4<>\"\",BDS!U4<>0),CHAR(10)&\"Task ： \"&CHAR(10)&BDS!I4,\"\")","v":""},null,{"$f":"IF(BDS!B4=\"\",\"\",\"Master：\"&BDS!L4&\" / \"&BDS!M4&\" GB\"&\" (\"&BDS!N4&\")\"&CHAR(10)&\"Code：\"&BDS!Q4&\" / \"&BDS!R4&\" GB\"&\" (\"&BDS!S4&\")\")","v":""},null,null,null,{"$f":"IF(BDS!B15=\"✓\",BDS!B$12,\"\")&\nIF(BDS!C15=\"✓\",\",\"&BDS!C$12,\"\")&\nIF(BDS!D15=\"✓\",\",\"&BDS!D$12,\"\")&\nIF(BDS!E15=\"✓\",\",\"&BDS!E$12,\"\")&\nIF(BDS!J15=\"✓\",\",\"&BDS!J$12,\"\")&\nIF(BDS!K15=\"✓\",\",\"&BDS!K$12,\"\")&\nIF(BDS!L15=\"✓\",\",\"&BDS!L$12,\"\")&\nIF(BDS!M15=\"✓\",\",\"&BDS!M$12,\"\")&\nIF(BDS!N15=\"✓\",\",\"&BDS!N$12,\"\")&\nIF(BDS!P15=\"✓\",\",\"&BDS!P$12,\"\")&\nIF(BDS!Q15=\"✓\",\",\"&BDS!Q$12,\"\")&\nIF(BDS!R15=\"✓\",\",\"&BDS!R$12,\"\")&\nIF(BDS!S15=\"✓\",\",\"&BDS!S$12,\"\")&\nIF(BDS!T15=\"✓\",\",\"&BDS!T$12,\"\")&\nIF(BDS!B26=\"✓\",\",\"&BDS!B$23,\"\")&\nIF(BDS!C26=\"✓\",\",\"&BDS!C$23,\"\")&\nIF(BDS!D26=\"✓\",\",\"&BDS!D$23,\"\")&\nIF(BDS!E26=\"✓\",\",\"&BDS!E$23,\"\")&\nIF(BDS!J26=\"✓\",\",\"&BDS!J$23,\"\")","v":""},null,null,null,{"$f":"IF(H167=\"\",\"\",\"因服務資訊較多，\"&\"請登入FiXo查詢服務入口\")","v":""}]
[null,{"$f":"IF(BDS!B5=\"\",\"\",BDS!B5&CHAR(10)&\"(\"&BDS!D5&\")\")","v":""},"",{"$f":"IF(AND(BDS!B5<>\"\",BDS!K5<>\"\"),\"Master：\"&BDS!J5&\" (\"&BDS!K5&\")\",\"\")\n&IF(AND(BDS!B5<>\"\",BDS!P5<>\"\"),CHAR(10)&\"Code： \"&BDS!O5&\" (\"&BDS!P5&\")\",\"\")\n&IF(AND(BDS!B5<>\"\",BDS!U5<>0),CHAR(10)&\"Task ： \"&BDS!T5&\" (\"&BDS!U5&\")\",\"\")","v":""},"",{"$f":"BDS!F5","v":0},null,{"$f":"IF(AND(BDS!B5<>\"\",BDS!K5<>\"\"),\"Master：\"&CHAR(10)&BDS!G5,\"\")\n&IF(AND(BDS!B5<>\"\",BDS!P5<>\"\"),CHAR(10)&\"Code： \"&CHAR(10)&BDS!H5,\"\")\n&IF(AND(BDS!B5<>\"\",BDS!U5<>0),CHAR(10)&\"Task ： \"&CHAR(10)&BDS!I5,\"\")","v":""},null,{"$f":"IF(BDS!B5=\"\",\"\",\"Master：\"&BDS!L5&\" / \"&BDS!M5&\" GB\"&\" (\"&BDS!N5&\")\"&CHAR(10)&\"Code：\"&BDS!Q5&\" / \"&BDS!R5&\" GB\"&\" (\"&BDS!S5&\")\")","v":""},null,null,null,{"$f":"IF(BDS!B16=\"✓\",BDS!B$12,\"\")&\nIF(BDS!C16=\"✓\",\",\"&BDS!C$12,\"\")&\nIF(BDS!D16=\"✓\",\",\"&BDS!D$12,\"\")&\nIF(BDS!E16=\"✓\",\",\"&BDS!E$12,\"\")&\nIF(BDS!J16=\"✓\",\",\"&BDS!J$12,\"\")&\nIF(BDS!K16=\"✓\",\",\"&BDS!K$12,\"\")&\nIF(BDS!L16=\"✓\",\",\"&BDS!L$12,\"\")&\nIF(BDS!M16=\"✓\",\",\"&BDS!M$12,\"\")&\nIF(BDS!N16=\"✓\",\",\"&BDS!N$12,\"\")&\nIF(BDS!P16=\"✓\",\",\"&BDS!P$12,\"\")&\nIF(BDS!Q16=\"✓\",\",\"&BDS!Q$12,\"\")&\nIF(BDS!R16=\"✓\",\",\"&BDS!R$12,\"\")&\nIF(BDS!S16=\"✓\",\",\"&BDS!S$12,\"\")&\nIF(BDS!T16=\"✓\",\",\"&BDS!T$12,\"\")&\nIF(BDS!B27=\"✓\",\",\"&BDS!B$23,\"\")&\nIF(BDS!C27=\"✓\",\",\"&BDS!C$23,\"\")&\nIF(BDS!D27=\"✓\",\",\"&BDS!D$23,\"\")&\nIF(BDS!E27=\"✓\",\",\"&BDS!E$23,\"\")&\nIF(BDS!J27=\"✓\",\",\"&BDS!J$23,\"\")","v":""},null,null,null,{"$f":"IF(H168=\"\",\"\",\"因服務資訊較多，\"&\"請登入FiXo查詢服務入口\")","v":""}]
[null,{"$f":"IF(BDS!B6=\"\",\"\",BDS!B6&CHAR(10)&\"(\"&BDS!D6&\")\")","v":""},"",{"$f":"BDS!E6","v":0},"",{"$f":"BDS!F6","v":0},null,{"$f":"IF(AND(BDS!B6<>\"\",BDS!K6<>\"\"),\"Master：\"&CHAR(10)&BDS!G6,\"\")\n&IF(AND(BDS!B6<>\"\",BDS!P6<>\"\"),CHAR(10)&\"Code： \"&CHAR(10)&BDS!H6,\"\")\n&IF(AND(BDS!B6<>\"\",BDS!U6<>0),CHAR(10)&\"Task ： \"&CHAR(10)&BDS!I6,\"\")","v":""},null,{"$f":"IF(BDS!B6=\"\",\"\",\"Master：\"&BDS!L6&\" / \"&BDS!M6&\" GB\"&\" (\"&BDS!N6&\")\"&CHAR(10)&\"Code：\"&BDS!Q6&\" / \"&BDS!R6&\" GB\"&\" (\"&BDS!S6&\")\")","v":""},null,null,null,{"$f":"IF(BDS!B17=\"✓\",BDS!B$12,\"\")&\nIF(BDS!C17=\"✓\",\",\"&BDS!C$12,\"\")&\nIF(BDS!D17=\"✓\",\",\"&BDS!D$12,\"\")&\nIF(BDS!E17=\"✓\",\",\"&BDS!E$12,\"\")&\nIF(BDS!J17=\"✓\",\",\"&BDS!J$12,\"\")&\nIF(BDS!K17=\"✓\",\",\"&BDS!K$12,\"\")&\nIF(BDS!L17=\"✓\",\",\"&BDS!L$12,\"\")&\nIF(BDS!M17=\"✓\",\",\"&BDS!M$12,\"\")&\nIF(BDS!N17=\"✓\",\",\"&BDS!N$12,\"\")&\nIF(BDS!P17=\"✓\",\",\"&BDS!P$12,\"\")&\nIF(BDS!Q17=\"✓\",\",\"&BDS!Q$12,\"\")&\nIF(BDS!R17=\"✓\",\",\"&BDS!R$12,\"\")&\nIF(BDS!S17=\"✓\",\",\"&BDS!S$12,\"\")&\nIF(BDS!T17=\"✓\",\",\"&BDS!T$12,\"\")&\nIF(BDS!B28=\"✓\",\",\"&BDS!B$23,\"\")&\nIF(BDS!C28=\"✓\",\",\"&BDS!C$23,\"\")&\nIF(BDS!D28=\"✓\",\",\"&BDS!D$23,\"\")&\nIF(BDS!E28=\"✓\",\",\"&BDS!E$23,\"\")&\nIF(BDS!J28=\"✓\",\",\"&BDS!J$23,\"\")","v":""},null,null,null,{"$f":"IF(H169=\"\",\"\",\"因服務資訊較多，\"&\"請登入FiXo查詢服務入口\")","v":""}]
[null,{"$f":"IF(BDS!B7=\"\",\"\",BDS!B7&CHAR(10)&\"(\"&BDS!D7&\")\")","v":""},"",{"$f":"BDS!E7","v":0},"",{"$f":"BDS!F7","v":0},null,{"$f":"IF(AND(BDS!B7<>\"\",BDS!K7<>\"\"),\"Master：\"&CHAR(10)&BDS!G7,\"\")\n&IF(AND(BDS!B7<>\"\",BDS!P7<>\"\"),CHAR(10)&\"Code： \"&CHAR(10)&BDS!H7,\"\")\n&IF(AND(BDS!B7<>\"\",BDS!U7<>0),CHAR(10)&\"Task ： \"&CHAR(10)&BDS!I7,\"\")","v":""},null,{"$f":"IF(BDS!B7=\"\",\"\",\"Master：\"&BDS!L7&\" / \"&BDS!M7&\" GB\"&\" (\"&BDS!N7&\")\"&CHAR(10)&\"Code：\"&BDS!Q7&\" / \"&BDS!R7&\" GB\"&\" (\"&BDS!S7&\")\")","v":""},null,null,null,{"$f":"IF(BDS!B18=\"✓\",BDS!B$12,\"\")&\nIF(BDS!C18=\"✓\",\",\"&BDS!C$12,\"\")&\nIF(BDS!D18=\"✓\",\",\"&BDS!D$12,\"\")&\nIF(BDS!E18=\"✓\",\",\"&BDS!E$12,\"\")&\nIF(BDS!J18=\"✓\",\",\"&BDS!J$12,\"\")&\nIF(BDS!K18=\"✓\",\",\"&BDS!K$12,\"\")&\nIF(BDS!L18=\"✓\",\",\"&BDS!L$12,\"\")&\nIF(BDS!M18=\"✓\",\",\"&BDS!M$12,\"\")&\nIF(BDS!N18=\"✓\",\",\"&BDS!N$12,\"\")&\nIF(BDS!P18=\"✓\",\",\"&BDS!P$12,\"\")&\nIF(BDS!Q18=\"✓\",\",\"&BDS!Q$12,\"\")&\nIF(BDS!R18=\"✓\",\",\"&BDS!R$12,\"\")&\nIF(BDS!S18=\"✓\",\",\"&BDS!S$12,\"\")&\nIF(BDS!T18=\"✓\",\",\"&BDS!T$12,\"\")&\nIF(BDS!B29=\"✓\",\",\"&BDS!B$23,\"\")&\nIF(BDS!C29=\"✓\",\",\"&BDS!C$23,\"\")&\nIF(BDS!D29=\"✓\",\",\"&BDS!D$23,\"\")&\nIF(BDS!E29=\"✓\",\",\"&BDS!E$23,\"\")&\nIF(BDS!J29=\"✓\",\",\"&BDS!J$23,\"\")","v":""},null,null,null,""]
[null,{"$f":"IF(BDS!B8=\"\",\"\",BDS!B8&CHAR(10)&\"(\"&BDS!D8&\")\")","v":""},"",{"$f":"BDS!E8","v":0},"",{"$f":"BDS!F8","v":0},null,{"$f":"IF(AND(BDS!B8<>\"\",BDS!K8<>\"\"),\"Master：\"&CHAR(10)&BDS!G8,\"\")\n&IF(AND(BDS!B8<>\"\",BDS!P8<>\"\"),CHAR(10)&\"Code： \"&CHAR(10)&BDS!H8,\"\")\n&IF(AND(BDS!B8<>\"\",BDS!U8<>0),CHAR(10)&\"Task ： \"&CHAR(10)&BDS!I8,\"\")","v":""},null,{"$f":"IF(BDS!B8=\"\",\"\",\"Master：\"&BDS!L8&\" / \"&BDS!M8&\" GB\"&\" (\"&BDS!N8&\")\"&CHAR(10)&\"Code：\"&BDS!Q8&\" / \"&BDS!R8&\" GB\"&\" (\"&BDS!S8&\")\")","v":""},null,null,null,{"$f":"IF(BDS!B19=\"✓\",BDS!B$12,\"\")&\nIF(BDS!C19=\"✓\",\",\"&BDS!C$12,\"\")&\nIF(BDS!D19=\"✓\",\",\"&BDS!D$12,\"\")&\nIF(BDS!E19=\"✓\",\",\"&BDS!E$12,\"\")&\nIF(BDS!J19=\"✓\",\",\"&BDS!J$12,\"\")&\nIF(BDS!K19=\"✓\",\",\"&BDS!K$12,\"\")&\nIF(BDS!L19=\"✓\",\",\"&BDS!L$12,\"\")&\nIF(BDS!M19=\"✓\",\",\"&BDS!M$12,\"\")&\nIF(BDS!N19=\"✓\",\",\"&BDS!N$12,\"\")&\nIF(BDS!P19=\"✓\",\",\"&BDS!P$12,\"\")&\nIF(BDS!Q19=\"✓\",\",\"&BDS!Q$12,\"\")&\nIF(BDS!R19=\"✓\",\",\"&BDS!R$12,\"\")&\nIF(BDS!S19=\"✓\",\",\"&BDS!S$12,\"\")&\nIF(BDS!T19=\"✓\",\",\"&BDS!T$12,\"\")&\nIF(BDS!B30=\"✓\",\",\"&BDS!B$23,\"\")&\nIF(BDS!C30=\"✓\",\",\"&BDS!C$23,\"\")&\nIF(BDS!D30=\"✓\",\",\"&BDS!D$23,\"\")&\nIF(BDS!E30=\"✓\",\",\"&BDS!E$23,\"\")&\nIF(BDS!J30=\"✓\",\",\"&BDS!J$23,\"\")","v":""},null,null,null,""]
[]
[null,"備註"]
[null,{"$f":"\"更多資訊可至 https://mtjadeks2.dct-cloud.com/FiXo/ 查看。\"","v":"更多資訊可至 https://mtjadeks2.dct-cloud.com/FiXo/ 查看。"}]
[null,{"$f":"IF(Update!A2<>\"\",TEXT(Update!A2,\"yyyymmdd\")&\" \"&Update!B2&\" \"&Update!C2,\"\")","v":""}]
[null,{"$f":"IF(Update!A3<>\"\",TEXT(Update!A3,\"yyyymmdd\")&\" \"&Update!B3&\" \"&Update!C3,\"\")","v":""}]
[null,{"$f":"IF(Update!A4<>\"\",TEXT(Update!A4,\"yyyymmdd\")&\" \"&Update!B4&\" \"&Update!C4,\"\")","v":""}]
[null,{"$f":"IF(Update!A5<>\"\",TEXT(Update!A5,\"yyyymmdd\")&\" \"&Update!B5&\" \"&Update!C5,\"\")","v":""}]
[null,{"$f":"IF(Update!A6<>\"\",TEXT(Update!A6,\"yyyymmdd\")&\" \"&Update!B6&\" \"&Update!C6,\"\")","v":""}]
[null,{"$f":"IF(Update!A7<>\"\",TEXT(Update!A7,\"yyyymmdd\")&\" \"&Update!B7&\" \"&Update!C7,\"\")","v":""}]
[null,{"$f":"IF(Update!A8<>\"\",TEXT(Update!A8,\"yyyymmdd\")&\" \"&Update!B8&\" \"&Update!C8,\"\")","v":""}]
[null,{"$f":"IF(Update!A9<>\"\",TEXT(Update!A9,\"yyyymmdd\")&\" \"&Update!B9&\" \"&Update!C9,\"\")","v":""}]
[null,{"$f":"IF(Update!A10<>\"\",TEXT(Update!A10,\"yyyymmdd\")&\" \"&Update!B10&\" \"&Update!C10,\"\")","v":""}]
[null,{"$f":"IF(Update!A11<>\"\",TEXT(Update!A11,\"yyyymmdd\")&\" \"&Update!B11&\" \"&Update!C11,\"\")","v":""}]
[null,{"$f":"IF(Update!A12<>\"\",TEXT(Update!A12,\"yyyymmdd\")&\" \"&Update!B12&\" \"&Update!C12,\"\")","v":""}]
[null,{"$f":"IF(Update!A13<>\"\",TEXT(Update!A13,\"yyyymmdd\")&\" \"&Update!B13&\" \"&Update!C13,\"\")","v":""}]
[null,{"$f":"IF(Update!A14<>\"\",TEXT(Update!A14,\"yyyymmdd\")&\" \"&Update!B14&\" \"&Update!C14,\"\")","v":""}]
[null,{"$f":"IF(Update!A15<>\"\",TEXT(Update!A15,\"yyyymmdd\")&\" \"&Update!B15&\" \"&Update!C15,\"\")","v":""}]
[null,{"$f":"IF(Update!A16<>\"\",TEXT(Update!A16,\"yyyymmdd\")&\" \"&Update!B16&\" \"&Update!C16,\"\")","v":""}]
[null,{"$f":"IF(Update!A17<>\"\",TEXT(Update!A17,\"yyyymmdd\")&\" \"&Update!B17&\" \"&Update!C17,\"\")","v":""}]
[null,{"$f":"IF(Update!A18<>\"\",TEXT(Update!A18,\"yyyymmdd\")&\" \"&Update!B18&\" \"&Update!C18,\"\")","v":""}]
[null,{"$f":"IF(Update!A19<>\"\",TEXT(Update!A19,\"yyyymmdd\")&\" \"&Update!B19&\" \"&Update!C19,\"\")","v":""}]
[null,{"$f":"IF(Update!A20<>\"\",TEXT(Update!A20,\"yyyymmdd\")&\" \"&Update!B20&\" \"&Update!C20,\"\")","v":""}]
[]
[null,null,null,null,null,null,null,null,null,null,null,null,null,null,null,null,null,null,null,null,null,null,null,null,null,null,"Copyright © 2021 Foxconn Inc. All rights reserved."]

{"sheet":"Reply","index":15,"n_rows":33,"n_cols":18,"rows_kept":33,"cut":false,"hidden":true,"merged":[[4,1,4,4],[2,1,2,4],[11,0,11,1],[12,0,12,1],[10,0,10,2],[13,0,13,1],[14,0,14,1],[15,0,15,1],[16,0,16,1],[17,0,17,1],[23,0,23,1],[18,0,18,1],[19,0,19,1],[20,0,20,1],[21,0,21,1],[22,0,22,1]]}
["資源申請其他資訊"]
[]
["專案名稱：",null,null,null,null,null,"ITEM","Default QUOTA  ","Project QUOTA","Admin Used","Free to User"]
[null,null,null,null,null,null,"CPU",50,50,{"$f":"\nIFERROR(MID(FiCo!F4,SEARCH(\"v\",FiCo!F4,1)+1,SEARCH(\"m\",FiCo!F4)-SEARCH(\"v\",FiCo!F4)-1),0)+\nIFERROR(MID(FiCo!F5,SEARCH(\"v\",FiCo!F5,1)+1,SEARCH(\"m\",FiCo!F5)-SEARCH(\"v\",FiCo!F5)-1),0)+\nIFERROR(MID(FiCo!F6,SEARCH(\"v\",FiCo!F6,1)+1,SEARCH(\"m\",FiCo!F6)-SEARCH(\"v\",FiCo!F6)-1),0)+\nIFERROR(MID(FiCo!F7,SEARCH(\"v\",FiCo!F7,1)+1,SEARCH(\"m\",FiCo!F7)-SEARCH(\"v\",FiCo!F7)-1),0)+\nIFERROR(MID(FiCo!F8,SEARCH(\"v\",FiCo!F8,1)+1,SEARCH(\"m\",FiCo!F8)-SEARCH(\"v\",FiCo!F8)-1),0)+\nIFERROR(MID(FiCo!F9,SEARCH(\"v\",FiCo!F9,1)+1,SEARCH(\"m\",FiCo!F9)-SEARCH(\"v\",FiCo!F9)-1),0)+\nIFERROR(MID(FiCo!F10,SEARCH(\"v\",FiCo!F10,1)+1,SEARCH(\"m\",FiCo!F10)-SEARCH(\"v\",FiCo!F10)-1),0)+\nIFERROR(MID(FiCo!F11,SEARCH(\"v\",FiCo!F11,1)+1,SEARCH(\"m\",FiCo!F11)-SEARCH(\"v\",FiCo!F11)-1),0)+\nIFERROR(MID(FiCo!F12,SEARCH(\"v\",FiCo!F12,1)+1,SEARCH(\"m\",FiCo!F12)-SEARCH(\"v\",FiCo!F12)-1),0)+\nIFERROR(MID(FiCo!F13,SEARCH(\"v\",FiCo!F13,1)+1,SEARCH(\"m\",FiCo!F13)-SEARCH(\"v\",FiCo!F13)-1),0)+\nIFERROR(MID(FiCo!F14,SEARCH(\"v\",FiCo!F14,1)+1,SEARCH(\"m\",FiCo!F14)-SEARCH(\"v\",FiCo!F14)-1),0)+\nIFERROR(MID(FiCo!F15,SEARCH(\"v\",FiCo!F15,1)+1,SEARCH(\"m\",FiCo!F15)-SEARCH(\"v\",FiCo!F15)-1),0)+\nIFERROR(MID(FiCo!F16,SEARCH(\"v\",FiCo!F16,1)+1,SEARCH(\"m\",FiCo!F16)-SEARCH(\"v\",FiCo!F16)-1),0)+\nIFERROR(MID(FiCo!F17,SEARCH(\"v\",FiCo!F17,1)+1,SEARCH(\"m\",FiCo!F17)-SEARCH(\"v\",FiCo!F17)-1),0)+\nIFERROR(MID(FiCo!F18,SEARCH(\"v\",FiCo!F18,1)+1,SEARCH(\"m\",FiCo!F18)-SEARCH(\"v\",FiCo!F18)-1),0)+\nIFERROR(MID(FiCo!F19,SEARCH(\"v\",FiCo!F19,1)+1,SEARCH(\"m\",FiCo!F19)-SEARCH(\"v\",FiCo!F19)-1),0)+\nIFERROR(MID(FiCo!F20,SEARCH(\"v\",FiCo!F20,1)+1,SEARCH(\"m\",FiCo!F20)-SEARCH(\"v\",FiCo!F20)-1),0)+\nIFERROR(MID(FiCo!F21,SEARCH(\"v\",FiCo!F21,1)+1,SEARCH(\"m\",FiCo!F21)-SEARCH(\"v\",FiCo!F21)-1),0)+\nIFERROR(MID(FiCo!F22,SEARCH(\"v\",FiCo!F22,1)+1,SEARCH(\"m\",FiCo!F22)-SEARCH(\"v\",FiCo!F22)-1),0)+\nIFERROR(MID(FiCo!F23,SEARCH(\"v\",FiCo!F23,1)+1,SEARCH(\"m\",FiCo!F23)-SEARCH(\"v\",FiCo!F23)-1),0)+\nIFERROR(MID(FiCo!F24,SEARCH(\"v\",FiCo!F24,1)+1,SEARCH(\"m\",FiCo!F24)-SEARCH(\"v\",FiCo!F24)-1),0)+\nIFERROR(MID(FiCo!F25,SEARCH(\"v\",FiCo!F25,1)+1,SEARCH(\"m\",FiCo!F25)-SEARCH(\"v\",FiCo!F25)-1),0)+\nIFERROR(MID(FiCo!F26,SEARCH(\"v\",FiCo!F26,1)+1,SEARCH(\"m\",FiCo!F26)-SEARCH(\"v\",FiCo!F26)-1),0)+\nIFERROR(MID(FiCo!F27,SEARCH(\"v\",FiCo!F27,1)+1,SEARCH(\"m\",FiCo!F27)-SEARCH(\"v\",FiCo!F27)-1),0)+\nIFERROR(MID(FiCo!F28,SEARCH(\"v\",FiCo!F28,1)+1,SEARCH(\"m\",FiCo!F28)-SEARCH(\"v\",FiCo!F28)-1),0)+\nIFERROR(MID(FiCo!F29,SEARCH(\"v\",FiCo!F29,1)+1,SEARCH(\"m\",FiCo!F29)-SEARCH(\"v\",FiCo!F29)-1),0)+\nIFERROR(MID(FiCo!F30,SEARCH(\"v\",FiCo!F30,1)+1,SEARCH(\"m\",FiCo!F30)-SEARCH(\"v\",FiCo!F30)-1),0)+\nIFERROR(MID(FiCo!F31,SEARCH(\"v\",FiCo!F31,1)+1,SEARCH(\"m\",FiCo!F31)-SEARCH(\"v\",FiCo!F31)-1),0)+\nIFERROR(MID(FiCo!F32,SEARCH(\"v\",FiCo!F32,1)+1,SEARCH(\"m\",FiCo!F32)-SEARCH(\"v\",FiCo!F32)-1),0)+\nIFERROR(MID(FiCo!F33,SEARCH(\"v\",FiCo!F33,1)+1,SEARCH(\"m\",FiCo!F33)-SEARCH(\"v\",FiCo!F33)-1),0)+\nIFERROR(MID(DBS!E4,SEARCH(\"v\",DBS!E4,1)+1,SEARCH(\"m\",DBS!E4)-SEARCH(\"v\",DBS!E4)-1),0)*DBS!Q4+\nIFERROR(MID(DBS!E5,SEARCH(\"v\",DBS!E5,1)+1,SEARCH(\"m\",DBS!E5)-SEARCH(\"v\",DBS!E5)-1),0)*DBS!Q5+\nIFERROR(MID(DBS!E6,SEARCH(\"v\",DBS!E6,1)+1,SEARCH(\"m\",DBS!E6)-SEARCH(\"v\",DBS!E6)-1),0)*DBS!Q6+\nIFERROR(MID(CIS!C4,SEARCH(\"v\",CIS!C4,1)+1,SEARCH(\"m\",CIS!C4)-SEARCH(\"v\",CIS!C4)-1),0)*CIS!D4+\nIFERROR(MID(CIS!C5,SEARCH(\"v\",CIS!C5,1)+1,SEARCH(\"m\",CIS!C5)-SEARCH(\"v\",CIS!C5)-1),0)*CIS!D5+\nIFERROR(MID(CIS!C6,SEARCH(\"v\",CIS!C6,1)+1,SEARCH(\"m\",CIS!C6)-SEARCH(\"v\",CIS!C6)-1),0)*CIS!D6+\nIFERROR(MID(CIS!C7,SEARCH(\"v\",CIS!C7,1)+1,SEARCH(\"m\",CIS!C7)-SEARCH(\"v\",CIS!C7)-1),0)*CIS!D7+\nIFERROR(MID(CIS!C8,SEARCH(\"v\",CIS!C8,1)+1,SEARCH(\"m\",CIS!C8)-SEARCH(\"v\",CIS!C8)-1),0)*CIS!D8+\nIFERROR(MID(CIS!H4,SEARCH(\"v\",CIS!H4,1)+1,SEARCH(\"m\",CIS!H4)-SEARCH(\"v\",CIS!H4)-1),0)*CIS!I4+\nIFERROR(MID(CIS!H5,SEARCH(\"v\",CIS!H5,1)+1,SEARCH(\"m\",CIS!H5)-SEARCH(\"v\",CIS!H5)-1),0)*CIS!I5+\nIFERROR(MID(CIS!H6,SEARCH(\"v\",CIS!H6,1)+1,SEARCH(\"m\",CIS!H6)-SEARCH(\"v\",CIS!H6)-1),0)*CIS!I6+\nIFERROR(MID(CIS!H7,SEARCH(\"v\",CIS!H7,1)+1,SEARCH(\"m\",CIS!H7)-SEARCH(\"v\",CIS!H7)-1),0)*CIS!I7+\nIFERROR(MID(CIS!H8,SEARCH(\"v\",CIS!H8,1)+1,SEARCH(\"m\",CIS!H8)-SEARCH(\"v\",CIS!H8)-1),0)*CIS!I8+\nIFERROR(MID(CIS!J14,SEARCH(\"v\",CIS!J14,1)+1,SEARCH(\"m\",CIS!J14)-SEARCH(\"v\",CIS!J14)-1),0)+\nIFERROR(MID(CIS!J15,SEARCH(\"v\",CIS!J15,1)+1,SEARCH(\"m\",CIS!J15)-SEARCH(\"v\",CIS!J15)-1),0)+\nIFERROR(MID(CIS!J16,SEARCH(\"v\",CIS!J16,1)+1,SEARCH(\"m\",CIS!J16)-SEARCH(\"v\",CIS!J16)-1),0)+\nIFERROR(MID(CIS!J17,SEARCH(\"v\",CIS!J17,1)+1,SEARCH(\"m\",CIS!J17)-SEARCH(\"v\",CIS!J17)-1),0)+\nIFERROR(MID(CIS!J18,SEARCH(\"v\",CIS!J18,1)+1,SEARCH(\"m\",CIS!J18)-SEARCH(\"v\",CIS!J18)-1),0)+\nIFERROR(MID(CIS!J19,SEARCH(\"v\",CIS!J19,1)+1,SEARCH(\"m\",CIS!J19)-SEARCH(\"v\",CIS!J19)-1),0)+\nIFERROR(MID(BDS!J4,SEARCH(\"v\",BDS!J4,1)+1,SEARCH(\"m\",BDS!J4)-SEARCH(\"v\",BDS!J4)-1),0)*BDS!K4+\nIFERROR(MID(BDS!O4,SEARCH(\"v\",BDS!O4,1)+1,SEARCH(\"m\",BDS!O4)-SEARCH(\"v\",BDS!O4)-1),0)*BDS!P4+\nIFERROR(MID(BDS!T4,SEARCH(\"v\",BDS!T4,1)+1,SEARCH(\"m\",BDS!T4)-SEARCH(\"v\",BDS!T4)-1),0)*BDS!U4+\nIFERROR(MID(BDS!J5,SEARCH(\"v\",BDS!J5,1)+1,SEARCH(\"m\",BDS!J5)-SEARCH(\"v\",BDS!J5)-1),0)*BDS!K5+\nIFERROR(MID(BDS!O5,SEARCH(\"v\",BDS!O5,1)+1,SEARCH(\"m\",BDS!O5)-SEARCH(\"v\",BDS!O5)-1),0)*BDS!P5+\nIFERROR(MID(BDS!T5,SEARCH(\"v\",BDS!T5,1)+1,SEARCH(\"m\",BDS!T5)-SEARCH(\"v\",BDS!T5)-1),0)*BDS!U5+\nIFERROR(MID(BDS!J6,SEARCH(\"v\",BDS!J6,1)+1,SEARCH(\"m\",BDS!J6)-SEARCH(\"v\",BDS!J6)-1),0)*BDS!K6+\nIFERROR(MID(BDS!O6,SEARCH(\"v\",BDS!O6,1)+1,SEARCH(\"m\",BDS!O6)-SEARCH(\"v\",BDS!O6)-1),0)*BDS!P6+\nIFERROR(MID(BDS!T6,SEARCH(\"v\",BDS!T6,1)+1,SEARCH(\"m\",BDS!T6)-SEARCH(\"v\",BDS!T6)-1),0)*BDS!U6+\nIFERROR(MID(BDS!J7,SEARCH(\"v\",BDS!J7,1)+1,SEARCH(\"m\",BDS!J7)-SEARCH(\"v\",BDS!J7)-1),0)*BDS!K7+\nIFERROR(MID(BDS!O7,SEARCH(\"v\",BDS!O7,1)+1,SEARCH(\"m\",BDS!O7)-SEARCH(\"v\",BDS!O7)-1),0)*BDS!P7+\nIFERROR(MID(BDS!T7,SEARCH(\"v\",BDS!T7,1)+1,SEARCH(\"m\",BDS!T7)-SEARCH(\"v\",BDS!T7)-1),0)*BDS!U7+\nIFERROR(MID(BDS!J8,SEARCH(\"v\",BDS!J8,1)+1,SEARCH(\"m\",BDS!J8)-SEARCH(\"v\",BDS!J8)-1),0)*BDS!K8+\nIFERROR(MID(BDS!O8,SEARCH(\"v\",BDS!O8,1)+1,SEARCH(\"m\",BDS!O8)-SEARCH(\"v\",BDS!O8)-1),0)*BDS!P8+\nIFERROR(MID(BDS!T8,SEARCH(\"v\",BDS!T8,1)+1,SEARCH(\"m\",BDS!T8)-SEARCH(\"v\",BDS!T8)-1),0)*BDS!U8+\nIFERROR(MID(MQS!E4,SEARCH(\"v\",MQS!E4,1)+1,SEARCH(\"m\",MQS!E4)-SEARCH(\"v\",MQS!E4)-1),0)*MQS!L4+\nIFERROR(MID(MQS!E5,SEARCH(\"v\",MQS!E5,1)+1,SEARCH(\"m\",MQS!E5)-SEARCH(\"v\",MQS!E5)-1),0)*MQS!L5+\nIFERROR(MID(MQS!E6,SEARCH(\"v\",MQS!E6,1)+1,SEARCH(\"m\",MQS!E6)-SEARCH(\"v\",MQS!E6)-1),0)*MQS!L6","v":0},{"$f":"I4-J4","v":50}]
["客戶帳號：",null,null,null,null,null,"RAM",102400,102400,{"$f":"SUM(\nIFERROR(RIGHT(FiCo!F4,LEN(FiCo!F4)-SEARCH(\"m\",FiCo!F4,1)),0)+\nIFERROR(RIGHT(FiCo!F5,LEN(FiCo!F5)-SEARCH(\"m\",FiCo!F5,1)),0)+\nIFERROR(RIGHT(FiCo!F6,LEN(FiCo!F6)-SEARCH(\"m\",FiCo!F6,1)),0)+\nIFERROR(RIGHT(FiCo!F7,LEN(FiCo!F7)-SEARCH(\"m\",FiCo!F7,1)),0)+\nIFERROR(RIGHT(FiCo!F8,LEN(FiCo!F8)-SEARCH(\"m\",FiCo!F8,1)),0)+\nIFERROR(RIGHT(FiCo!F9,LEN(FiCo!F9)-SEARCH(\"m\",FiCo!F9,1)),0)+\nIFERROR(RIGHT(FiCo!F10,LEN(FiCo!F10)-SEARCH(\"m\",FiCo!F10,1)),0)+\nIFERROR(RIGHT(FiCo!F11,LEN(FiCo!F11)-SEARCH(\"m\",FiCo!F11,1)),0)+\nIFERROR(RIGHT(FiCo!F12,LEN(FiCo!F12)-SEARCH(\"m\",FiCo!F12,1)),0)+\nIFERROR(RIGHT(FiCo!F13,LEN(FiCo!F13)-SEARCH(\"m\",FiCo!F13,1)),0)+\nIFERROR(RIGHT(FiCo!F14,LEN(FiCo!F14)-SEARCH(\"m\",FiCo!F14,1)),0)+\nIFERROR(RIGHT(FiCo!F15,LEN(FiCo!F15)-SEARCH(\"m\",FiCo!F15,1)),0)+\nIFERROR(RIGHT(FiCo!F16,LEN(FiCo!F16)-SEARCH(\"m\",FiCo!F16,1)),0)+\nIFERROR(RIGHT(FiCo!F17,LEN(FiCo!F17)-SEARCH(\"m\",FiCo!F17,1)),0)+\nIFERROR(RIGHT(FiCo!F18,LEN(FiCo!F18)-SEARCH(\"m\",FiCo!F18,1)),0)+\nIFERROR(RIGHT(FiCo!F19,LEN(FiCo!F19)-SEARCH(\"m\",FiCo!F19,1)),0)+\nIFERROR(RIGHT(FiCo!F20,LEN(FiCo!F20)-SEARCH(\"m\",FiCo!F20,1)),0)+\nIFERROR(RIGHT(FiCo!F21,LEN(FiCo!F21)-SEARCH(\"m\",FiCo!F21,1)),0)+\nIFERROR(RIGHT(FiCo!F22,LEN(FiCo!F22)-SEARCH(\"m\",FiCo!F22,1)),0)+\nIFERROR(RIGHT(FiCo!F23,LEN(FiCo!F23)-SEARCH(\"m\",FiCo!F23,1)),0)+\nIFERROR(RIGHT(FiCo!F24,LEN(FiCo!F24)-SEARCH(\"m\",FiCo!F24,1)),0)+\nIFERROR(RIGHT(FiCo!F25,LEN(FiCo!F25)-SEARCH(\"m\",FiCo!F25,1)),0)+\nIFERROR(RIGHT(FiCo!F26,LEN(FiCo!F26)-SEARCH(\"m\",FiCo!F26,1)),0)+\nIFERROR(RIGHT(FiCo!F27,LEN(FiCo!F27)-SEARCH(\"m\",FiCo!F27,1)),0)+\nIFERROR(RIGHT(FiCo!F28,LEN(FiCo!F28)-SEARCH(\"m\",FiCo!F28,1)),0)+\nIFERROR(RIGHT(FiCo!F29,LEN(FiCo!F29)-SEARCH(\"m\",FiCo!F29,1)),0)+\nIFERROR(RIGHT(FiCo!F30,LEN(FiCo!F30)-SEARCH(\"m\",FiCo!F30,1)),0)+\nIFERROR(RIGHT(FiCo!F31,LEN(FiCo!F31)-SEARCH(\"m\",FiCo!F31,1)),0)+\nIFERROR(RIGHT(FiCo!F32,LEN(FiCo!F32)-SEARCH(\"m\",FiCo!F32,1)),0)+\nIFERROR(RIGHT(FiCo!F33,LEN(FiCo!F33)-SEARCH(\"m\",FiCo!F33,1)),0)+\nIFERROR(RIGHT(DBS!E4,LEN(DBS!E4)-SEARCH(\"m\",DBS!E4,1)),0)*DBS!Q4+\nIFERROR(RIGHT(DBS!E5,LEN(DBS!E5)-SEARCH(\"m\",DBS!E5,1)),0)*DBS!Q5+\nIFERROR(RIGHT(DBS!E6,LEN(DBS!E6)-SEARCH(\"m\",DBS!E6,1)),0)*DBS!Q6+\nIFERROR(RIGHT(MQS!E4,LEN(MQS!E4)-SEARCH(\"m\",MQS!E4,1)),0)*MQS!L4+\nIFERROR(RIGHT(MQS!E5,LEN(MQS!E5)-SEARCH(\"m\",MQS!E5,1)),0)*MQS!L5+\nIFERROR(RIGHT(MQS!E6,LEN(MQS!E6)-SEARCH(\"m\",MQS!E6,1)),0)*MQS!L6+\nIFERROR(RIGHT(CIS!C4,LEN(CIS!C4)-SEARCH(\"m\",CIS!C4,1)),0)*CIS!D4+\nIFERROR(RIGHT(CIS!C5,LEN(CIS!C5)-SEARCH(\"m\",CIS!C5,1)),0)*CIS!D5+\nIFERROR(RIGHT(CIS!C6,LEN(CIS!C6)-SEARCH(\"m\",CIS!C6,1)),0)*CIS!D6+\nIFERROR(RIGHT(CIS!C7,LEN(CIS!C7)-SEARCH(\"m\",CIS!C7,1)),0)*CIS!D7+\nIFERROR(RIGHT(CIS!C8,LEN(CIS!C8)-SEARCH(\"m\",CIS!C8,1)),0)*CIS!D8+\nIFERROR(RIGHT(CIS!H4,LEN(CIS!H4)-SEARCH(\"m\",CIS!H4,1)),0)*CIS!I4+\nIFERROR(RIGHT(CIS!H5,LEN(CIS!H5)-SEARCH(\"m\",CIS!H5,1)),0)*CIS!I5+\nIFERROR(RIGHT(CIS!H6,LEN(CIS!H6)-SEARCH(\"m\",CIS!H6,1)),0)*CIS!I6+\nIFERROR(RIGHT(CIS!H7,LEN(CIS!H7)-SEARCH(\"m\",CIS!H7,1)),0)*CIS!I7+\nIFERROR(RIGHT(CIS!H8,LEN(CIS!H8)-SEARCH(\"m\",CIS!H8,1)),0)*CIS!I8+\nIFERROR(RIGHT(CIS!J14,LEN(CIS!J14)-SEARCH(\"m\",CIS!J14,1)),0)+\nIFERROR(RIGHT(CIS!J15,LEN(CIS!J15)-SEARCH(\"m\",CIS!J15,1)),0)+\nIFERROR(RIGHT(CIS!J16,LEN(CIS!J16)-SEARCH(\"m\",CIS!J16,1)),0)+\nIFERROR(RIGHT(CIS!J17,LEN(CIS!J17)-SEARCH(\"m\",CIS!J17,1)),0)+\nIFERROR(RIGHT(CIS!J18,LEN(CIS!J18)-SEARCH(\"m\",CIS!J18,1)),0)+\nIFERROR(RIGHT(CIS!J19,LEN(CIS!J19)-SEARCH(\"m\",CIS!J19,1)),0)+\nIFERROR(RIGHT(BDS!J4,LEN(BDS!J4)-SEARCH(\"m\",BDS!J4,1)),0)*BDS!K4+IFERROR(RIGHT(BDS!O4,LEN(BDS!O4)-SEARCH(\"m\",BDS!O4,1)),0)*BDS!P4+IFERROR(RIGHT(BDS!T4,LEN(BDS!T4)-SEARCH(\"m\",BDS!T4,1)),0)*BDS!U4+\nIFERROR(RIGHT(BDS!J5,LEN(BDS!J5)-SEARCH(\"m\",BDS!J5,1)),0)*BDS!K5+IFERROR(RIGHT(BDS!O5,LEN(BDS!O5)-SEARCH(\"m\",BDS!O5,1)),0)*BDS!P5+IFERROR(RIGHT(BDS!T5,LEN(BDS!T5)-SEARCH(\"m\",BDS!T5,1)),0)*BDS!U5+\nIFERROR(RIGHT(BDS!J6,LEN(BDS!J6)-SEARCH(\"m\",BDS!J6,1)),0)*BDS!K6+IFERROR(RIGHT(BDS!O6,LEN(BDS!O6)-SEARCH(\"m\",BDS!O6,1)),0)*BDS!P6+IFERROR(RIGHT(BDS!T6,LEN(BDS!T6)-SEARCH(\"m\",BDS!T6,1)),0)*BDS!U6+\nIFERROR(RIGHT(BDS!J7,LEN(BDS!J7)-SEARCH(\"m\",BDS!J7,1)),0)*BDS!K7+IFERROR(RIGHT(BDS!O7,LEN(BDS!O7)-SEARCH(\"m\",BDS!O7,1)),0)*BDS!P7+IFERROR(RIGHT(BDS!T7,LEN(BDS!T7)-SEARCH(\"m\",BDS!T7,1)),0)*BDS!U7+\nIFERROR(RIGHT(BDS!J8,LEN(BDS!J8)-SEARCH(\"m\",BDS!J8,1)),0)*BDS!K8+IFERROR(RIGHT(BDS!O8,LEN(BDS!O8)-SEARCH(\"m\",BDS!O8,1)),0)*BDS!P8+IFERROR(RIGHT(BDS!T8,LEN(BDS!T8)-SEARCH(\"m\",BDS!T8,1)),0)*BDS!U8)*1024","v":0},{"$f":"I5-J5","v":102400}]
[null,null,null,null,null,null,"G",{"$f":"H5/1024","v":100},{"$f":"I5/1024","v":100},0,100]
["負責業務：",null,null,null,null,null,"開通服務狀態："]
[null,null,null,null,null,null,"FiBo",{"$f":"IF(FiBo!B2=\"申請(Apply)\",\"已開通\",\"未開通\")","v":"未開通"}]
[null,null,null,null,null,null,"FiCo",{"$f":"\nIFERROR(MID(FiCo!F4,SEARCH(\"v\",FiCo!F4,1)+1,SEARCH(\"m\",FiCo!F4)-SEARCH(\"v\",FiCo!F4)-1),0)+\nIFERROR(MID(FiCo!F5,SEARCH(\"v\",FiCo!F5,1)+1,SEARCH(\"m\",FiCo!F5)-SEARCH(\"v\",FiCo!F5)-1),0)+\nIFERROR(MID(FiCo!F6,SEARCH(\"v\",FiCo!F6,1)+1,SEARCH(\"m\",FiCo!F6)-SEARCH(\"v\",FiCo!F6)-1),0)+\nIFERROR(MID(FiCo!F7,SEARCH(\"v\",FiCo!F7,1)+1,SEARCH(\"m\",FiCo!F7)-SEARCH(\"v\",FiCo!F7)-1),0)+\nIFERROR(MID(FiCo!F8,SEARCH(\"v\",FiCo!F8,1)+1,SEARCH(\"m\",FiCo!F8)-SEARCH(\"v\",FiCo!F8)-1),0)+\nIFERROR(MID(FiCo!F9,SEARCH(\"v\",FiCo!F9,1)+1,SEARCH(\"m\",FiCo!F9)-SEARCH(\"v\",FiCo!F9)-1),0)+\nIFERROR(MID(FiCo!F10,SEARCH(\"v\",FiCo!F10,1)+1,SEARCH(\"m\",FiCo!F10)-SEARCH(\"v\",FiCo!F10)-1),0)+\nIFERROR(MID(FiCo!F11,SEARCH(\"v\",FiCo!F11,1)+1,SEARCH(\"m\",FiCo!F11)-SEARCH(\"v\",FiCo!F11)-1),0)+\nIFERROR(MID(FiCo!F12,SEARCH(\"v\",FiCo!F12,1)+1,SEARCH(\"m\",FiCo!F12)-SEARCH(\"v\",FiCo!F12)-1),0)+\nIFERROR(MID(FiCo!F13,SEARCH(\"v\",FiCo!F13,1)+1,SEARCH(\"m\",FiCo!F13)-SEARCH(\"v\",FiCo!F13)-1),0)+\nIFERROR(MID(FiCo!F14,SEARCH(\"v\",FiCo!F14,1)+1,SEARCH(\"m\",FiCo!F14)-SEARCH(\"v\",FiCo!F14)-1),0)+\nIFERROR(MID(FiCo!F15,SEARCH(\"v\",FiCo!F15,1)+1,SEARCH(\"m\",FiCo!F15)-SEARCH(\"v\",FiCo!F15)-1),0)+\nIFERROR(MID(FiCo!F16,SEARCH(\"v\",FiCo!F16,1)+1,SEARCH(\"m\",FiCo!F16)-SEARCH(\"v\",FiCo!F16)-1),0)+\nIFERROR(MID(FiCo!F17,SEARCH(\"v\",FiCo!F17,1)+1,SEARCH(\"m\",FiCo!F17)-SEARCH(\"v\",FiCo!F17)-1),0)+\nIFERROR(MID(FiCo!F18,SEARCH(\"v\",FiCo!F18,1)+1,SEARCH(\"m\",FiCo!F18)-SEARCH(\"v\",FiCo!F18)-1),0)+\nIFERROR(MID(FiCo!F19,SEARCH(\"v\",FiCo!F19,1)+1,SEARCH(\"m\",FiCo!F19)-SEARCH(\"v\",FiCo!F19)-1),0)+\nIFERROR(MID(FiCo!F20,SEARCH(\"v\",FiCo!F20,1)+1,SEARCH(\"m\",FiCo!F20)-SEARCH(\"v\",FiCo!F20)-1),0)+\nIFERROR(MID(FiCo!F21,SEARCH(\"v\",FiCo!F21,1)+1,SEARCH(\"m\",FiCo!F21)-SEARCH(\"v\",FiCo!F21)-1),0)+\nIFERROR(MID(FiCo!F22,SEARCH(\"v\",FiCo!F22,1)+1,SEARCH(\"m\",FiCo!F22)-SEARCH(\"v\",FiCo!F22)-1),0)+\nIFERROR(MID(FiCo!F23,SEARCH(\"v\",FiCo!F23,1)+1,SEARCH(\"m\",FiCo!F23)-SEARCH(\"v\",FiCo!F23)-1),0)+\nIFERROR(MID(FiCo!F24,SEARCH(\"v\",FiCo!F24,1)+1,SEARCH(\"m\",FiCo!F24)-SEARCH(\"v\",FiCo!F24)-1),0)+\nIFERROR(MID(FiCo!F25,SEARCH(\"v\",FiCo!F25,1)+1,SEARCH(\"m\",FiCo!F25)-SEARCH(\"v\",FiCo!F25)-1),0)+\nIFERROR(MID(FiCo!F26,SEARCH(\"v\",FiCo!F26,1)+1,SEARCH(\"m\",FiCo!F26)-SEARCH(\"v\",FiCo!F26)-1),0)+\nIFERROR(MID(FiCo!F27,SEARCH(\"v\",FiCo!F27,1)+1,SEARCH(\"m\",FiCo!F27)-SEARCH(\"v\",FiCo!F27)-1),0)+\nIFERROR(MID(FiCo!F28,SEARCH(\"v\",FiCo!F28,1)+1,SEARCH(\"m\",FiCo!F28)-SEARCH(\"v\",FiCo!F28)-1),0)+\nIFERROR(MID(FiCo!F29,SEARCH(\"v\",FiCo!F29,1)+1,SEARCH(\"m\",FiCo!F29)-SEARCH(\"v\",FiCo!F29)-1),0)+\nIFERROR(MID(FiCo!F30,SEARCH(\"v\",FiCo!F30,1)+1,SEARCH(\"m\",FiCo!F30)-SEARCH(\"v\",FiCo!F30)-1),0)+\nIFERROR(MID(FiCo!F31,SEARCH(\"v\",FiCo!F31,1)+1,SEARCH(\"m\",FiCo!F31)-SEARCH(\"v\",FiCo!F31)-1),0)+\nIFERROR(MID(FiCo!F32,SEARCH(\"v\",FiCo!F32,1)+1,SEARCH(\"m\",FiCo!F32)-SEARCH(\"v\",FiCo!F32)-1),0)+\nIFERROR(MID(FiCo!F33,SEARCH(\"v\",FiCo!F33,1)+1,SEARCH(\"m\",FiCo!F33)-SEARCH(\"v\",FiCo!F33)-1),0)&\" CPU\"","v":"0 CPU"}]
[null,null,null,null,null,null,"LBS",{"$f":"COUNTA(LBS!B5:B9)&\"組\"","v":"0組"}]
["KeyPair & Password",null,null,null,null,null,"DBS",{"$f":"\nIFERROR(MID(DBS!E4,SEARCH(\"v\",DBS!E4,1)+1,SEARCH(\"m\",DBS!E4)-SEARCH(\"v\",DBS!E4)-1),0)*DBS!Q4+\nIFERROR(MID(DBS!E5,SEARCH(\"v\",DBS!E5,1)+1,SEARCH(\"m\",DBS!E5)-SEARCH(\"v\",DBS!E5)-1),0)*DBS!Q5+\nIFERROR(MID(DBS!E6,SEARCH(\"v\",DBS!E6,1)+1,SEARCH(\"m\",DBS!E6)-SEARCH(\"v\",DBS!E6)-1),0)*DBS!Q6\n&\" CPU\"","v":"0 CPU"}]
["Windows",null,"Linux",null,null,null,"MQS",{"$f":"\nIFERROR(MID(MQS!E4,SEARCH(\"v\",MQS!E4,1)+1,SEARCH(\"m\",MQS!E4)-SEARCH(\"v\",MQS!E4)-1),0)*MQS!L4+\nIFERROR(MID(MQS!E5,SEARCH(\"v\",MQS!E5,1)+1,SEARCH(\"m\",MQS!E5)-SEARCH(\"v\",MQS!E5)-1),0)*MQS!L5+\nIFERROR(MID(MQS!E6,SEARCH(\"v\",MQS!E6,1)+1,SEARCH(\"m\",MQS!E6)-SEARCH(\"v\",MQS!E6)-1),0)*MQS!L6&\" CPU\"","v":"0 CPU"}]
[]
[]
[]
[]
[]
[]
[]
[]
[]
[]
[]
[]
[]
[]
[]
[]
[]
[]
[]
[]
[null,null,null,null,null,null,null,null,null,null,null,null,null,null,null,null,null,{"$f":"IF(SUM(COUNTBLANK(FiBo!B3:B6))=0,\"已開通\",\"未開通\")","v":"未開通"}]

{"sheet":"Update","index":16,"n_rows":21,"n_cols":3,"rows_kept":21,"cut":false,"hidden":true,"merged":[[11,2,11,8],[12,2,12,8],[13,2,13,8],[14,2,14,8],[10,2,10,8],[0,2,0,8],[1,2,1,8],[2,2,2,8],[3,2,3,8],[4,2,4,8],[5,2,5,8],[6,2,6,8],[7,2,7,8],[8,2,8,8],[9,2,9,8],[15,2,15,8],[22,2,22,8],[23,2,23,8],[24,2,24,8],[25,2,25,8],[17,2,17,8],[18,2,18,8],[19,2,19,8],[16,2,16,8],[36,2,36,8],[37,2,37,8],[38,2,38,8],[39,2,39,8],[20,1,20,8],[31,2,31,8],[32,2,32,8],[33,2,33,8],[34,2,34,8],[35,2,35,8],[26,2,26,8],[27,2,27,8],[28,2,28,8],[29,2,29,8],[30,2,30,8],[21,2,21,8],[40,2,40,8],[41,2,41,8],[42,2,42,8],[43,2,43,8],[44,2,44,8],[45,2,45,8],[46,2,46,8],[47,2,47,8],[48,2,48,8],[49,2,49,8],[55,2,55,8],[56,2,56,8],[57,2,57,8],[58,2,58,8],[50,2,50,8],[51,2,51,8],[52,2,52,8],[53,2,53,8],[54,2,54,8]]}
["日期","項目","說明"]
[]
[]
[]
[]
[]
[]
[]
[]
[]
[]
[]
[]
[]
[]
[]
[]
[]
[]
[]
["Old","超過20行可將較舊的移到下方"]

{"sheet":"Flavor","index":17,"n_rows":10,"n_cols":1,"rows_kept":10,"cut":false,"hidden":true,"merged":[]}
["CIS"]
[{"$f":"$A$1&\".\"&\"v4m8\"","v":"CIS.v4m8"}]
[{"$f":"$A$1&\".\"&\"v4m16\"","v":"CIS.v4m16"}]
[{"$f":"$A$1&\".\"&\"v8m8\"","v":"CIS.v8m8"}]
[{"$f":"$A$1&\".\"&\"v8m16\"","v":"CIS.v8m16"}]
[{"$f":"$A$1&\".\"&\"v8m32\"","v":"CIS.v8m32"}]
[{"$f":"$A$1&\".\"&\"v8m64\"","v":"CIS.v8m64"}]
[{"$f":"$A$1&\".\"&\"v16m16\"","v":"CIS.v16m16"}]
[{"$f":"$A$1&\".\"&\"v16m32\"","v":"CIS.v16m32"}]
[{"$f":"$A$1&\".\"&\"v16m64\"","v":"CIS.v16m64"}]